Workbook

Sheet cop
A18: RETRIBUZIONE PENSIONISTICA
A20: COMPARTO SCUOLA
A21: DAL 1 maggio 1990 AL 31 dicembre 2019
E22: Versione del 1° gennaio 2020

Sheet CCNL
A1: Elenco CCNL del Comparto scuola utilizzati per la compilazione delle tabelle:
A4: 1) | B4: Decreto del Presidente della Repubblica 23 agosto 1988, n. 399 | H4: 4) | I4: CCNL DEL COMPARTO DEL PERSONALE DELLA SCUOLA 2002-2005
A5: 1.a | B5: Norme risultanti dalla disciplina prevista dall'accordo per il triennio 1988-90 | H5: 4.a | I5: PARTE ECONOMICA, BIENNIO 2002-2003
B6: del 9 giugno 1988 relativo al personale del comparto scuola | I6: Ambito: Comparto Comparto: Scuola
B7: Estremi G.U.: | I7: Estremi G.U.:
B8: S.O. Gazzetta Ufficiale n. 213 del 10 settembre 1988 - Serie Generale | I8: Gazzetta Ufficiale n. 188 del 14 agosto 2003 - Serie Generale
B9: Data sottoscrizione: 9 giugno 1988 | G9: Data effetti giuridici: 1 gennaio 1988 | I9: Data di sottoscrizione: 24 luglio 2003 - Data effetti giuridici: 01/01/2002
B10: Data effetti economici: 1 luglio 1988 | I10: Data effetti economici: | K10: 37257 | L10: Decorrenze: 0101/2002 - 01/01/2003
B11: Decorrenze aumenti contrattuali previsti: | H11: 4.b | I11: PARTE ECONOMICA, BIENNIO 2004-2005
B12: 32325 | C12: 32509 | D12: 32994 | I12: Ambito: Comparto Comparto: Scuola
A13: 2) | B13: CCNL DEL COMPARTO DEL PERSONALE DELLA SCUOLA 1994-1997 | I13: Estremi G.U.:
A14: 2.a | B14: PARTE ECONOMICA, BIENNIO 1994-1995 | I14: Gazzetta Ufficiale n. 195 del 20 dicembre 2005 - Serie Generale
B15: Estremi G.U.: | I15: Data di sottoscrizione: 07/12/2005 - Data effetti giuridici: 01/01/2004
B16: Gazzetta Ufficiale n. 207 del 5 settembre 1995 - Suppl.to ordinario n. 109 | I16: Data effetti economici: | K16: 37987 | L16: Decorrenze: 0101/2004 - 01/02/2005
B17: Data sottoscrizione: 4 agosto 1995 | G17: Data effetti giuridici: 4 agosto 1995 | H17: 5) | I17: CCNL DEL COMPARTO DEL PERSONALE DELLA SCUOLA 2006-2009
B18: Data effetti economici: 3 settembre 1995 | H18: 5.a | I18: PARTE ECONOMICA, BIENNIO 2006-2007
B19: Decorrenze aumenti contrattuali previsti: | I19: Ambito: Comparto Comparto: Scuola
B20: 34700 | C20: 35034 | D20: 35065 | E20: 35370 | I20: Estremi G.U.:
A21: 2.b | B21: PARTE ECONOMICA, BIENNIO 1996-1997 | I21: Gazzetta Ufficiale n. 292 del 17 dicembre 2007 - (Suppl. ordinario n. 274)
B22: Ambito: Comparto Comparto: Scuola | I22: Data di sottoscrizione: 29 novembre 2007 | O22: Data effetti giuridici:
B23: Estremi G.U.: | I23: Data effetti economici: | K23: 38718
B24: Gazzetta Ufficiale n. 190 del 14 agosto 1996 - Suppl.to ordinario n. 137 | I24: Sequenza contrattuale sottoscritta: 08/04/2008 Estremi G.U.: n. 94 del 21 aprile 2008.
B25: Data sottoscrizione: 1 agosto 1996 | G25: Data effetti giuridici: 1 gennaio 1996 | I25: Decorrenze aumenti contrattuali previsti: 01/01/2006 - 01/01/2007 - 01/02/2007 -(modificato con DL 159/2007) - 31/12/2007 Sequenza contrattuale del 8/4/2007
B26: Data effetti economici: 1 gennaio 1996
B27: Decorrenze aumenti contrattuali previsti: | H27: 5.a | I27: PARTE ECONOMICA, BIENNIO 2008-2009
B28: 35065 | C28: 35370 | D28: 35612 | I28: Ambito: Comparto Comparto: Scuola
A29: 3) | B29: CCNL DEL COMPARTO DEL PERSONALE DELLA SCUOLA 1998-2001 | I29: Estremi Pubblicazione Gazzetta Ufficiale:
A30: 3.a | B30: PARTE ECONOMICA, BIENNIO 1998-1999 | I30: Gazzetta Ufficiale – Serie Generale n. 28 del 4 febbraio 2009
B31: Ambito: Comparto Comparto: Scuola | I31: Data di sottoscrizione: 23 gennaio 2009 | M31: Data effetti economici: | O31: 39448
B32: Estremi G.U.: | I32: Decorrenze aumenti contrattuali previsti: 01/04/2008 - 01/07/2008 - 01/01/2009
B33: Gazzetta Ufficiale n. 133 del 9 giugno 1999 - Suppl.to ordinario n.109 | H33: 6) | I33: L'istituto dell'indennità di vacanza contrattuale viene applicato per il 2010 (con riferimento al periodo contrattuale 2010-2012):
B34: Data sottoscrizione:26 maggio 1999 | G34: Data effetti giuridici:26 maggio 1999
B35: Data effetti economici: 1 gennaio 1998 | I35: Decorrenze vacanze contrattuali previste:
B36: Decorrenze aumenti contrattuali previsti: | I36: 40269 | J36: 40360
B37: 36100 | C37: 36312 | H37: 7) | I37: CCNL DEL COMPARTO DEL PERSONALE DELLA SCUOLA 2016-2018
A38: 3.b | B38: PARTE ECONOMICA, BIENNIO 2000-2001 | I38: Estremi G.U.: Gazzetta Ufficiale Serie Generale n. 141 del 20/06/2018 Suppl. Ord. n. 33.
B39: Ambito: Comparto Comparto: Scuola | I39: Data di sottoscrizione: 19 aprile 2018 - Data effetti giuridici: 01/01/2016
B40: Estremi G.U.: | I40: Data effetti economici: | K40: 42370
B41: Gazzetta Ufficiale n. 70 del 24 marzo 2001 - Serie Generale | I41: Decorrenze aumenti contrattuali previsti: 01/01/2016 - 01/01/2017 - 01/03/2018
B42: Data di sottoscrizione: 15 marzo 2001 | G42: Data effetti giuridici: | H42: 8) | I42: IVC per l’anno 2019 in applicazione dell’art. 1, c. 440 della legge n. 145/2018
B43: Data effetti economici: | I43: msg NoiPa 031 del 26/03/2019
B44: Decorrenze aumenti contrattuali previsti: | I44: Decorrenze vacanze contrattuali previste:
B45: 36708 | C45: 36892 | I45: 43556 | J45: 43647

Sheet Avvertenze
A2: Nelle allegate tabelle, sono presenti:
A3: 1. gli importi base previsti dai CCNL del personale della scuola, indicati nella pagina precedente, a partire dal 1 maggio 1990 (DPR 399/88)
A4: 2. gli importi dell'Indennità integrativa speciale sono quelli riportati nel CCNL del personale della scuola 2002-2005, pubblicato sulla G.U. n. 188 del 14 agosto 2003.
A5: 3. Sono escluse tutte le retribuzioni legate alla carriera dei singoli dipendenti (Retribuzione Individuale di Anzianità, Assegno ad personam, retribuzione accessoria, ecc.)
A6: in particolare, non è indicato l'importo dell'eventuale assegno ad personam, determinato in base alla nuova classificazione delle posizioni stipendiali previste dal CCNL
A7: del personale della scuola per il quadriennio 1994-1997, pubblicato sulla Gazzetta Ufficiale n. 207 del 5 settembre 1995 - Supplemento ordinario n. 109
A9: Le fasce retributive, per le decorrenze dal 1° maggio 1990 al 31 dicembre 1995, sono quelle previste dal DPR 23 agosto 1988, n. 399:
A10: 1 | B10: Ausiliari ed equiparati: dalla Fascia I alla fascia XXI
A11: 2 | B11: Guardarobieri, aiutanti cuochi ed equiparati: dalla Fascia I alla fascia XXI
A12: 3 | B12: Collaboratore tecnico, cuoco, infermiere ed equiparati: dalla Fascia I alla fascia XXI
A13: 4 | B13: Collaboratore amministrativo ed equiparati: dalla Fascia I alla fascia XXI
A14: 5 | B14: Coordinatore amministrativo ed equiparati: dalla Fascia I alla fascia XXI
A15: 6 | B15: Docenti scuola materna ed elementare ed equiparati: dalla Fascia I alla fascia XXI
A16: 7 | B16: Docenti diplomati istituti di scuola II grado ed equiparati: dalla Fascia I alla fascia XXI
A17: 8 | B17: Docenti di scuola media ed equiparati: dalla Fascia I alla fascia XXI
A18: 9 | B18: Docenti laureati istituti di scuola II grado ed equiparati: dalla Fascia I alla fascia XXII
A19: 10 | B19: Direttivi, capi d'istituti ed equiparati: dalla Fascia I alla fascia XXI
A21: Le fasce retributive, per le decorrenze dal 1° gennaio 1996, sono quelle previste CCNL del comparto del personale della scuola 1994-1997:
A22: 1 | B22: Collaboratori scolastici ed equiparati: dalla posizione stipendiale 0-2, 3-8, 9-14, 15-20, 21-27, 28-34 e 35
A23: 2 | B23: Collaboratore scolastico (dal 1° gen. 2002 Collaboratore scolastico istruttore): dalla posizione stipendiale 0-2, 3-8, 9-14, 15-20, 21-27, 28-34 e 35
A24: 3 | B24: Assistente tecnico, cuoco, infermiere ed equiparati (dal 1° gen. 2002 anche per Guardarobiere): dalla posizione stipendiale 0-2, 3-8, 9-14, 15-20, 21-27, 28-34 e 35
A25: 4 | B25: Assistente amministrativo ed equiparati : dalla posizione stipendiale 0-2, 3-8, 9-14, 15-20, 21-27, 28-34 e 35
A26: 5 | B26: Responsabile amministrativo (dal 1° gen. 2002 Coordinatore amministrativo e tecnico): dalla posizione stipendiale 0-2, 3-8, 9-14, 15-20, 21-27, 28-34 e 35
A27: 6 | B27: Direttore dei servizi generali e amministrativi: dalla posizione stipendiale 0-2, 3-8, 9-14, 15-20, 21-27, 28-34 e 35
A28: 7 | B28: Docenti scuola materna ed elementare ed equiparati: dalla posizione stipendiale 0-2, 3-8, 9-14, 15-20, 21-27, 28-34 e 35
A29: 8 | B29: Docenti diplomati istituti di scuola II grado ed equiparati: dalla posizione stipendiale 0-2, 3-8, 9-14, 15-20, 21-27, 28-34 e 35
A30: 9 | B30: Docenti di scuola media ed equiparati: dalla posizione stipendiale 0-2, 3-8, 9-14, 15-20, 21-27, 28-34 e 35
A31: 10 | B31: Docenti laureati istituti di scuola II grado ed equiparati: dalla posizione stipendiale 0-2, 3-8, 9-14, 15-20, 21-27, 28-34 e 35
A32: 11 | B32: Direttivi, capi d'istituti ed equiparati: dalla posizione stipendiale 0-2, 3-8, 9-14, 15-20, 21-27, 28-34 e 35

Sheet Dichiarazione dei servizi DSGA
A1: N. | B1: A. S. | C1: DAL | D1: AL | E1: PRESSO | F1: INCARICO ANNUALE | G1: INCARICHI TEMPORENEI
G2: MESI | H2: GIORNI
A3: 1) | B3: 2001/02 | C3: 37135 | D3: 37499 | E3: scuola dove si è prestato servizio | F3: 1 | G3: 0 | H3: 0
A4: 2) | B4: 2002/03 | C4: 37500 | D4: 37864 | E4: scuola dove si è prestato servizio | F4: 1 | G4: 0 | H4: 0
A5: 3) | B5: 2003/04 | C5: 37865 | D5: 38230 | E5: scuola dove si è prestato servizio | F5: 1 | G5: 0 | H5: 0
A6: 4) | B6: 2004/05 | C6: 38231 | D6: 38291 | E6: scuola dove si è prestato servizio | F6: 0 | G6: 2 | H6: 0
A7: 5) | B7: 2005/06 | C7: 38596 | D7: 38960 | E7: scuola dove si è prestato servizio | F7: 1 | G7: 0 | H7: 0
A8: 6) | B8: 2006/07 | C8: 38961 | D8: 39325 | E8: scuola dove si è prestato servizio | F8: 1 | G8: 0 | H8: 0
A9: 7) | B9: 2007/08 | C9: 39326 | D9: 39691 | E9: scuola dove si è prestato servizio | F9: 1 | G9: 0 | H9: 0
A10: 8) | B10: 2008/09 | C10: 39692 | D10: 40069 | E10: scuola dove si è prestato servizio | F10: 0 | G10: 3 | H10: 14
A11: 9) | B11: 2009/10 | C11: 40057 | D11: 40421 | E11: scuola dove si è prestato servizio | F11: 1 | G11: 0 | H11: 0
A12: 10) | B12: 2010/11 | C12: 40422 | D12: 40786 | E12: scuola dove si è prestato servizio | F12: 1 | G12: 0 | H12: 0
A13: 11) | B13: 2011/12 | C13: 40787 | D13: 41152 | E13: scuola dove si è prestato servizio | F13: 1 | G13: 0 | H13: 0
A14: 12) | B14: 2012/13 | C14: 41153 | D14: 41517 | E14: scuola dove si è prestato servizio | F14: 1 | G14: 0 | H14: 0
... A23: 21) | B23: 2021/22 | C23: 44440 | D23: 44804 | E23: scuola dove si è prestato servizio | F23: 0 | G23: 0 | H23: 0
A25: Totale anzianità incarichi annuali (da usare per calcolare il differenziale nel foglio simulatore) | F25: =SUM(F3:F23) -> 18
A27: Totale anzianità incarichi suppelnza temporanea | G27: =SUM(G3:G23) -> 5 | H27: =SUM(H3:H23) -> 14
B28: Roma li, 00/00/2021 | E28: Cognome Nome

Sheet simulatore
G1: Nuova | L1: Differenza stipendiale tra anzianità in godimento di AA e anzianità maturata da DSGA | P1: Vai al foglio "Totale percepire" e inserire gli importi del differenziale per A.S.
E2: A.A. | G2: PassWeb | H2: DSGA | L2: =H3 -> TOTALE (comprensivo della 13^) | Q2: QUOTA MENSILE (in dodicesimi)
A3: Decorrenza | C3: Fasce retributive | E3: TOTALE (comprensivo della 13^) | G3: Imponibile quota A pensione | H3: TOTALE (comprensivo della 13^) | J3: Stessa fascia differenza tra AA e DSGA | L3: =E2 -> A.A. | M3: indennità percepita funzione superiore | N3: =H2 -> DSGA | O3: differenza | Q3: =E2 -> A.A. | R3: indennità percepita funzione superiore | S3: =H2 -> DSGA | T3: differenza
A4: Dal | B4: Al | G4: Imponibile contributivo | L4: 23784.13 | M4: 1277.51 | N4: 30646.17 | O4: =N4-M4-L4 -> 5584.53 | Q4: =L4/12 -> 1982.01 | R4: =M4/12 -> 106.46 | S4: =N4/12 -> 2553.85 | T4: =S4-R4-Q4 -> 465.38
A5: (a) | B5: (b) | C5: (c) | E5: (m) | H5: (m) | J5: (m) | L5: Vai al foglio "Dichiarazione dei servizi DSGA" e calcola l'anzianità
A6: 32994 | B6: 33177 | C6: Da | D6: 0 | E6: 11310.9 | G6: 11314.3 | H6: 0
C7: A | D7: 1 | E7: 21900956 | G7: 21907540 | H7: 0
A8: 32994 | B8: 33177 | C8: Da | D8: 2 | E8: 11579.45 | G8: 11606.81 | H8: 0
C9: A | D9: 3 | E9: 22420942 | G9: 22473918 | H9: 0
C10: Da | D10: 4 | E10: 11854.72 | G10: 11906.65 | H10: 0
C11: A | D11: 5 | E11: 22953939 | G11: 23054489 | H11: 0
C12: Da | D12: 6 | E12: 12244.14 | G12: 12330.81 | H12: 0
C13: A | D13: 7 | E13: 23707961 | G13: 23875777 | H13: 0
C14: Da | D14: 8 | E14: 12566.41 | G14: 12681.84 | H14: 0
C15: A | D15: 9 | E15: 24331963 | G15: 24555466 | H15: 0
C16: Da | D16: 10 | E16: 12875.24 | G16: 13018.24 | H16: 0
C17: A | D17: 11 | E17: 24929941 | G17: 25206828 | H17: 0
C18: Da | D18: 12 | E18: 13184.09 | G18: 13354.64 | H18: 0
C19: A | D19: 13 | E19: 25527958 | G19: 25858189 | H19: 0
C20: Da | D20: 14 | E20: 13492.93 | G20: 13691.04 | H20: 0
... C46: Da | D46: 40 | E46: 16111.37 | G46: 16543.12 | H46: 0
E47: 31195962 | G47: 32031947 | H47: 0
A48: 33178 | B48: 33358 | C48: Da | D48: 0 | E48: 11528.3 | G48: 11514.98 | H48: 0
C49: A | D49: 1 | E49: 22321901 | G49: 22296110 | H49: 0
A50: 33178 | B50: 33358 | C50: Da | D50: 2 | E50: 11796.85 | G50: 11807.49 | H50: 0
C51: A | D51: 3 | E51: 22841887 | G51: 22862489 | H51: 0
C52: Da | D52: 4 | E52: 12072.13 | G52: 12107.33 | H52: 0
C53: A | D53: 5 | E53: 23374903 | G53: 23443060 | H53: 0
C54: Da | D54: 6 | E54: 12461.54 | G54: 12531.49 | H54: 0
C55: A | D55: 7 | E55: 24128906 | G55: 24264348 | H55: 0
C56: Da | D56: 8 | E56: 12783.81 | G56: 12882.52 | H56: 0
C57: A | D57: 9 | E57: 24752908 | G57: 24944037 | H57: 0
C58: Da | D58: 10 | E58: 13092.65 | G58: 13218.92 | H58: 0
C59: A | D59: 11 | E59: 25350905 | G59: 25595398 | H59: 0
C60: Da | D60: 12 | E60: 13401.49 | G60: 13555.32 | H60: 0
C61: A | D61: 13 | E61: 25948903 | G61: 26246759 | H61: 0
C62: Da | D62: 14 | E62: 13710.33 | G62: 13891.72 | H62: 0
... C88: Da | D88: 40 | E88: 16328.77 | G88: 16743.8 | H88: 0
E89: 31616907 | G89: 32420518 | H89: 0
A90: 33359 | B90: 33542 | C90: Da | D90: 0 | E90: 11817.8 | G90: 11782.21 | H90: 0
C91: A | D91: 1 | E91: 22882452 | G91: 22813540 | H91: 0
A92: 33359 | B92: 33542 | C92: Da | D92: 2 | E92: 12086.35 | G92: 12074.72 | H92: 0
C93: A | D93: 3 | E93: 23402437 | G93: 23379918 | H93: 0
C94: Da | D94: 4 | E94: 12361.62 | G94: 12374.56 | H94: 0
C95: A | D95: 5 | E95: 23935434 | G95: 23960489 | H95: 0
C96: Da | D96: 6 | E96: 12751.04 | G96: 12798.72 | H96: 0
C97: A | D97: 7 | E97: 24689456 | G97: 24781778 | H97: 0
C98: Da | D98: 8 | E98: 13073.31 | G98: 13149.75 | H98: 0
C99: A | D99: 9 | E99: 25313458 | G99: 25461466 | H99: 0
C100: Da | D100: 10 | E100: 13382.15 | G100: 13486.15 | H100: 0
C101: A | D101: 11 | E101: 25911456 | G101: 26112828 | H101: 0
C102: Da | D102: 12 | E102: 13690.99 | G102: 13822.55 | H102: 0
C103: A | D103: 13 | E103: 26509453 | G103: 26764189 | H103: 0
C104: Da | D104: 14 | E104: 13999.83 | G104: 14158.95 | H104: 0
... C130: Da | D130: 40 | E130: 16618.27 | G130: 17011.03 | H130: 0
E131: 32177458 | G131: 32937947 | H131: 0
A132: 33543 | B132: 33969 | C132: Da | D132: 0 | E132: 12060.41 | G132: 12006.16 | H132: 0
C133: A | D133: 1 | E133: 23352210 | G133: 23247167 | H133: 0
A134: 33543 | B134: 33969 | C134: Da | D134: 2 | E134: 12328.96 | G134: 12298.67 | H134: 0
C135: A | D135: 3 | E135: 23872195 | G135: 23813546 | H135: 0
C136: Da | D136: 4 | E136: 12604.24 | G136: 12598.51 | H136: 0
C137: A | D137: 5 | E137: 24405212 | G137: 24394117 | H137: 0
C138: Da | D138: 6 | E138: 12993.65 | G138: 13022.67 | H138: 0
C139: A | D139: 7 | E139: 25159215 | G139: 25215405 | H139: 0
C140: Da | D140: 8 | E140: 13315.92 | G140: 13373.7 | H140: 0
C141: A | D141: 9 | E141: 25783216 | G141: 25895094 | H141: 0
C142: Da | D142: 10 | E142: 13624.76 | G142: 13710.1 | H142: 0
C143: A | D143: 11 | E143: 26381214 | G143: 26546455 | H143: 0
C144: Da | D144: 12 | E144: 13933.61 | G144: 14046.5 | H144: 0
C145: A | D145: 13 | E145: 26979231 | G145: 27197817 | H145: 0
C146: Da | D146: 14 | E146: 14242.44 | G146: 14382.9 | H146: 0
... C172: Da | D172: 40 | E172: 16860.88 | G172: 17234.98 | H172: 0
E173: 32647216 | G173: 33371575 | H173: 0
A174: 33970 | B174: 34424 | C174: Da | D174: 0 | E174: 12194.69 | G174: 12152.42 | H174: 0
C175: A | D175: 1 | E175: 23612212 | G175: 23530366 | H175: 0
A176: 33970 | B176: 34424 | C176: Da | D176: 2 | E176: 12463.24 | G176: 12444.93 | H176: 0
C177: A | D177: 3 | E177: 24132198 | G177: 24096745 | H177: 0
C178: Da | D178: 4 | E178: 12738.52 | G178: 12744.77 | H178: 0
C179: A | D179: 5 | E179: 24665214 | G179: 24677316 | H179: 0
C180: Da | D180: 6 | E180: 13127.93 | G180: 13168.94 | H180: 0
C181: A | D181: 7 | E181: 25419217 | G181: 25498623 | H181: 0
C182: Da | D182: 8 | E182: 13450.2 | G182: 13519.96 | H182: 0
C183: A | D183: 9 | E183: 26043219 | G183: 26178293 | H183: 0
C184: Da | D184: 10 | E184: 13759.04 | G184: 13856.36 | H184: 0
C185: A | D185: 11 | E185: 26641216 | G185: 26829654 | H185: 0
C186: Da | D186: 12 | E186: 14067.89 | G186: 14192.76 | H186: 0
C187: A | D187: 13 | E187: 27239233 | G187: 27481015 | H187: 0
C188: Da | D188: 14 | E188: 14376.72 | G188: 14529.16 | H188: 0
... C214: Da | D214: 40 | E214: 16995.16 | G214: 17381.24 | H214: 0
E215: 32907218 | G215: 33654774 | H215: 0
A216: 34425 | B216: 34515 | C216: Da | D216: 0 | E216: 12306.96 | G216: 12284.9 | H216: 0
C217: A | D217: 1 | E217: 23829597 | G217: 23786883 | H217: 0
A218: 34425 | B218: 34515 | C218: Da | D218: 2 | E218: 12575.51 | G218: 12577.41 | H218: 0
C219: A | D219: 3 | E219: 24349583 | G219: 24353262 | H219: 0
C220: Da | D220: 4 | E220: 12850.79 | G220: 12877.25 | H220: 0
C221: A | D221: 5 | E221: 24882599 | G221: 24933833 | H221: 0
C222: Da | D222: 6 | E222: 13240.2 | G222: 13301.41 | H222: 0
C223: A | D223: 7 | E223: 25636602 | G223: 25755121 | H223: 0
C224: Da | D224: 8 | E224: 13562.47 | G224: 13652.44 | H224: 0
C225: A | D225: 9 | E225: 26260604 | G225: 26434810 | H225: 0
...

Sheet Totale percepire
D1: vengono riportati i dati dal simulatore
D2: =D15 -> TOTALE (comprensivo della 13^)
D3: =D16 -> A.A. | E3: indennità percepita funzione superiore | F3: =F16 -> DSGA | G3: differenza
D4: =simulatore!L4 -> 23784.13 | E4: =simulatore!M4 -> 1277.51 | F4: =simulatore!N4 -> 30646.17 | G4: =simulatore!O4 -> 5584.53
D5: QUOTA MENSILE (in dodicesimi)
D6: =D3 -> A.A. | E6: indennità percepita funzione superiore | F6: =F3 -> DSGA | G6: differenza
D7: =D4/12 -> 1982.01 | E7: =E4/12 -> 106.46 | F7: =F4/12 -> 2553.85 | G7: =G4/12 -> 465.38
D8: Utile per chi cambia fascia stipendiale durante l'a.s.
D9: Moltiplico per numero mesi | F9: 4
D10: =D6 -> A.A. | E10: indennità percepita funzione superiore | F10: =F6 -> DSGA | G10: differenza
D11: =D7*F9 -> 7928.04 | E11: =E7*F9 -> 425.84 | F11: =F7*F9 -> 10215.4 | G11: =G7*F9 -> 1861.52
D12: Riporta i dati nello schema sottostante
A14: Differenza stipendiale tra anzianità in godimento di AA e anzianità maturata da DSGA
A15: N. | B15: A. S. | C15: Quote mensili | D15: =simulatore!L2 -> TOTALE (comprensivo della 13^)
D16: =simulatore!L3 -> A.A. | E16: indennità percepita funzione superiore | F16: =simulatore!N3 -> DSGA | G16: differenza
A17: Cambio di fascia retributiva nello stesso a.s. / aumenti contrattuali
A18: 1) | B18: 2016/17 | C18: 12 | D18: 23784.13 | E18: 1277.51 | F18: 30646.17 | G18: =F18-E18-D18 -> 5584.53
A19: 1) | B19: 2016/17 | C19: 0 | G19: =F19-E19-D19 -> 0
A20: 1) | B20: 2016/17 | C20: 0 | G20: =F20-E20-D20 -> 0
A21: 2) | B21: 2017/18 | C21: 12 | D21: 23784.13 | E21: 1277.51 | F21: 30646.17 | G21: =F21-E21-D21 -> 5584.53
A22: 2) | B22: 2017/18 | C22: 0 | G22: =F22-E22-D22 -> 0
A23: 2) | B23: 2017/18 | C23: 0 | G23: =F23-E23-D23 -> 0
A24: 3) | B24: 2018/19 | C24: 12 | D24: 23784.13 | E24: 1277.51 | F24: 30646.17 | G24: =F24-E24-D24 -> 5584.53
A25: 3) | B25: 2018/19 | C25: 0 | G25: =F25-E25-D25 -> 0
A26: 3) | B26: 2018/19 | C26: 0 | G26: =F26-E26-D26 -> 0
A27: 4) | B27: 2019/20 | C27: 12 | D27: 23784.13 | E27: 1277.51 | F27: 30646.17 | G27: =F27-E27-D27 -> 5584.53
A28: 4) | B28: 2019/20 | C28: 0 | G28: =F28-E28-D28 -> 0
A29: 4) | B29: 2019/20 | C29: 0 | G29: =F29-E29-D29 -> 0
A30: 5) | B30: 2020/21 | C30: 12 | D30: 23784.13 | E30: 1277.51 | F30: 30646.17 | G30: =F30-E30-D30 -> 5584.53
A31: 5) | B31: 2020/21 | C31: 0 | G31: =F31-E31-D31 -> 0
A32: 5) | B32: 2020/21 | C32: 0 | G32: =F32-E32-D32 -> 0
A33: Per un totale di | G33: =SUM(G18:G32) -> 27922.65
B34: Roma li, 00/00/2021 | F34: Cognome Nome

Sheet Tabella di riferimento
A1: Differenza stipendiale tra anzianità in godimento di AA e anzianità maturata da DSGA
A2: Retribuzione da ultima tabella contrattuale | C2: Fascia stipendiale | E2: TOTALE (comprensivo della 13^)
E3: Fascia stipendile da AA | F3: Anzianità DSGA | G3: Da percepire
A4: 43647 | B4: 43830 | C4: Da | D4: 0 | E4: 18978.97 | F4: 25061.64 | G4: =F4-E4 -> 6082.67
C5: A | D5: 8 | E5: 36748410 | F5: 48526102
A6: 43647 | B6: 43830 | C6: Da | D6: 9 | E6: 20915.34 | G6: =F4-E6 -> 4146.3
C7: A | D7: 14 | E7: 40497745
C8: Da | D8: 15 | E8: 22352.1 | G8: =F4-E8 -> 2709.54
C9: A | D9: 20 | E9: 43279701
C10: Da | D10: 21 | E10: 23784.13 | G10: =F4-E10 -> 1277.51
C11: A | D11: 27 | E11: 46052497
C12: Da | D12: 28 | E12: 24815.26 | G12: =F4-E12 -> 246.38
C13: A | D13: 34 | E13: 48049043
C14: Da | D14: 35 | E14: 25601.49 | G14: =F4-E14 -> -539.85
C15: A | E15: 49571397
A17: 43647 | B17: 43830 | C17: Da | D17: 0 | E17: 18978.97 | G17: =F19-E17 -> 9043.78
C18: A | D18: 8 | E18: 36748410
A19: 43647 | B19: 43830 | C19: Da | D19: 9 | E19: 20915.34 | F19: 28022.75 | G19: =F19-E19 -> 7107.41
C20: A | D20: 14 | E20: 40497745 | F20: 54259610
C21: Da | D21: 15 | E21: 22352.1 | G21: =F19-E21 -> 5670.65
C22: A | D22: 20 | E22: 43279701
C23: Da | D23: 21 | E23: 23784.13 | G23: =F19-E23 -> 4238.62
C24: A | D24: 27 | E24: 46052497
C25: Da | D25: 28 | E25: 24815.26 | G25: =F19-E25 -> 3207.49
C26: A | D26: 34 | E26: 48049043
C27: Da | D27: 35 | E27: 25601.49 | G27: =F19-E27 -> 2421.26
C28: A | E28: 49571397
A30: 43647 | B30: 43830 | C30: Da | D30: 0 | E30: 18978.97 | G30: =F34-E30 -> 11667.2
C31: A | D31: 8 | E31: 36748410
A32: 43647 | B32: 43830 | C32: Da | D32: 9 | E32: 20915.34 | G32: =F34-E32 -> 9730.83
C33: A | D33: 14 | E33: 40497745
C34: Da | D34: 15 | E34: 22352.1 | F34: 30646.17 | G34: =F34-E34 -> 8294.07
C35: A | D35: 20 | E35: 43279701 | F35: 59339260
C36: Da | D36: 21 | E36: 23784.13 | G36: =F34-E36 -> 6862.04
C37: A | D37: 27 | E37: 46052497
C38: Da | D38: 28 | E38: 24815.26 | G38: =F34-E38 -> 5830.91
C39: A | D39: 34 | E39: 48049043
C40: Da | D40: 35 | E40: 25601.49 | G40: =F34-E40 -> 5044.68
C41: A | E41: 49571397
A43: 43647 | B43: 43830 | C43: Da | D43: 0 | E43: 18978.97 | F43: 25061.64 | G43: =F49-E43 -> 14466
C44: A | D44: 8 | E44: 36748410 | F44: 48526102
A45: 43647 | B45: 43830 | C45: Da | D45: 9 | E45: 20915.34 | F45: 28022.75 | G45: =F49-E45 -> 12529
C46: A | D46: 14 | E46: 40497745 | F46: 54259610
C47: Da | D47: 15 | E47: 22352.1 | F47: 30646.17 | G47: =F49-E47 -> 11093
C48: A | D48: 20 | E48: 43279701 | F48: 59339260
C49: Da | D49: 21 | E49: 23784.13 | F49: 33444.6 | G49: =F49-E49 -> 9660
C50: A | D50: 27 | E50: 46052497 | F50: 64757776
C51: Da | D51: 28 | E51: 24815.26 | F51: 36330.07 | G51: =F49-E51 -> 8629
C52: A | D52: 34 | E52: 48049043 | F52: 70344825
C53: Da | D53: 35 | E53: 25601.49 | F53: 39123.36 | G53: =F49-E53 -> 7843
C54: A | E54: 49571397 | F54: 75753388

Sheet Assistenti_Amm.vo
A1: Personale ATA: | C1: Collaboratore amministrativo--> dal 1-1-1995 Assistente amministrativo ed equiparati | N1: Voci retributive raggruppate per Posizione assicurativa | Q1: Voce unica | R1: Nuova | S1: 17
A2: 4 | Q2: Nuova PA | R2: PassWeb
A3: Decorrenza | C3: Fasce retributive | E3: Emolumenti contrattuali | K3: TOTALE (senza 13^) | L3: TOTALE (comprensivo della 13^) | N3: Retrib. Fisse e Cont.va | O3: Retrib.ne Base per il 18% | P3: Retr. Access. | Q3: Imponibile contributivo +18% e acc. | R3: Imponibile quota A pensione
A4: Dal | B4: Al | E4: Stipendio annuo | F4: Indennità funzione | G4: art. 7 L. 438/92 | H4: I.I.S. | I4: Vacanza contr.le | J4: 13^ da col.(d) a (f) | P4: CIA pers. ATA (art. 25 c.c.n.i. 31 agosto 1999) | Q4: Imponibile contributivo | R4: Imponibile contributivo
A5: (a) | B5: (b) | C5: (c) | E5: (d) | F5: (e) | G5: (f) | H5: (g) | I5: (h) | J5: (i) | K5: (l) | L5: (m) | N5: (d)+(e)+(f)+(g)+(h) | O5: (d)+(e)+(f)+(h)
A6: 32994 | B6: 33177 | C6: Da | D6: 0 | E6: 4412.61 | F6: 440.02 | G6: 0 | H6: 5588.2 | I6: 0 | J6: 870.07 | K6: 10440.83 | L6: 11310.9 | N6: 10440.83 | O6: 4852.63 | Q6: 12184.37 | R6: 11314.3
C7: A | D7: 1 | E7: 8544004 | F7: 851998 | G7: 0 | H7: 10820264 | I7: 0 | J7: 1684690 | K7: 20216266 | L7: 21900956 | N7: 20216266 | O7: 9396002 | P7: 0 | Q7: 23592230 | R7: 21907540
A8: 32994 | B8: 33177 | C8: Da | D8: 2 | E8: 4641.91 | F8: 458.61 | G8: 0 | H8: 5588.2 | I8: 0 | J8: 890.73 | K8: 10688.72 | L8: 11579.45 | N8: 10688.72 | O8: 5100.52 | Q8: 12497.54 | R8: 11606.81
C9: A | D9: 3 | E9: 8987991 | F9: 887993 | G9: 0 | H9: 10820264 | I9: 0 | J9: 1724694 | K9: 20696248 | L9: 22420942 | N9: 20696248 | O9: 9875984 | P9: 0 | Q9: 24198612 | R9: 22473918
C10: Da | D10: 4 | E10: 4871.22 | F10: 483.4 | G10: 0 | H10: 5588.2 | I10: 0 | J10: 911.9 | K10: 10942.82 | L10: 11854.72 | N10: 10942.82 | O10: 5354.62 | Q10: 12818.55 | R10: 11906.65
C11: A | D11: 5 | E11: 9431997 | F11: 935993 | G11: 0 | H11: 10820264 | I11: 0 | J11: 1765685 | K11: 21188254 | L11: 22953939 | N11: 21188254 | O11: 10367990 | P11: 0 | Q11: 24820174 | R11: 23054489
C12: Da | D12: 6 | E12: 5199.69 | F12: 514.39 | G12: 0 | H12: 5588.2 | I12: 0 | J12: 941.86 | K12: 11302.28 | L12: 12244.14 | N12: 11302.28 | O12: 5714.08 | Q12: 13272.67 | R12: 12330.81
C13: A | D13: 7 | E13: 10068004 | F13: 995998 | G13: 0 | H13: 10820264 | I13: 0 | J13: 1823695 | K13: 21884266 | L13: 23707961 | N13: 21884266 | O13: 11064002 | P13: 0 | Q13: 25699473 | R13: 23875777
C14: Da | D14: 8 | E14: 5466.18 | F14: 545.38 | G14: 0 | H14: 5588.2 | I14: 0 | J14: 966.65 | K14: 11599.76 | L14: 12566.41 | N14: 11599.76 | O14: 6011.56 | Q14: 13648.49 | R14: 12681.84
C15: A | D15: 9 | E15: 10584000 | F15: 1056003 | G15: 0 | H15: 10820264 | I15: 0 | J15: 1871695 | K15: 22460267 | L15: 24331963 | N15: 22460267 | O15: 11640003 | P15: 0 | Q15: 26427162 | R15: 24555466
C16: Da | D16: 10 | E16: 5726.47 | F16: 570.17 | G16: 0 | H16: 5588.2 | I16: 0 | J16: 990.4 | K16: 11884.84 | L16: 12875.24 | N16: 11884.84 | O16: 6296.64 | Q16: 14008.64 | R16: 13018.24
C17: A | D17: 11 | E17: 11087992 | F17: 1104003 | G17: 0 | H17: 10820264 | I17: 0 | J17: 1917682 | K17: 23012259 | L17: 24929941 | N17: 23012259 | O17: 12191995 | P17: 0 | Q17: 27124509 | R17: 25206828
C18: Da | D18: 12 | E18: 5986.77 | F18: 594.96 | G18: 0 | H18: 5588.2 | I18: 0 | J18: 1014.16 | K18: 12169.93 | L18: 13184.09 | N18: 12169.93 | O18: 6581.73 | Q18: 14368.8 | R18: 13354.64
C19: A | D19: 13 | E19: 11592003 | F19: 1152003 | G19: 0 | H19: 10820264 | I19: 0 | J19: 1963688 | K19: 23564270 | L19: 25527958 | N19: 23564270 | O19: 12744006 | P19: 0 | Q19: 27821876 | R19: 25858189
C20: Da | D20: 14 | E20: 6247.06 | F20: 619.75 | G20: 0 | H20: 5588.2 | I20: 0 | J20: 1037.92 | K20: 12455.01 | L20: 13492.93 | N20: 12455.01 | O20: 6866.81 | Q20: 14728.96 | R20: 13691.04
C21: A | D21: 15 | E21: 12095995 | F21: 1200003 | G21: 0 | H21: 10820264 | I21: 0 | J21: 2009693 | K21: 24116262 | L21: 26125956 | N21: 24116262 | O21: 13295998 | P21: 0 | Q21: 28519243 | R21: 26509550
C22: Da | D22: 16 | E22: 6507.36 | F22: 650.74 | G22: 0 | H22: 5588.2 | I22: 0 | J22: 1062.19 | K22: 12746.3 | L22: 13808.49 | N22: 12746.3 | O22: 7158.1 | Q22: 15096.95 | R22: 14034.76
C23: A | D23: 17 | E23: 12600006 | F23: 1260008 | G23: 0 | H23: 10820264 | I23: 0 | J23: 2056687 | K23: 24680278 | L23: 26736965 | N23: 24680278 | O23: 13860014 | P23: 0 | Q23: 29231771 | R23: 27175085
C24: Da | D24: 18 | E24: 6767.65 | F24: 675.53 | G24: 0 | H24: 5588.2 | I24: 0 | J24: 1085.95 | K24: 13031.38 | L24: 14117.33 | N24: 13031.38 | O24: 7443.18 | Q24: 15457.1 | R24: 14371.15
C25: A | D25: 19 | E25: 13103998 | F25: 1308008 | G25: 0 | H25: 10820264 | I25: 0 | J25: 2102692 | K25: 25232270 | L25: 27334963 | N25: 25232270 | O25: 14412006 | P25: 0 | Q25: 29929119 | R25: 27826427
C26: Da | D26: 20 | E26: 7027.95 | F26: 700.32 | G26: 0 | H26: 5588.2 | I26: 0 | J26: 1109.71 | K26: 13316.47 | L26: 14426.18 | N26: 13316.47 | O26: 7728.27 | Q26: 15817.27 | R26: 14707.56
C27: A | D27: 21 | E27: 13608009 | F27: 1356009 | G27: 0 | H27: 10820264 | I27: 0 | J27: 2148698 | K27: 25784281 | L27: 27932980 | N27: 25784281 | O27: 14964017 | P27: 0 | Q27: 30626505 | R27: 28477807
C28: Da | D28: 22 | E28: 7170.49 | F28: 712.71 | G28: 0 | H28: 5588.2 | I28: 0 | J28: 1122.62 | K28: 13471.4 | L28: 14594.02 | N28: 13471.4 | O28: 7883.2 | Q28: 16013 | R28: 14890.38
C29: A | D29: 23 | E29: 13884005 | F29: 1379999 | G29: 0 | H29: 10820264 | I29: 0 | J29: 2173695 | K29: 26084268 | L29: 28257963 | N29: 26084268 | O29: 15264004 | P29: 0 | Q29: 31005492 | R29: 28831796
C30: Da | D30: 24 | E30: 7313.03 | F30: 731.3 | G30: 0 | H30: 5588.2 | I30: 0 | J30: 1136.04 | K30: 13632.53 | L30: 14768.57 | N30: 13632.53 | O30: 8044.33 | Q30: 16216.55 | R30: 15080.51
C31: A | D31: 25 | E31: 14160001 | F31: 1415994 | G31: 0 | H31: 10820264 | I31: 0 | J31: 2199680 | K31: 26396259 | L31: 28595939 | N31: 26396259 | O31: 15575995 | P31: 0 | Q31: 31399619 | R31: 29199939
C32: Da | D32: 26 | E32: 7455.57 | F32: 743.7 | G32: 0 | H32: 5588.2 | I32: 0 | J32: 1148.96 | K32: 13787.47 | L32: 14936.43 | N32: 13787.47 | O32: 8199.27 | Q32: 16412.3 | R32: 15263.34
C33: A | D33: 27 | E33: 14435997 | F33: 1440004 | G33: 0 | H33: 10820264 | I33: 0 | J33: 2224697 | K33: 26696265 | L33: 28920961 | N33: 26696265 | O33: 15876001 | P33: 0 | Q33: 31778644 | R33: 29553947
C34: Da | D34: 28 | E34: 7591.92 | F34: 756.09 | G34: 0 | H34: 5588.2 | I34: 0 | J34: 1161.35 | K34: 13936.21 | L34: 15097.56 | N34: 13936.21 | O34: 8348.01 | Q34: 16600.2 | R34: 15438.85
C35: A | D35: 29 | E35: 14700007 | F35: 1463994 | G35: 0 | H35: 10820264 | I35: 0 | J35: 2248687 | K35: 26984265 | L35: 29232953 | N35: 26984265 | O35: 16164001 | P35: 0 | Q35: 32142469 | R35: 29893782
C36: Da | D36: 30 | E36: 7734.46 | F36: 768.49 | G36: 0 | H36: 5588.2 | I36: 0 | J36: 1174.26 | K36: 14091.15 | L36: 15265.41 | N36: 14091.15 | O36: 8502.95 | Q36: 16795.94 | R36: 15621.68
C37: A | D37: 31 | E37: 14976003 | F37: 1488004 | G37: 0 | H37: 10820264 | I37: 0 | J37: 2273684 | K37: 27284271 | L37: 29557955 | N37: 27284271 | O37: 16464007 | P37: 0 | Q37: 32521475 | R37: 30247790
C38: Da | D38: 32 | E38: 7877 | F38: 787.08 | G38: 0 | H38: 5588.2 | I38: 0 | J38: 1187.69 | K38: 14252.28 | L38: 15439.97 | N38: 14252.28 | O38: 8664.08 | Q38: 16999.5 | R38: 15811.81
C39: A | D39: 33 | E39: 15251999 | F39: 1523999 | G39: 0 | H39: 10820264 | I39: 0 | J39: 2299689 | K39: 27596262 | L39: 29895951 | N39: 27596262 | O39: 16775998 | P39: 0 | Q39: 32915622 | R39: 30615933
C40: Da | D40: 34 | E40: 7829.49 | F40: 799.48 | G40: 0 | H40: 5588.2 | I40: 0 | J40: 1184.76 | K40: 14217.17 | L40: 15401.93 | N40: 14217.17 | O40: 8628.97 | Q40: 16955.14 | R40: 15770.38
C41: A | D41: 35 | E41: 15160007 | F41: 1548009 | G41: 0 | H41: 10820264 | I41: 0 | J41: 2294015 | K41: 27528280 | L41: 29822295 | N41: 27528280 | O41: 16708016 | P41: 0 | Q41: 32829729 | R41: 30535714
C42: Da | D42: 36 | E42: 8155.89 | F42: 811.87 | G42: 0 | H42: 5588.2 | I42: 0 | J42: 1213 | K42: 14555.96 | L42: 15768.96 | N42: 14555.96 | O42: 8967.76 | Q42: 17383.16 | R42: 16170.16
C43: A | D43: 37 | E43: 15792005 | F43: 1572000 | G43: 0 | H43: 10820264 | I43: 0 | J43: 2348696 | K43: 28184269 | L43: 30532964 | N43: 28184269 | O43: 17364005 | P43: 0 | Q43: 33658491 | R43: 31309796
C44: Da | D44: 38 | E44: 8298.43 | F44: 824.27 | G44: 0 | H44: 5588.2 | I44: 0 | J44: 1225.91 | K44: 14710.9 | L44: 15936.81 | N44: 14710.9 | O44: 9122.7 | Q44: 17578.9 | R44: 16352.99
C45: A | D45: 39 | E45: 16068001 | F45: 1596009 | G45: 0 | H45: 10820264 | I45: 0 | J45: 2373693 | K45: 28484274 | L45: 30857967 | N45: 28484274 | O45: 17664010 | P45: 0 | Q45: 34037497 | R45: 31663804
C46: Da | D46: 40 | E46: 8440.97 | F46: 842.86 | G46: 0 | H46: 5588.2 | I46: 0 | J46: 1239.34 | K46: 14872.03 | L46: 16111.37 | N46: 14872.03 | O46: 9283.83 | Q46: 17782.46 | R46: 16543.12
E47: 16343997 | F47: 1632005 | G47: 0 | H47: 10820264 | I47: 0 | J47: 2399697 | K47: 28796266 | L47: 31195962 | N47: 28796266 | O47: 17976002 | P47: 0 | Q47: 34431644 | R47: 32031947
A48: 33178 | B48: 33358 | C48: Da | D48: 0 | E48: 4412.61 | F48: 440.02 | G48: 0 | H48: 5788.88 | I48: 0 | J48: 886.79 | K48: 10641.51 | L48: 11528.3 | N48: 10641.51 | O48: 4852.63 | Q48: 12401.77 | R48: 11514.98
C49: A | D49: 1 | E49: 8544004 | F49: 851998 | G49: 0 | H49: 11208835 | I49: 0 | J49: 1717065 | K49: 20604837 | L49: 22321901 | N49: 20604837 | O49: 9396002 | P49: 0 | Q49: 24013175 | R49: 22296110
A50: 33178 | B50: 33358 | C50: Da | D50: 2 | E50: 4641.91 | F50: 458.61 | G50: 0 | H50: 5788.88 | I50: 0 | J50: 907.45 | K50: 10889.4 | L50: 11796.85 | N50: 10889.4 | O50: 5100.52 | Q50: 12714.94 | R50: 11807.49
C51: A | D51: 3 | E51: 8987991 | F51: 887993 | G51: 0 | H51: 11208835 | I51: 0 | J51: 1757068 | K51: 21084819 | L51: 22841887 | N51: 21084819 | O51: 9875984 | P51: 0 | Q51: 24619557 | R51: 22862489
C52: Da | D52: 4 | E52: 4871.22 | F52: 483.4 | G52: 0 | H52: 5788.88 | I52: 0 | J52: 928.63 | K52: 11143.5 | L52: 12072.13 | N52: 11143.5 | O52: 5354.62 | Q52: 13035.96 | R52: 12107.33
C53: A | D53: 5 | E53: 9431997 | F53: 935993 | G53: 0 | H53: 11208835 | I53: 0 | J53: 1798078 | K53: 21576825 | L53: 23374903 | N53: 21576825 | O53: 10367990 | P53: 0 | Q53: 25241138 | R53: 23443060
C54: Da | D54: 6 | E54: 5199.69 | F54: 514.39 | G54: 0 | H54: 5788.88 | I54: 0 | J54: 958.58 | K54: 11502.96 | L54: 12461.54 | N54: 11502.96 | O54: 5714.08 | Q54: 13490.07 | R54: 12531.49
C55: A | D55: 7 | E55: 10068004 | F55: 995998 | G55: 0 | H55: 11208835 | I55: 0 | J55: 1856070 | K55: 22272836 | L55: 24128906 | N55: 22272836 | O55: 11064002 | P55: 0 | Q55: 26120418 | R55: 24264348
C56: Da | D56: 8 | E56: 5466.18 | F56: 545.38 | G56: 0 | H56: 5788.88 | I56: 0 | J56: 983.37 | K56: 11800.44 | L56: 12783.81 | N56: 11800.44 | O56: 6011.56 | Q56: 13865.89 | R56: 12882.52
C57: A | D57: 9 | E57: 10584000 | F57: 1056003 | G57: 0 | H57: 11208835 | I57: 0 | J57: 1904070 | K57: 22848838 | L57: 24752908 | N57: 22848838 | O57: 11640003 | P57: 0 | Q57: 26848107 | R57: 24944037
C58: Da | D58: 10 | E58: 5726.47 | F58: 570.17 | G58: 0 | H58: 5788.88 | I58: 0 | J58: 1007.13 | K58: 12085.52 | L58: 13092.65 | N58: 12085.52 | O58: 6296.64 | Q58: 14226.05 | R58: 13218.92
C59: A | D59: 11 | E59: 11087992 | F59: 1104003 | G59: 0 | H59: 11208835 | I59: 0 | J59: 1950076 | K59: 23400830 | L59: 25350905 | N59: 23400830 | O59: 12191995 | P59: 0 | Q59: 27545474 | R59: 25595398
C60: Da | D60: 12 | E60: 5986.77 | F60: 594.96 | G60: 0 | H60: 5788.88 | I60: 0 | J60: 1030.88 | K60: 12370.61 | L60: 13401.49 | N60: 12370.61 | O60: 6581.73 | Q60: 14586.2 | R60: 13555.32
C61: A | D61: 13 | E61: 11592003 | F61: 1152003 | G61: 0 | H61: 11208835 | I61: 0 | J61: 1996062 | K61: 23952841 | L61: 25948903 | N61: 23952841 | O61: 12744006 | P61: 0 | Q61: 28242821 | R61: 26246759
C62: Da | D62: 14 | E62: 6247.06 | F62: 619.75 | G62: 0 | H62: 5788.88 | I62: 0 | J62: 1054.64 | K62: 12655.69 | L62: 13710.33 | N62: 12655.69 | O62: 6866.81 | Q62: 14946.36 | R62: 13891.72
C63: A | D63: 15 | E63: 12095995 | F63: 1200003 | G63: 0 | H63: 11208835 | I63: 0 | J63: 2042068 | K63: 24504833 | L63: 26546901 | N63: 24504833 | O63: 13295998 | P63: 0 | Q63: 28940188 | R63: 26898121
C64: Da | D64: 16 | E64: 6507.36 | F64: 650.74 | G64: 0 | H64: 5788.88 | I64: 0 | J64: 1078.92 | K64: 12946.98 | L64: 14025.9 | N64: 12946.98 | O64: 7158.1 | Q64: 15314.36 | R64: 14235.44
C65: A | D65: 17 | E65: 12600006 | F65: 1260008 | G65: 0 | H65: 11208835 | I65: 0 | J65: 2089080 | K65: 25068849 | L65: 27157929 | N65: 25068849 | O65: 13860014 | P65: 0 | Q65: 29652736 | R65: 27563655
C66: Da | D66: 18 | E66: 6767.65 | F66: 675.53 | G66: 0 | H66: 5788.88 | I66: 0 | J66: 1102.67 | K66: 13232.06 | L66: 14334.73 | N66: 13232.06 | O66: 7443.18 | Q66: 15674.5 | R66: 14571.83
C67: A | D67: 19 | E67: 13103998 | F67: 1308008 | G67: 0 | H67: 11208835 | I67: 0 | J67: 2135067 | K67: 25620841 | L67: 27755908 | N67: 25620841 | O67: 14412006 | P67: 0 | Q67: 30350064 | R67: 28214997
C68: Da | D68: 20 | E68: 7027.95 | F68: 700.32 | G68: 0 | H68: 5788.88 | I68: 0 | J68: 1126.43 | K68: 13517.15 | L68: 14643.58 | N68: 13517.15 | O68: 7728.27 | Q68: 16034.67 | R68: 14908.24
C69: A | D69: 21 | E69: 13608009 | F69: 1356009 | G69: 0 | H69: 11208835 | I69: 0 | J69: 2181073 | K69: 26172852 | L69: 28353925 | N69: 26172852 | O69: 14964017 | P69: 0 | Q69: 31047450 | R69: 28866378
C70: Da | D70: 22 | E70: 7170.49 | F70: 712.71 | G70: 0 | H70: 5788.88 | I70: 0 | J70: 1139.34 | K70: 13672.08 | L70: 14811.42 | N70: 13672.08 | O70: 7883.2 | Q70: 16230.4 | R70: 15091.06
C71: A | D71: 23 | E71: 13884005 | F71: 1379999 | G71: 0 | H71: 11208835 | I71: 0 | J71: 2206070 | K71: 26472838 | L71: 28678908 | N71: 26472838 | O71: 15264004 | P71: 0 | Q71: 31426437 | R71: 29220367
C72: Da | D72: 24 | E72: 7313.03 | F72: 731.3 | G72: 0 | H72: 5788.88 | I72: 0 | J72: 1152.77 | K72: 13833.21 | L72: 14985.98 | N72: 13833.21 | O72: 8044.33 | Q72: 16433.96 | R72: 15281.19
C73: A | D73: 25 | E73: 14160001 | F73: 1415994 | G73: 0 | H73: 11208835 | I73: 0 | J73: 2232074 | K73: 26784830 | L73: 29016903 | N73: 26784830 | O73: 15575995 | P73: 0 | Q73: 31820584 | R73: 29588510
C74: Da | D74: 26 | E74: 7455.57 | F74: 743.7 | G74: 0 | H74: 5788.88 | I74: 0 | J74: 1165.68 | K74: 13988.15 | L74: 15153.83 | N74: 13988.15 | O74: 8199.27 | Q74: 16629.7 | R74: 15464.02
C75: A | D75: 27 | E75: 14435997 | F75: 1440004 | G75: 0 | H75: 11208835 | I75: 0 | J75: 2257071 | K75: 27084835 | L75: 29341906 | N75: 27084835 | O75: 15876001 | P75: 0 | Q75: 32199589 | R75: 29942518
C76: Da | D76: 28 | E76: 7591.92 | F76: 756.09 | G76: 0 | H76: 5788.88 | I76: 0 | J76: 1178.07 | K76: 14136.89 | L76: 15314.96 | N76: 14136.89 | O76: 8348.01 | Q76: 16817.6 | R76: 15639.53
C77: A | D77: 29 | E77: 14700007 | F77: 1463994 | G77: 0 | H77: 11208835 | I77: 0 | J77: 2281062 | K77: 27372836 | L77: 29653898 | N77: 27372836 | O77: 16164001 | P77: 0 | Q77: 32563414 | R77: 30282353
C78: Da | D78: 30 | E78: 7734.46 | F78: 768.49 | G78: 0 | H78: 5788.88 | I78: 0 | J78: 1190.99 | K78: 14291.83 | L78: 15482.82 | N78: 14291.83 | O78: 8502.95 | Q78: 17013.35 | R78: 15822.36
C79: A | D79: 31 | E79: 14976003 | F79: 1488004 | G79: 0 | H79: 11208835 | I79: 0 | J79: 2306078 | K79: 27672842 | L79: 29978920 | N79: 27672842 | O79: 16464007 | P79: 0 | Q79: 32942439 | R79: 30636361
C80: Da | D80: 32 | E80: 7877 | F80: 787.08 | G80: 0 | H80: 5788.88 | I80: 0 | J80: 1204.41 | K80: 14452.96 | L80: 15657.37 | N80: 14452.96 | O80: 8664.08 | Q80: 17216.9 | R80: 16012.49
C81: A | D81: 33 | E81: 15251999 | F81: 1523999 | G81: 0 | H81: 11208835 | I81: 0 | J81: 2332063 | K81: 27984833 | L81: 30316896 | N81: 27984833 | O81: 16775998 | P81: 0 | Q81: 33336567 | R81: 31004504
C82: Da | D82: 34 | E82: 7829.49 | F82: 799.48 | G82: 0 | H82: 5788.88 | I82: 0 | J82: 1201.49 | K82: 14417.85 | L82: 15619.34 | N82: 14417.85 | O82: 8628.97 | Q82: 17172.55 | R82: 15971.06
C83: A | D83: 35 | E83: 15160007 | F83: 1548009 | G83: 0 | H83: 11208835 | I83: 0 | J83: 2326409 | K83: 27916850 | L83: 30243259 | N83: 27916850 | O83: 16708016 | P83: 0 | Q83: 33250693 | R83: 30924284
C84: Da | D84: 36 | E84: 8155.89 | F84: 811.87 | G84: 0 | H84: 5788.88 | I84: 0 | J84: 1229.72 | K84: 14756.64 | L84: 15986.36 | N84: 14756.64 | O84: 8967.76 | Q84: 17600.56 | R84: 16370.84
C85: A | D85: 37 | E85: 15792005 | F85: 1572000 | G85: 0 | H85: 11208835 | I85: 0 | J85: 2381070 | K85: 28572839 | L85: 30953909 | N85: 28572839 | O85: 17364005 | P85: 0 | Q85: 34079436 | R85: 31698366
C86: Da | D86: 38 | E86: 8298.43 | F86: 824.27 | G86: 0 | H86: 5788.88 | I86: 0 | J86: 1242.63 | K86: 14911.58 | L86: 16154.21 | N86: 14911.58 | O86: 9122.7 | Q86: 17796.3 | R86: 16553.67
C87: A | D87: 39 | E87: 16068001 | F87: 1596009 | G87: 0 | H87: 11208835 | I87: 0 | J87: 2406067 | K87: 28872845 | L87: 31278912 | N87: 28872845 | O87: 17664010 | P87: 0 | Q87: 34458442 | R87: 32052375
C88: Da | D88: 40 | E88: 8440.97 | F88: 842.86 | G88: 0 | H88: 5788.88 | I88: 0 | J88: 1256.06 | K88: 15072.71 | L88: 16328.77 | N88: 15072.71 | O88: 9283.83 | Q88: 17999.86 | R88: 16743.8
E89: 16343997 | F89: 1632005 | G89: 0 | H89: 11208835 | I89: 0 | J89: 2432071 | K89: 29184836 | L89: 31616907 | N89: 29184836 | O89: 17976002 | P89: 0 | Q89: 34852589 | R89: 32420518
A90: 33359 | B90: 33542 | C90: Da | D90: 0 | E90: 4412.61 | F90: 440.02 | G90: 0 | H90: 6056.11 | I90: 0 | J90: 909.06 | K90: 10908.74 | L90: 11817.8 | N90: 10908.74 | O90: 4852.63 | Q90: 12691.27 | R90: 11782.21
C91: A | D91: 1 | E91: 8544004 | F91: 851998 | G91: 0 | H91: 11726264 | I91: 0 | J91: 1760186 | K91: 21122266 | L91: 22882452 | N91: 21122266 | O91: 9396002 | P91: 0 | Q91: 24573725 | R91: 22813540
A92: 33359 | B92: 33542 | C92: Da | D92: 2 | E92: 4641.91 | F92: 458.61 | G92: 0 | H92: 6056.11 | I92: 0 | J92: 929.72 | K92: 11156.63 | L92: 12086.35 | N92: 11156.63 | O92: 5100.52 | Q92: 13004.44 | R92: 12074.72
C93: A | D93: 3 | E93: 8987991 | F93: 887993 | G93: 0 | H93: 11726264 | I93: 0 | J93: 1800189 | K93: 21602248 | L93: 23402437 | N93: 21602248 | O93: 9875984 | P93: 0 | Q93: 25180107 | R93: 23379918
C94: Da | D94: 4 | E94: 4871.22 | F94: 483.4 | G94: 0 | H94: 6056.11 | I94: 0 | J94: 950.89 | K94: 11410.73 | L94: 12361.62 | N94: 11410.73 | O94: 5354.62 | Q94: 13325.45 | R94: 12374.56
C95: A | D95: 5 | E95: 9431997 | F95: 935993 | G95: 0 | H95: 11726264 | I95: 0 | J95: 1841180 | K95: 22094254 | L95: 23935434 | N95: 22094254 | O95: 10367990 | P95: 0 | Q95: 25801669 | R95: 23960489
C96: Da | D96: 6 | E96: 5199.69 | F96: 514.39 | G96: 0 | H96: 6056.11 | I96: 0 | J96: 980.85 | K96: 11770.19 | L96: 12751.04 | N96: 11770.19 | O96: 5714.08 | Q96: 13779.57 | R96: 12798.72
C97: A | D97: 7 | E97: 10068004 | F97: 995998 | G97: 0 | H97: 11726264 | I97: 0 | J97: 1899190 | K97: 22790266 | L97: 24689456 | N97: 22790266 | O97: 11064002 | P97: 0 | Q97: 26680968 | R97: 24781778
C98: Da | D98: 8 | E98: 5466.18 | F98: 545.38 | G98: 0 | H98: 6056.11 | I98: 0 | J98: 1005.64 | K98: 12067.67 | L98: 13073.31 | N98: 12067.67 | O98: 6011.56 | Q98: 14155.39 | R98: 13149.75
C99: A | D99: 9 | E99: 10584000 | F99: 1056003 | G99: 0 | H99: 11726264 | I99: 0 | J99: 1947191 | K99: 23366267 | L99: 25313458 | N99: 23366267 | O99: 11640003 | P99: 0 | Q99: 27408657 | R99: 25461466
C100: Da | D100: 10 | E100: 5726.47 | F100: 570.17 | G100: 0 | H100: 6056.11 | I100: 0 | J100: 1029.4 | K100: 12352.75 | L100: 13382.15 | N100: 12352.75 | O100: 6296.64 | Q100: 14515.55 | R100: 13486.15
...

Sheet Direttore_Amm.vo
A1: Personale ATA: | C1: Direttore dei servizi generali e amministrativi | N1: Voci retributive raggruppate per Posizione assicurativa | Q1: Voce unica | R1: Nuova | S1: 67
A2: 6 | Q2: Nuova PA | R2: PassWeb
A3: Decorrenza | C3: Fasce retributive | E3: Emolumenti contrattuali | K3: TOTALE (senza 13^) | L3: TOTALE (comprensivo della 13^) | N3: Retrib. Fisse e Cont.va | O3: Retrib.ne Base per il 18% | P3: Retr. Access. | Q3: Imponibile contributivo +18% e acc. | R3: Imponibile quota A pensione
A4: Dal | B4: Al | E4: Stipendio annuo | F4: Indennità funzione | G4: art. 7 L. 438/92 | H4: I.I.S. | I4: Vacanza contr.le | J4: 13^ da col.(d) a (f) | P4: Vedi tabella | Q4: Imponibile contributivo | R4: Imponibile contributivo
A5: (a) | B5: (b) | C5: (c) | E5: (d) | F5: (e) | G5: (f) | H5: (g) | I5: (h) | J5: (i) | K5: (l) | L5: (m) | N5: (d)+(e)+(f)+(g)+(h) | O5: (d)+(e)+(f)+(h)
A6: 32994 | B6: 33177 | C6: Da | D6: 0 | E6: 0 | F6: 0 | G6: 0 | H6: 0 | I6: 0 | J6: 0 | K6: 0 | L6: 0 | N6: 0 | O6: 0 | Q6: 0 | R6: 0
C7: A | D7: 0 | E7: 0 | F7: 0 | G7: 0 | H7: 0 | I7: 0 | J7: 0 | K7: 0 | L7: 0 | N7: 0 | O7: 0 | P7: 0 | Q7: 0 | R7: 0
A8: 32994 | B8: 33177 | C8: Da | D8: 1 | E8: 0 | F8: 0 | G8: 0 | H8: 0 | I8: 0 | J8: 0 | K8: 0 | L8: 0 | N8: 0 | O8: 0 | Q8: 0 | R8: 0
C9: A | D9: 2 | E9: 0 | F9: 0 | G9: 0 | H9: 0 | I9: 0 | J9: 0 | K9: 0 | L9: 0 | N9: 0 | O9: 0 | P9: 0 | Q9: 0 | R9: 0
C10: Da | D10: 3 | E10: 0 | F10: 0 | G10: 0 | H10: 0 | I10: 0 | J10: 0 | K10: 0 | L10: 0 | N10: 0 | O10: 0 | Q10: 0 | R10: 0
C11: A | D11: 4 | E11: 0 | F11: 0 | G11: 0 | H11: 0 | I11: 0 | J11: 0 | K11: 0 | L11: 0 | N11: 0 | O11: 0 | P11: 0 | Q11: 0 | R11: 0
C12: Da | D12: 5 | E12: 0 | F12: 0 | G12: 0 | H12: 0 | I12: 0 | J12: 0 | K12: 0 | L12: 0 | N12: 0 | O12: 0 | Q12: 0 | R12: 0
C13: A | D13: 6 | E13: 0 | F13: 0 | G13: 0 | H13: 0 | I13: 0 | J13: 0 | K13: 0 | L13: 0 | N13: 0 | O13: 0 | P13: 0 | Q13: 0 | R13: 0
C14: Da | D14: 7 | E14: 0 | F14: 0 | G14: 0 | H14: 0 | I14: 0 | J14: 0 | K14: 0 | L14: 0 | N14: 0 | O14: 0 | Q14: 0 | R14: 0
C15: A | D15: 8 | E15: 0 | F15: 0 | G15: 0 | H15: 0 | I15: 0 | J15: 0 | K15: 0 | L15: 0 | N15: 0 | O15: 0 | P15: 0 | Q15: 0 | R15: 0
C16: Da | D16: 9 | E16: 0 | F16: 0 | G16: 0 | H16: 0 | I16: 0 | J16: 0 | K16: 0 | L16: 0 | N16: 0 | O16: 0 | Q16: 0 | R16: 0
C17: A | D17: 10 | E17: 0 | F17: 0 | G17: 0 | H17: 0 | I17: 0 | J17: 0 | K17: 0 | L17: 0 | N17: 0 | O17: 0 | P17: 0 | Q17: 0 | R17: 0
C18: Da | D18: 11 | E18: 0 | F18: 0 | G18: 0 | H18: 0 | I18: 0 | J18: 0 | K18: 0 | L18: 0 | N18: 0 | O18: 0 | Q18: 0 | R18: 0
C19: A | D19: 12 | E19: 0 | F19: 0 | G19: 0 | H19: 0 | I19: 0 | J19: 0 | K19: 0 | L19: 0 | N19: 0 | O19: 0 | P19: 0 | Q19: 0 | R19: 0
C20: Da | D20: 13 | E20: 0 | F20: 0 | G20: 0 | H20: 0 | I20: 0 | J20: 0 | K20: 0 | L20: 0 | N20: 0 | O20: 0 | Q20: 0 | R20: 0
C21: A | D21: 14 | E21: 0 | F21: 0 | G21: 0 | H21: 0 | I21: 0 | J21: 0 | K21: 0 | L21: 0 | N21: 0 | O21: 0 | P21: 0 | Q21: 0 | R21: 0
C22: Da | D22: 15 | E22: 0 | F22: 0 | G22: 0 | H22: 0 | I22: 0 | J22: 0 | K22: 0 | L22: 0 | N22: 0 | O22: 0 | Q22: 0 | R22: 0
C23: A | D23: 16 | E23: 0 | F23: 0 | G23: 0 | H23: 0 | I23: 0 | J23: 0 | K23: 0 | L23: 0 | N23: 0 | O23: 0 | P23: 0 | Q23: 0 | R23: 0
C24: Da | D24: 17 | E24: 0 | F24: 0 | G24: 0 | H24: 0 | I24: 0 | J24: 0 | K24: 0 | L24: 0 | N24: 0 | O24: 0 | Q24: 0 | R24: 0
C25: A | D25: 17 | E25: 0 | F25: 0 | G25: 0 | H25: 0 | I25: 0 | J25: 0 | K25: 0 | L25: 0 | N25: 0 | O25: 0 | P25: 0 | Q25: 0 | R25: 0
C26: Da | D26: 18 | E26: 0 | F26: 0 | G26: 0 | H26: 0 | I26: 0 | J26: 0 | K26: 0 | L26: 0 | N26: 0 | O26: 0 | Q26: 0 | R26: 0
C27: A | D27: 19 | E27: 0 | F27: 0 | G27: 0 | H27: 0 | I27: 0 | J27: 0 | K27: 0 | L27: 0 | N27: 0 | O27: 0 | P27: 0 | Q27: 0 | R27: 0
C28: Da | D28: 20 | E28: 0 | F28: 0 | G28: 0 | H28: 0 | I28: 0 | J28: 0 | K28: 0 | L28: 0 | N28: 0 | O28: 0 | Q28: 0 | R28: 0
C29: A | D29: 21 | E29: 0 | F29: 0 | G29: 0 | H29: 0 | I29: 0 | J29: 0 | K29: 0 | L29: 0 | N29: 0 | O29: 0 | P29: 0 | Q29: 0 | R29: 0
C30: Da | D30: 22 | E30: 0 | F30: 0 | G30: 0 | H30: 0 | I30: 0 | J30: 0 | K30: 0 | L30: 0 | N30: 0 | O30: 0 | Q30: 0 | R30: 0
C31: A | D31: 23 | E31: 0 | F31: 0 | G31: 0 | H31: 0 | I31: 0 | J31: 0 | K31: 0 | L31: 0 | N31: 0 | O31: 0 | P31: 0 | Q31: 0 | R31: 0
C32: Da | D32: 24 | E32: 0 | F32: 0 | G32: 0 | H32: 0 | I32: 0 | J32: 0 | K32: 0 | L32: 0 | N32: 0 | O32: 0 | Q32: 0 | R32: 0
C33: A | D33: 25 | E33: 0 | F33: 0 | G33: 0 | H33: 0 | I33: 0 | J33: 0 | K33: 0 | L33: 0 | N33: 0 | O33: 0 | P33: 0 | Q33: 0 | R33: 0
C34: Da | D34: 26 | E34: 0 | F34: 0 | G34: 0 | H34: 0 | I34: 0 | J34: 0 | K34: 0 | L34: 0 | N34: 0 | O34: 0 | Q34: 0 | R34: 0
C35: A | D35: 27 | E35: 0 | F35: 0 | G35: 0 | H35: 0 | I35: 0 | J35: 0 | K35: 0 | L35: 0 | N35: 0 | O35: 0 | P35: 0 | Q35: 0 | R35: 0
C36: Da | D36: 28 | E36: 0 | F36: 0 | G36: 0 | H36: 0 | I36: 0 | J36: 0 | K36: 0 | L36: 0 | N36: 0 | O36: 0 | Q36: 0 | R36: 0
C37: A | D37: 29 | E37: 0 | F37: 0 | G37: 0 | H37: 0 | I37: 0 | J37: 0 | K37: 0 | L37: 0 | N37: 0 | O37: 0 | P37: 0 | Q37: 0 | R37: 0
C38: Da | D38: 30 | E38: 0 | F38: 0 | G38: 0 | H38: 0 | I38: 0 | J38: 0 | K38: 0 | L38: 0 | N38: 0 | O38: 0 | Q38: 0 | R38: 0
C39: A | D39: 33 | E39: 0 | F39: 0 | G39: 0 | H39: 0 | I39: 0 | J39: 0 | K39: 0 | L39: 0 | N39: 0 | O39: 0 | P39: 0 | Q39: 0 | R39: 0
C40: Da | D40: 34 | E40: 0 | F40: 0 | G40: 0 | H40: 0 | I40: 0 | J40: 0 | K40: 0 | L40: 0 | N40: 0 | O40: 0 | Q40: 0 | R40: 0
C41: A | D41: 35 | E41: 0 | F41: 0 | G41: 0 | H41: 0 | I41: 0 | J41: 0 | K41: 0 | L41: 0 | N41: 0 | O41: 0 | P41: 0 | Q41: 0 | R41: 0
C42: Da | D42: 36 | E42: 0 | F42: 0 | G42: 0 | H42: 0 | I42: 0 | J42: 0 | K42: 0 | L42: 0 | N42: 0 | O42: 0 | Q42: 0 | R42: 0
C43: A | D43: 37 | E43: 0 | F43: 0 | G43: 0 | H43: 0 | I43: 0 | J43: 0 | K43: 0 | L43: 0 | N43: 0 | O43: 0 | P43: 0 | Q43: 0 | R43: 0
C44: Da | D44: 38 | E44: 0 | F44: 0 | G44: 0 | H44: 0 | I44: 0 | J44: 0 | K44: 0 | L44: 0 | N44: 0 | O44: 0 | Q44: 0 | R44: 0
C45: A | D45: 39 | E45: 0 | F45: 0 | G45: 0 | H45: 0 | I45: 0 | J45: 0 | K45: 0 | L45: 0 | N45: 0 | O45: 0 | P45: 0 | Q45: 0 | R45: 0
C46: Da | D46: 40 | E46: 0 | F46: 0 | G46: 0 | H46: 0 | I46: 0 | J46: 0 | K46: 0 | L46: 0 | N46: 0 | O46: 0 | Q46: 0 | R46: 0
E47: 0 | F47: 0 | G47: 0 | H47: 0 | I47: 0 | J47: 0 | K47: 0 | L47: 0 | N47: 0 | O47: 0 | P47: 0 | Q47: 0 | R47: 0
A48: 33178 | B48: 33358 | C48: Da | D48: 0 | E48: 0 | F48: 0 | G48: 0 | H48: 0 | I48: 0 | J48: 0 | K48: 0 | L48: 0 | N48: 0 | O48: 0 | Q48: 0 | R48: 0
C49: A | D49: 0 | E49: 0 | F49: 0 | G49: 0 | H49: 0 | I49: 0 | J49: 0 | K49: 0 | L49: 0 | N49: 0 | O49: 0 | P49: 0 | Q49: 0 | R49: 0
A50: 33178 | B50: 33358 | C50: Da | D50: 1 | E50: 0 | F50: 0 | G50: 0 | H50: 0 | I50: 0 | J50: 0 | K50: 0 | L50: 0 | N50: 0 | O50: 0 | Q50: 0 | R50: 0
C51: A | D51: 2 | E51: 0 | F51: 0 | G51: 0 | H51: 0 | I51: 0 | J51: 0 | K51: 0 | L51: 0 | N51: 0 | O51: 0 | P51: 0 | Q51: 0 | R51: 0
C52: Da | D52: 3 | E52: 0 | F52: 0 | G52: 0 | H52: 0 | I52: 0 | J52: 0 | K52: 0 | L52: 0 | N52: 0 | O52: 0 | Q52: 0 | R52: 0
C53: A | D53: 4 | E53: 0 | F53: 0 | G53: 0 | H53: 0 | I53: 0 | J53: 0 | K53: 0 | L53: 0 | N53: 0 | O53: 0 | P53: 0 | Q53: 0 | R53: 0
C54: Da | D54: 5 | E54: 0 | F54: 0 | G54: 0 | H54: 0 | I54: 0 | J54: 0 | K54: 0 | L54: 0 | N54: 0 | O54: 0 | Q54: 0 | R54: 0
C55: A | D55: 6 | E55: 0 | F55: 0 | G55: 0 | H55: 0 | I55: 0 | J55: 0 | K55: 0 | L55: 0 | N55: 0 | O55: 0 | P55: 0 | Q55: 0 | R55: 0
C56: Da | D56: 7 | E56: 0 | F56: 0 | G56: 0 | H56: 0 | I56: 0 | J56: 0 | K56: 0 | L56: 0 | N56: 0 | O56: 0 | Q56: 0 | R56: 0
C57: A | D57: 8 | E57: 0 | F57: 0 | G57: 0 | H57: 0 | I57: 0 | J57: 0 | K57: 0 | L57: 0 | N57: 0 | O57: 0 | P57: 0 | Q57: 0 | R57: 0
C58: Da | D58: 9 | E58: 0 | F58: 0 | G58: 0 | H58: 0 | I58: 0 | J58: 0 | K58: 0 | L58: 0 | N58: 0 | O58: 0 | Q58: 0 | R58: 0
C59: A | D59: 10 | E59: 0 | F59: 0 | G59: 0 | H59: 0 | I59: 0 | J59: 0 | K59: 0 | L59: 0 | N59: 0 | O59: 0 | P59: 0 | Q59: 0 | R59: 0
C60: Da | D60: 11 | E60: 0 | F60: 0 | G60: 0 | H60: 0 | I60: 0 | J60: 0 | K60: 0 | L60: 0 | N60: 0 | O60: 0 | Q60: 0 | R60: 0
C61: A | D61: 12 | E61: 0 | F61: 0 | G61: 0 | H61: 0 | I61: 0 | J61: 0 | K61: 0 | L61: 0 | N61: 0 | O61: 0 | P61: 0 | Q61: 0 | R61: 0
C62: Da | D62: 13 | E62: 0 | F62: 0 | G62: 0 | H62: 0 | I62: 0 | J62: 0 | K62: 0 | L62: 0 | N62: 0 | O62: 0 | Q62: 0 | R62: 0
C63: A | D63: 14 | E63: 0 | F63: 0 | G63: 0 | H63: 0 | I63: 0 | J63: 0 | K63: 0 | L63: 0 | N63: 0 | O63: 0 | P63: 0 | Q63: 0 | R63: 0
C64: Da | D64: 15 | E64: 0 | F64: 0 | G64: 0 | H64: 0 | I64: 0 | J64: 0 | K64: 0 | L64: 0 | N64: 0 | O64: 0 | Q64: 0 | R64: 0
C65: A | D65: 16 | E65: 0 | F65: 0 | G65: 0 | H65: 0 | I65: 0 | J65: 0 | K65: 0 | L65: 0 | N65: 0 | O65: 0 | P65: 0 | Q65: 0 | R65: 0
C66: Da | D66: 17 | E66: 0 | F66: 0 | G66: 0 | H66: 0 | I66: 0 | J66: 0 | K66: 0 | L66: 0 | N66: 0 | O66: 0 | Q66: 0 | R66: 0
C67: A | D67: 17 | E67: 0 | F67: 0 | G67: 0 | H67: 0 | I67: 0 | J67: 0 | K67: 0 | L67: 0 | N67: 0 | O67: 0 | P67: 0 | Q67: 0 | R67: 0
C68: Da | D68: 18 | E68: 0 | F68: 0 | G68: 0 | H68: 0 | I68: 0 | J68: 0 | K68: 0 | L68: 0 | N68: 0 | O68: 0 | Q68: 0 | R68: 0
C69: A | D69: 19 | E69: 0 | F69: 0 | G69: 0 | H69: 0 | I69: 0 | J69: 0 | K69: 0 | L69: 0 | N69: 0 | O69: 0 | P69: 0 | Q69: 0 | R69: 0
C70: Da | D70: 20 | E70: 0 | F70: 0 | G70: 0 | H70: 0 | I70: 0 | J70: 0 | K70: 0 | L70: 0 | N70: 0 | O70: 0 | Q70: 0 | R70: 0
C71: A | D71: 21 | E71: 0 | F71: 0 | G71: 0 | H71: 0 | I71: 0 | J71: 0 | K71: 0 | L71: 0 | N71: 0 | O71: 0 | P71: 0 | Q71: 0 | R71: 0
C72: Da | D72: 22 | E72: 0 | F72: 0 | G72: 0 | H72: 0 | I72: 0 | J72: 0 | K72: 0 | L72: 0 | N72: 0 | O72: 0 | Q72: 0 | R72: 0
C73: A | D73: 23 | E73: 0 | F73: 0 | G73: 0 | H73: 0 | I73: 0 | J73: 0 | K73: 0 | L73: 0 | N73: 0 | O73: 0 | P73: 0 | Q73: 0 | R73: 0
C74: Da | D74: 24 | E74: 0 | F74: 0 | G74: 0 | H74: 0 | I74: 0 | J74: 0 | K74: 0 | L74: 0 | N74: 0 | O74: 0 | Q74: 0 | R74: 0
C75: A | D75: 25 | E75: 0 | F75: 0 | G75: 0 | H75: 0 | I75: 0 | J75: 0 | K75: 0 | L75: 0 | N75: 0 | O75: 0 | P75: 0 | Q75: 0 | R75: 0
C76: Da | D76: 26 | E76: 0 | F76: 0 | G76: 0 | H76: 0 | I76: 0 | J76: 0 | K76: 0 | L76: 0 | N76: 0 | O76: 0 | Q76: 0 | R76: 0
C77: A | D77: 27 | E77: 0 | F77: 0 | G77: 0 | H77: 0 | I77: 0 | J77: 0 | K77: 0 | L77: 0 | N77: 0 | O77: 0 | P77: 0 | Q77: 0 | R77: 0
C78: Da | D78: 28 | E78: 0 | F78: 0 | G78: 0 | H78: 0 | I78: 0 | J78: 0 | K78: 0 | L78: 0 | N78: 0 | O78: 0 | Q78: 0 | R78: 0
C79: A | D79: 29 | E79: 0 | F79: 0 | G79: 0 | H79: 0 | I79: 0 | J79: 0 | K79: 0 | L79: 0 | N79: 0 | O79: 0 | P79: 0 | Q79: 0 | R79: 0
C80: Da | D80: 30 | E80: 0 | F80: 0 | G80: 0 | H80: 0 | I80: 0 | J80: 0 | K80: 0 | L80: 0 | N80: 0 | O80: 0 | Q80: 0 | R80: 0
C81: A | D81: 33 | E81: 0 | F81: 0 | G81: 0 | H81: 0 | I81: 0 | J81: 0 | K81: 0 | L81: 0 | N81: 0 | O81: 0 | P81: 0 | Q81: 0 | R81: 0
C82: Da | D82: 34 | E82: 0 | F82: 0 | G82: 0 | H82: 0 | I82: 0 | J82: 0 | K82: 0 | L82: 0 | N82: 0 | O82: 0 | Q82: 0 | R82: 0
C83: A | D83: 35 | E83: 0 | F83: 0 | G83: 0 | H83: 0 | I83: 0 | J83: 0 | K83: 0 | L83: 0 | N83: 0 | O83: 0 | P83: 0 | Q83: 0 | R83: 0
C84: Da | D84: 36 | E84: 0 | F84: 0 | G84: 0 | H84: 0 | I84: 0 | J84: 0 | K84: 0 | L84: 0 | N84: 0 | O84: 0 | Q84: 0 | R84: 0
C85: A | D85: 37 | E85: 0 | F85: 0 | G85: 0 | H85: 0 | I85: 0 | J85: 0 | K85: 0 | L85: 0 | N85: 0 | O85: 0 | P85: 0 | Q85: 0 | R85: 0
C86: Da | D86: 38 | E86: 0 | F86: 0 | G86: 0 | H86: 0 | I86: 0 | J86: 0 | K86: 0 | L86: 0 | N86: 0 | O86: 0 | Q86: 0 | R86: 0
C87: A | D87: 39 | E87: 0 | F87: 0 | G87: 0 | H87: 0 | I87: 0 | J87: 0 | K87: 0 | L87: 0 | N87: 0 | O87: 0 | P87: 0 | Q87: 0 | R87: 0
C88: Da | D88: 40 | E88: 0 | F88: 0 | G88: 0 | H88: 0 | I88: 0 | J88: 0 | K88: 0 | L88: 0 | N88: 0 | O88: 0 | Q88: 0 | R88: 0
E89: 0 | F89: 0 | G89: 0 | H89: 0 | I89: 0 | J89: 0 | K89: 0 | L89: 0 | N89: 0 | O89: 0 | P89: 0 | Q89: 0 | R89: 0
A90: 33359 | B90: 33542 | C90: Da | D90: 0 | E90: 0 | F90: 0 | G90: 0 | H90: 0 | I90: 0 | J90: 0 | K90: 0 | L90: 0 | N90: 0 | O90: 0 | Q90: 0 | R90: 0
C91: A | D91: 0 | E91: 0 | F91: 0 | G91: 0 | H91: 0 | I91: 0 | J91: 0 | K91: 0 | L91: 0 | N91: 0 | O91: 0 | P91: 0 | Q91: 0 | R91: 0
A92: 33359 | B92: 33542 | C92: Da | D92: 1 | E92: 0 | F92: 0 | G92: 0 | H92: 0 | I92: 0 | J92: 0 | K92: 0 | L92: 0 | N92: 0 | O92: 0 | Q92: 0 | R92: 0
C93: A | D93: 2 | E93: 0 | F93: 0 | G93: 0 | H93: 0 | I93: 0 | J93: 0 | K93: 0 | L93: 0 | N93: 0 | O93: 0 | P93: 0 | Q93: 0 | R93: 0
C94: Da | D94: 3 | E94: 0 | F94: 0 | G94: 0 | H94: 0 | I94: 0 | J94: 0 | K94: 0 | L94: 0 | N94: 0 | O94: 0 | Q94: 0 | R94: 0
C95: A | D95: 4 | E95: 0 | F95: 0 | G95: 0 | H95: 0 | I95: 0 | J95: 0 | K95: 0 | L95: 0 | N95: 0 | O95: 0 | P95: 0 | Q95: 0 | R95: 0
C96: Da | D96: 5 | E96: 0 | F96: 0 | G96: 0 | H96: 0 | I96: 0 | J96: 0 | K96: 0 | L96: 0 | N96: 0 | O96: 0 | Q96: 0 | R96: 0
C97: A | D97: 6 | E97: 0 | F97: 0 | G97: 0 | H97: 0 | I97: 0 | J97: 0 | K97: 0 | L97: 0 | N97: 0 | O97: 0 | P97: 0 | Q97: 0 | R97: 0
C98: Da | D98: 7 | E98: 0 | F98: 0 | G98: 0 | H98: 0 | I98: 0 | J98: 0 | K98: 0 | L98: 0 | N98: 0 | O98: 0 | Q98: 0 | R98: 0
C99: A | D99: 8 | E99: 0 | F99: 0 | G99: 0 | H99: 0 | I99: 0 | J99: 0 | K99: 0 | L99: 0 | N99: 0 | O99: 0 | P99: 0 | Q99: 0 | R99: 0
C100: Da | D100: 9 | E100: 0 | F100: 0 | G100: 0 | H100: 0 | I100: 0 | J100: 0 | K100: 0 | L100: 0 | N100: 0 | O100: 0 | Q100: 0 | R100: 0
...
