Workbook

Sheet cop
A18: RETRIBUZIONE PENSIONISTICA
A20: COMPARTO SCUOLA
A21: DAL 1 maggio 1990 AL 31 dicembre 2019
E22: Versione del 1° gennaio 2020

Sheet CCNL
A1: Elenco CCNL del Comparto scuola utilizzati per la compilazione delle tabelle:
A4: 1) | B4: Decreto del Presidente della Repubblica 23 agosto 1988, n. 399 | H4: 4) | I4: CCNL DEL COMPARTO DEL PERSONALE DELLA SCUOLA 2002-2005
A5: 1.a | B5: Norme risultanti dalla disciplina prevista dall'accordo per il triennio 1988-90 | H5: 4.a | I5: PARTE ECONOMICA, BIENNIO 2002-2003
B6: del 9 giugno 1988 relativo al personale del comparto scuola | I6: Ambito: Comparto Comparto: Scuola
B7: Estremi G.U.: | I7: Estremi G.U.:
B8: S.O. Gazzetta Ufficiale n. 213 del 10 settembre 1988 - Serie Generale | I8: Gazzetta Ufficiale n. 188 del 14 agosto 2003 - Serie Generale
B9: Data sottoscrizione: 9 giugno 1988 | G9: Data effetti giuridici: 1 gennaio 1988 | I9: Data di sottoscrizione: 24 luglio 2003 - Data effetti giuridici: 01/01/2002
B10: Data effetti economici: 1 luglio 1988 | I10: Data effetti economici: | K10: 37257 | L10: Decorrenze: 0101/2002 - 01/01/2003
B11: Decorrenze aumenti contrattuali previsti: | H11: 4.b | I11: PARTE ECONOMICA, BIENNIO 2004-2005
B12: 32325 | C12: 32509 | D12: 32994 | I12: Ambito: Comparto Comparto: Scuola
A13: 2) | B13: CCNL DEL COMPARTO DEL PERSONALE DELLA SCUOLA 1994-1997 | I13: Estremi G.U.:
A14: 2.a | B14: PARTE ECONOMICA, BIENNIO 1994-1995 | I14: Gazzetta Ufficiale n. 195 del 20 dicembre 2005 - Serie Generale
B15: Estremi G.U.: | I15: Data di sottoscrizione: 07/12/2005 - Data effetti giuridici: 01/01/2004
B16: Gazzetta Ufficiale n. 207 del 5 settembre 1995 - Suppl.to ordinario n. 109 | I16: Data effetti economici: | K16: 37987 | L16: Decorrenze: 0101/2004 - 01/02/2005
B17: Data sottoscrizione: 4 agosto 1995 | G17: Data effetti giuridici: 4 agosto 1995 | H17: 5) | I17: CCNL DEL COMPARTO DEL PERSONALE DELLA SCUOLA 2006-2009
B18: Data effetti economici: 3 settembre 1995 | H18: 5.a | I18: PARTE ECONOMICA, BIENNIO 2006-2007
B19: Decorrenze aumenti contrattuali previsti: | I19: Ambito: Comparto Comparto: Scuola
B20: 34700 | C20: 35034 | D20: 35065 | E20: 35370 | I20: Estremi G.U.:
A21: 2.b | B21: PARTE ECONOMICA, BIENNIO 1996-1997 | I21: Gazzetta Ufficiale n. 292 del 17 dicembre 2007 - (Suppl. ordinario n. 274)
B22: Ambito: Comparto Comparto: Scuola | I22: Data di sottoscrizione: 29 novembre 2007 | O22: Data effetti giuridici:
B23: Estremi G.U.: | I23: Data effetti economici: | K23: 38718
B24: Gazzetta Ufficiale n. 190 del 14 agosto 1996 - Suppl.to ordinario n. 137 | I24: Sequenza contrattuale sottoscritta: 08/04/2008 Estremi G.U.: n. 94 del 21 aprile 2008.
B25: Data sottoscrizione: 1 agosto 1996 | G25: Data effetti giuridici: 1 gennaio 1996 | I25: Decorrenze aumenti contrattuali previsti: 01/01/2006 - 01/01/2007 - 01/02/2007 -(modificato con DL 159/2007) - 31/12/2007 Sequenza contrattuale del 8/4/2007
B26: Data effetti economici: 1 gennaio 1996
B27: Decorrenze aumenti contrattuali previsti: | H27: 5.a | I27: PARTE ECONOMICA, BIENNIO 2008-2009
B28: 35065 | C28: 35370 | D28: 35612 | I28: Ambito: Comparto Comparto: Scuola
A29: 3) | B29: CCNL DEL COMPARTO DEL PERSONALE DELLA SCUOLA 1998-2001 | I29: Estremi Pubblicazione Gazzetta Ufficiale:
A30: 3.a | B30: PARTE ECONOMICA, BIENNIO 1998-1999 | I30: Gazzetta Ufficiale – Serie Generale n. 28 del 4 febbraio 2009
B31: Ambito: Comparto Comparto: Scuola | I31: Data di sottoscrizione: 23 gennaio 2009 | M31: Data effetti economici: | O31: 39448
B32: Estremi G.U.: | I32: Decorrenze aumenti contrattuali previsti: 01/04/2008 - 01/07/2008 - 01/01/2009
B33: Gazzetta Ufficiale n. 133 del 9 giugno 1999 - Suppl.to ordinario n.109 | H33: 6) | I33: L'istituto dell'indennità di vacanza contrattuale viene applicato per il 2010 (con riferimento al periodo contrattuale 2010-2012):
B34: Data sottoscrizione:26 maggio 1999 | G34: Data effetti giuridici:26 maggio 1999
B35: Data effetti economici: 1 gennaio 1998 | I35: Decorrenze vacanze contrattuali previste:
B36: Decorrenze aumenti contrattuali previsti: | I36: 40269 | J36: 40360
B37: 36100 | C37: 36312 | H37: 7) | I37: CCNL DEL COMPARTO DEL PERSONALE DELLA SCUOLA 2016-2018
A38: 3.b | B38: PARTE ECONOMICA, BIENNIO 2000-2001 | I38: Estremi G.U.: Gazzetta Ufficiale Serie Generale n. 141 del 20/06/2018 Suppl. Ord. n. 33.
B39: Ambito: Comparto Comparto: Scuola | I39: Data di sottoscrizione: 19 aprile 2018 - Data effetti giuridici: 01/01/2016
B40: Estremi G.U.: | I40: Data effetti economici: | K40: 42370
B41: Gazzetta Ufficiale n. 70 del 24 marzo 2001 - Serie Generale | I41: Decorrenze aumenti contrattuali previsti: 01/01/2016 - 01/01/2017 - 01/03/2018
B42: Data di sottoscrizione: 15 marzo 2001 | G42: Data effetti giuridici: | H42: 8) | I42: IVC per l’anno 2019 in applicazione dell’art. 1, c. 440 della legge n. 145/2018
...

Sheet Avvertenze
A2: Nelle allegate tabelle, sono presenti:
A3: 1. gli importi base previsti dai CCNL del personale della scuola, indicati nella pagina precedente, a partire dal 1 maggio 1990 (DPR 399/88)
A4: 2. gli importi dell'Indennità integrativa speciale sono quelli riportati nel CCNL del personale della scuola 2002-2005, pubblicato sulla G.U. n. 188 del 14 agosto 2003.
A5: 3. Sono escluse tutte le retribuzioni legate alla carriera dei singoli dipendenti (Retribuzione Individuale di Anzianità, Assegno ad personam, retribuzione accessoria, ecc.)
A6: in particolare, non è indicato l'importo dell'eventuale assegno ad personam, determinato in base alla nuova classificazione delle posizioni stipendiali previste dal CCNL
A7: del personale della scuola per il quadriennio 1994-1997, pubblicato sulla Gazzetta Ufficiale n. 207 del 5 settembre 1995 - Supplemento ordinario n. 109
A9: Le fasce retributive, per le decorrenze dal 1° maggio 1990 al 31 dicembre 1995, sono quelle previste dal DPR 23 agosto 1988, n. 399:
A10: 1 | B10: Ausiliari ed equiparati: dalla Fascia I alla fascia XXI
A11: 2 | B11: Guardarobieri, aiutanti cuochi ed equiparati: dalla Fascia I alla fascia XXI
A12: 3 | B12: Collaboratore tecnico, cuoco, infermiere ed equiparati: dalla Fascia I alla fascia XXI
A13: 4 | B13: Collaboratore amministrativo ed equiparati: dalla Fascia I alla fascia XXI
A14: 5 | B14: Coordinatore amministrativo ed equiparati: dalla Fascia I alla fascia XXI
A15: 6 | B15: Docenti scuola materna ed elementare ed equiparati: dalla Fascia I alla fascia XXI
A16: 7 | B16: Docenti diplomati istituti di scuola II grado ed equiparati: dalla Fascia I alla fascia XXI
A17: 8 | B17: Docenti di scuola media ed equiparati: dalla Fascia I alla fascia XXI
A18: 9 | B18: Docenti laureati istituti di scuola II grado ed equiparati: dalla Fascia I alla fascia XXII
A19: 10 | B19: Direttivi, capi d'istituti ed equiparati: dalla Fascia I alla fascia XXI
A21: Le fasce retributive, per le decorrenze dal 1° gennaio 1996, sono quelle previste CCNL del comparto del personale della scuola 1994-1997:
A22: 1 | B22: Collaboratori scolastici ed equiparati: dalla posizione stipendiale 0-2, 3-8, 9-14, 15-20, 21-27, 28-34 e 35
A23: 2 | B23: Collaboratore scolastico (dal 1° gen. 2002 Collaboratore scolastico istruttore): dalla posizione stipendiale 0-2, 3-8, 9-14, 15-20, 21-27, 28-34 e 35
A24: 3 | B24: Assistente tecnico, cuoco, infermiere ed equiparati (dal 1° gen. 2002 anche per Guardarobiere): dalla posizione stipendiale 0-2, 3-8, 9-14, 15-20, 21-27, 28-34 e 35
A25: 4 | B25: Assistente amministrativo ed equiparati : dalla posizione stipendiale 0-2, 3-8, 9-14, 15-20, 21-27, 28-34 e 35
A26: 5 | B26: Responsabile amministrativo (dal 1° gen. 2002 Coordinatore amministrativo e tecnico): dalla posizione stipendiale 0-2, 3-8, 9-14, 15-20, 21-27, 28-34 e 35
A27: 6 | B27: Direttore dei servizi generali e amministrativi: dalla posizione stipendiale 0-2, 3-8, 9-14, 15-20, 21-27, 28-34 e 35
A28: 7 | B28: Docenti scuola materna ed elementare ed equiparati: dalla posizione stipendiale 0-2, 3-8, 9-14, 15-20, 21-27, 28-34 e 35
A29: 8 | B29: Docenti diplomati istituti di scuola II grado ed equiparati: dalla posizione stipendiale 0-2, 3-8, 9-14, 15-20, 21-27, 28-34 e 35
A30: 9 | B30: Docenti di scuola media ed equiparati: dalla posizione stipendiale 0-2, 3-8, 9-14, 15-20, 21-27, 28-34 e 35
A31: 10 | B31: Docenti laureati istituti di scuola II grado ed equiparati: dalla posizione stipendiale 0-2, 3-8, 9-14, 15-20, 21-27, 28-34 e 35
A32: 11 | B32: Direttivi, capi d'istituti ed equiparati: dalla posizione stipendiale 0-2, 3-8, 9-14, 15-20, 21-27, 28-34 e 35

Sheet Dichiarazione dei servizi DSGA
A1: N. | B1: A. S. | C1: DAL | D1: AL | E1: PRESSO | F1: INCARICO ANNUALE | G1: INCARICHI TEMPORENEI
G2: MESI | H2: GIORNI
A3: 1) | B3: 2001/02 | C3: 37135 | D3: 37499 | E3: scuola dove si è prestato servizio | F3: 1 | G3: 0 | H3: 0
A4: 2) | B4: 2002/03 | C4: 37500 | D4: 37864 | E4: scuola dove si è prestato servizio | F4: 1 | G4: 0 | H4: 0
A5: 3) | B5: 2003/04 | C5: 37865 | D5: 38230 | E5: scuola dove si è prestato servizio | F5: 1 | G5: 0 | H5: 0
A6: 4) | B6: 2004/05 | C6: 38231 | D6: 38291 | E6: scuola dove si è prestato servizio | F6: 0 | G6: 2 | H6: 0
A7: 5) | B7: 2005/06 | C7: 38596 | D7: 38960 | E7: scuola dove si è prestato servizio | F7: 1 | G7: 0 | H7: 0
A8: 6) | B8: 2006/07 | C8: 38961 | D8: 39325 | E8: scuola dove si è prestato servizio | F8: 1 | G8: 0 | H8: 0
A9: 7) | B9: 2007/08 | C9: 39326 | D9: 39691 | E9: scuola dove si è prestato servizio | F9: 1 | G9: 0 | H9: 0
A10: 8) | B10: 2008/09 | C10: 39692 | D10: 40069 | E10: scuola dove si è prestato servizio | F10: 0 | G10: 3 | H10: 14
A11: 9) | B11: 2009/10 | C11: 40057 | D11: 40421 | E11: scuola dove si è prestato servizio | F11: 1 | G11: 0 | H11: 0
A12: 10) | B12: 2010/11 | C12: 40422 | D12: 40786 | E12: scuola dove si è prestato servizio | F12: 1 | G12: 0 | H12: 0
A13: 11) | B13: 2011/12 | C13: 40787 | D13: 41152 | E13: scuola dove si è prestato servizio | F13: 1 | G13: 0 | H13: 0
A14: 12) | B14: 2012/13 | C14: 41153 | D14: 41517 | E14: scuola dove si è prestato servizio | F14: 1 | G14: 0 | H14: 0
... A23: 21) | B23: 2021/22 | C23: 44440 | D23: 44804 | E23: scuola dove si è prestato servizio | F23: 0 | G23: 0 | H23: 0
A25: Totale anzianità incarichi annuali (da usare per calcolare il differenziale nel foglio simulatore) | F25: =SUM(F3:F23) -> 18
A27: Totale anzianità incarichi suppelnza temporanea | G27: =SUM(G3:G23) -> 5 | H27: =SUM(H3:H23) -> 14
B28: Roma li, 00/00/2021 | E28: Cognome Nome

Sheet simulatore
G1: Nuova | L1: Differenza stipendiale tra anzianità in godimento di AA e anzianità maturata da DSGA | P1: Vai al foglio "Totale percepire" e inserire gli importi del differenziale per A.S.
E2: A.A. | G2: PassWeb | H2: DSGA | L2: =H3 -> TOTALE (comprensivo della 13^) | Q2: QUOTA MENSILE (in dodicesimi)
A3: Decorrenza | C3: Fasce retributive | E3: TOTALE (comprensivo della 13^) | G3: Imponibile quota A pensione | H3: TOTALE (comprensivo della 13^) | J3: Stessa fascia differenza tra AA e DSGA | L3: =E2 -> A.A. | M3: indennità percepita funzione superiore | N3: =H2 -> DSGA | O3: differenza | Q3: =E2 -> A.A. | R3: indennità percepita funzione superiore | S3: =H2 -> DSGA | T3: differenza
A4: Dal | B4: Al | G4: Imponibile contributivo | L4: 23784.13 | M4: 1277.51 | N4: 30646.17 | O4: =N4-M4-L4 -> 5584.53 | Q4: =L4/12 -> 1982.01 | R4: =M4/12 -> 106.46 | S4: =N4/12 -> 2553.85 | T4: =S4-R4-Q4 -> 465.38
A5: (a) | B5: (b) | C5: (c) | E5: (m) | H5: (m) | J5: (m) | L5: Vai al foglio "Dichiarazione dei servizi DSGA" e calcola l'anzianità
A6: 32994 | B6: 33177 | C6: Da | D6: 0 | E6: 11310.9 | G6: 11314.3 | H6: 0
C7: A | D7: 1 | E7: 21900956 | G7: 21907540 | H7: 0
A8: 32994 | B8: 33177 | C8: Da | D8: 2 | E8: 11579.45 | G8: 11606.81 | H8: 0
C9: A | D9: 3 | E9: 22420942 | G9: 22473918 | H9: 0
C10: Da | D10: 4 | E10: 11854.72 | G10: 11906.65 | H10: 0
C11: A | D11: 5 | E11: 22953939 | G11: 23054489 | H11: 0
C12: Da | D12: 6 | E12: 12244.14 | G12: 12330.81 | H12: 0
C13: A | D13: 7 | E13: 23707961 | G13: 23875777 | H13: 0
C14: Da | D14: 8 | E14: 12566.41 | G14: 12681.84 | H14: 0
C15: A | D15: 9 | E15: 24331963 | G15: 24555466 | H15: 0
C16: Da | D16: 10 | E16: 12875.24 | G16: 13018.24 | H16: 0
C17: A | D17: 11 | E17: 24929941 | G17: 25206828 | H17: 0
C18: Da | D18: 12 | E18: 13184.09 | G18: 13354.64 | H18: 0
C19: A | D19: 13 | E19: 25527958 | G19: 25858189 | H19: 0
C20: Da | D20: 14 | E20: 13492.93 | G20: 13691.04 | H20: 0
... C46: Da | D46: 40 | E46: 16111.37 | G46: 16543.12 | H46: 0
E47: 31195962 | G47: 32031947 | H47: 0
A48: 33178 | B48: 33358 | C48: Da | D48: 0 | E48: 11528.3 | G48: 11514.98 | H48: 0
C49: A | D49: 1 | E49: 22321901 | G49: 22296110 | H49: 0
A50: 33178 | B50: 33358 | C50: Da | D50: 2 | E50: 11796.85 | G50: 11807.49 | H50: 0
C51: A | D51: 3 | E51: 22841887 | G51: 22862489 | H51: 0
C52: Da | D52: 4 | E52: 12072.13 | G52: 12107.33 | H52: 0
C53: A | D53: 5 | E53: 23374903 | G53: 23443060 | H53: 0
C54: Da | D54: 6 | E54: 12461.54 | G54: 12531.49 | H54: 0
C55: A | D55: 7 | E55: 24128906 | G55: 24264348 | H55: 0
C56: Da | D56: 8 | E56: 12783.81 | G56: 12882.52 | H56: 0
C57: A | D57: 9 | E57: 24752908 | G57: 24944037 | H57: 0
C58: Da | D58: 10 | E58: 13092.65 | G58: 13218.92 | H58: 0
C59: A | D59: 11 | E59: 25350905 | G59: 25595398 | H59: 0
C60: Da | D60: 12 | E60: 13401.49 | G60: 13555.32 | H60: 0
C61: A | D61: 13 | E61: 25948903 | G61: 26246759 | H61: 0
C62: Da | D62: 14 | E62: 13710.33 | G62: 13891.72 | H62: 0
... C88: Da | D88: 40 | E88: 16328.77 | G88: 16743.8 | H88: 0
E89: 31616907 | G89: 32420518 | H89: 0
A90: 33359 | B90: 33542 | C90: Da | D90: 0 | E90: 11817.8 | G90: 11782.21 | H90: 0
...

Sheet Totale percepire
D1: vengono riportati i dati dal simulatore
D2: =D15 -> TOTALE (comprensivo della 13^)
D3: =D16 -> A.A. | E3: indennità percepita funzione superiore | F3: =F16 -> DSGA | G3: differenza
D4: =simulatore!L4 -> 23784.13 | E4: =simulatore!M4 -> 1277.51 | F4: =simulatore!N4 -> 30646.17 | G4: =simulatore!O4 -> 5584.53
D5: QUOTA MENSILE (in dodicesimi)
D6: =D3 -> A.A. | E6: indennità percepita funzione superiore | F6: =F3 -> DSGA | G6: differenza
D7: =D4/12 -> 1982.01 | E7: =E4/12 -> 106.46 | F7: =F4/12 -> 2553.85 | G7: =G4/12 -> 465.38
D8: Utile per chi cambia fascia stipendiale durante l'a.s.
D9: Moltiplico per numero mesi | F9: 4
D10: =D6 -> A.A. | E10: indennità percepita funzione superiore | F10: =F6 -> DSGA | G10: differenza
D11: =D7*F9 -> 7928.04 | E11: =E7*F9 -> 425.84 | F11: =F7*F9 -> 10215.4 | G11: =G7*F9 -> 1861.52
D12: Riporta i dati nello schema sottostante
A14: Differenza stipendiale tra anzianità in godimento di AA e anzianità maturata da DSGA
A15: N. | B15: A. S. | C15: Quote mensili | D15: =simulatore!L2 -> TOTALE (comprensivo della 13^)
D16: =simulatore!L3 -> A.A. | E16: indennità percepita funzione superiore | F16: =simulatore!N3 -> DSGA | G16: differenza
A17: Cambio di fascia retributiva nello stesso a.s. / aumenti contrattuali
A18: 1) | B18: 2016/17 | C18: 12 | D18: 23784.13 | E18: 1277.51 | F18: 30646.17 | G18: =F18-E18-D18 -> 5584.53
A19: 1) | B19: 2016/17 | C19: 0 | G19: =F19-E19-D19 -> 0
A20: 1) | B20: 2016/17 | C20: 0 | G20: =F20-E20-D20 -> 0
A21: 2) | B21: 2017/18 | C21: 12 | D21: 23784.13 | E21: 1277.51 | F21: 30646.17 | G21: =F21-E21-D21 -> 5584.53
A22: 2) | B22: 2017/18 | C22: 0 | G22: =F22-E22-D22 -> 0
A23: 2) | B23: 2017/18 | C23: 0 | G23: =F23-E23-D23 -> 0
A24: 3) | B24: 2018/19 | C24: 12 | D24: 23784.13 | E24: 1277.51 | F24: 30646.17 | G24: =F24-E24-D24 -> 5584.53
A25: 3) | B25: 2018/19 | C25: 0 | G25: =F25-E25-D25 -> 0
A26: 3) | B26: 2018/19 | C26: 0 | G26: =F26-E26-D26 -> 0
A27: 4) | B27: 2019/20 | C27: 12 | D27: 23784.13 | E27: 1277.51 | F27: 30646.17 | G27: =F27-E27-D27 -> 5584.53
A28: 4) | B28: 2019/20 | C28: 0 | G28: =F28-E28-D28 -> 0
A29: 4) | B29: 2019/20 | C29: 0 | G29: =F29-E29-D29 -> 0
A30: 5) | B30: 2020/21 | C30: 12 | D30: 23784.13 | E30: 1277.51 | F30: 30646.17 | G30: =F30-E30-D30 -> 5584.53
A31: 5) | B31: 2020/21 | C31: 0 | G31: =F31-E31-D31 -> 0
A32: 5) | B32: 2020/21 | C32: 0 | G32: =F32-E32-D32 -> 0
A33: Per un totale di | G33: =SUM(G18:G32) -> 27922.65
B34: Roma li, 00/00/2021 | F34: Cognome Nome

Sheet Tabella di riferimento
A1: Differenza stipendiale tra anzianità in godimento di AA e anzianità maturata da DSGA
A2: Retribuzione da ultima tabella contrattuale | C2: Fascia stipendiale | E2: TOTALE (comprensivo della 13^)
E3: Fascia stipendile da AA | F3: Anzianità DSGA | G3: Da percepire
A4: 43647 | B4: 43830 | C4: Da | D4: 0 | E4: 18978.97 | F4: 25061.64 | G4: =F4-E4 -> 6082.67
C5: A | D5: 8 | E5: 36748410 | F5: 48526102
A6: 43647 | B6: 43830 | C6: Da | D6: 9 | E6: 20915.34 | G6: =F4-E6 -> 4146.3
C7: A | D7: 14 | E7: 40497745
C8: Da | D8: 15 | E8: 22352.1 | G8: =F4-E8 -> 2709.54
C9: A | D9: 20 | E9: 43279701
C10: Da | D10: 21 | E10: 23784.13 | G10: =F4-E10 -> 1277.51
C11: A | D11: 27 | E11: 46052497
C12: Da | D12: 28 | E12: 24815.26 | G12: =F4-E12 -> 246.38
C13: A | D13: 34 | E13: 48049043
C14: Da | D14: 35 | E14: 25601.49 | G14: =F4-E14 -> -539.85
C15: A | E15: 49571397
A17: 43647 | B17: 43830 | C17: Da | D17: 0 | E17: 18978.97 | G17: =F19-E17 -> 9043.78
C18: A | D18: 8 | E18: 36748410
A19: 43647 | B19: 43830 | C19: Da | D19: 9 | E19: 20915.34 | F19: 28022.75 | G19: =F19-E19 -> 7107.41
C20: A | D20: 14 | E20: 40497745 | F20: 54259610
C21: Da | D21: 15 | E21: 22352.1 | G21: =F19-E21 -> 5670.65
C22: A | D22: 20 | E22: 43279701
C23: Da | D23: 21 | E23: 23784.13 | G23: =F19-E23 -> 4238.62
C24: A | D24: 27 | E24: 46052497
C25: Da | D25: 28 | E25: 24815.26 | G25: =F19-E25 -> 3207.49
C26: A | D26: 34 | E26: 48049043
C27: Da | D27: 35 | E27: 25601.49 | G27: =F19-E27 -> 2421.26
C28: A | E28: 49571397
A30: 43647 | B30: 43830 | C30: Da | D30: 0 | E30: 18978.97 | G30: =F34-E30 -> 11667.2
C31: A | D31: 8 | E31: 36748410
A32: 43647 | B32: 43830 | C32: Da | D32: 9 | E32: 20915.34 | G32: =F34-E32 -> 9730.83
C33: A | D33: 14 | E33: 40497745
C34: Da | D34: 15 | E34: 22352.1 | F34: 30646.17 | G34: =F34-E34 -> 8294.07
C35: A | D35: 20 | E35: 43279701 | F35: 59339260
C36: Da | D36: 21 | E36: 23784.13 | G36: =F34-E36 -> 6862.04
C37: A | D37: 27 | E37: 46052497
C38: Da | D38: 28 | E38: 24815.26 | G38: =F34-E38 -> 5830.91
C39: A | D39: 34 | E39: 48049043
C40: Da | D40: 35 | E40: 25601.49 | G40: =F34-E40 -> 5044.68
C41: A | E41: 49571397
A43: 43647 | B43: 43830 | C43: Da | D43: 0 | E43: 18978.97 | F43: 25061.64 | G43: =F49-E43 -> 14466
...

Sheet Assistenti_Amm.vo
A1: Personale ATA: | C1: Collaboratore amministrativo--> dal 1-1-1995 Assistente amministrativo ed equiparati | N1: Voci retributive raggruppate per Posizione assicurativa | Q1: Voce unica | R1: Nuova | S1: 17
A2: 4 | Q2: Nuova PA | R2: PassWeb
A3: Decorrenza | C3: Fasce retributive | E3: Emolumenti contrattuali | K3: TOTALE (senza 13^) | L3: TOTALE (comprensivo della 13^) | N3: Retrib. Fisse e Cont.va | O3: Retrib.ne Base per il 18% | P3: Retr. Access. | Q3: Imponibile contributivo +18% e acc. | R3: Imponibile quota A pensione
A4: Dal | B4: Al | E4: Stipendio annuo | F4: Indennità funzione | G4: art. 7 L. 438/92 | H4: I.I.S. | I4: Vacanza contr.le | J4: 13^ da col.(d) a (f) | P4: CIA pers. ATA (art. 25 c.c.n.i. 31 agosto 1999) | Q4: Imponibile contributivo | R4: Imponibile contributivo
A5: (a) | B5: (b) | C5: (c) | E5: (d) | F5: (e) | G5: (f) | H5: (g) | I5: (h) | J5: (i) | K5: (l) | L5: (m) | N5: (d)+(e)+(f)+(g)+(h) | O5: (d)+(e)+(f)+(h)
A6: 32994 | B6: 33177 | C6: Da | D6: 0 | E6: 4412.61 | F6: 440.02 | G6: 0 | H6: 5588.2 | I6: 0 | J6: 870.07 | K6: 10440.83 | L6: 11310.9 | N6: 10440.83 | O6: 4852.63 | Q6: 12184.37 | R6: 11314.3
C7: A | D7: 1 | E7: 8544004 | F7: 851998 | G7: 0 | H7: 10820264 | I7: 0 | J7: 1684690 | K7: 20216266 | L7: 21900956 | N7: 20216266 | O7: 9396002 | P7: 0 | Q7: 23592230 | R7: 21907540
A8: 32994 | B8: 33177 | C8: Da | D8: 2 | E8: 4641.91 | F8: 458.61 | G8: 0 | H8: 5588.2 | I8: 0 | J8: 890.73 | K8: 10688.72 | L8: 11579.45 | N8: 10688.72 | O8: 5100.52 | Q8: 12497.54 | R8: 11606.81
C9: A | D9: 3 | E9: 8987991 | F9: 887993 | G9: 0 | H9: 10820264 | I9: 0 | J9: 1724694 | K9: 20696248 | L9: 22420942 | N9: 20696248 | O9: 9875984 | P9: 0 | Q9: 24198612 | R9: 22473918
C10: Da | D10: 4 | E10: 4871.22 | F10: 483.4 | G10: 0 | H10: 5588.2 | I10: 0 | J10: 911.9 | K10: 10942.82 | L10: 11854.72 | N10: 10942.82 | O10: 5354.62 | Q10: 12818.55 | R10: 11906.65
C11: A | D11: 5 | E11: 9431997 | F11: 935993 | G11: 0 | H11: 10820264 | I11: 0 | J11: 1765685 | K11: 21188254 | L11: 22953939 | N11: 21188254 | O11: 10367990 | P11: 0 | Q11: 24820174 | R11: 23054489
C12: Da | D12: 6 | E12: 5199.69 | F12: 514.39 | G12: 0 | H12: 5588.2 | I12: 0 | J12: 941.86 | K12: 11302.28 | L12: 12244.14 | N12: 11302.28 | O12: 5714.08 | Q12: 13272.67 | R12: 12330.81
C13: A | D13: 7 | E13: 10068004 | F13: 995998 | G13: 0 | H13: 10820264 | I13: 0 | J13: 1823695 | K13: 21884266 | L13: 23707961 | N13: 21884266 | O13: 11064002 | P13: 0 | Q13: 25699473 | R13: 23875777
C14: Da | D14: 8 | E14: 5466.18 | F14: 545.38 | G14: 0 | H14: 5588.2 | I14: 0 | J14: 966.65 | K14: 11599.76 | L14: 12566.41 | N14: 11599.76 | O14: 6011.56 | Q14: 13648.49 | R14: 12681.84
C15: A | D15: 9 | E15: 10584000 | F15: 1056003 | G15: 0 | H15: 10820264 | I15: 0 | J15: 1871695 | K15: 22460267 | L15: 24331963 | N15: 22460267 | O15: 11640003 | P15: 0 | Q15: 26427162 | R15: 24555466
C16: Da | D16: 10 | E16: 5726.47 | F16: 570.17 | G16: 0 | H16: 5588.2 | I16: 0 | J16: 990.4 | K16: 11884.84 | L16: 12875.24 | N16: 11884.84 | O16: 6296.64 | Q16: 14008.64 | R16: 13018.24
C17: A | D17: 11 | E17: 11087992 | F17: 1104003 | G17: 0 | H17: 10820264 | I17: 0 | J17: 1917682 | K17: 23012259 | L17: 24929941 | N17: 23012259 | O17: 12191995 | P17: 0 | Q17: 27124509 | R17: 25206828
C18: Da | D18: 12 | E18: 5986.77 | F18: 594.96 | G18: 0 | H18: 5588.2 | I18: 0 | J18: 1014.16 | K18: 12169.93 | L18: 13184.09 | N18: 12169.93 | O18: 6581.73 | Q18: 14368.8 | R18: 13354.64
C19: A | D19: 13 | E19: 11592003 | F19: 1152003 | G19: 0 | H19: 10820264 | I19: 0 | J19: 1963688 | K19: 23564270 | L19: 25527958 | N19: 23564270 | O19: 12744006 | P19: 0 | Q19: 27821876 | R19: 25858189
C20: Da | D20: 14 | E20: 6247.06 | F20: 619.75 | G20: 0 | H20: 5588.2 | I20: 0 | J20: 1037.92 | K20: 12455.01 | L20: 13492.93 | N20: 12455.01 | O20: 6866.81 | Q20: 14728.96 | R20: 13691.04
C21: A | D21: 15 | E21: 12095995 | F21: 1200003 | G21: 0 | H21: 10820264 | I21: 0 | J21: 2009693 | K21: 24116262 | L21: 26125956 | N21: 24116262 | O21: 13295998 | P21: 0 | Q21: 28519243 | R21: 26509550
C22: Da | D22: 16 | E22: 6507.36 | F22: 650.74 | G22: 0 | H22: 5588.2 | I22: 0 | J22: 1062.19 | K22: 12746.3 | L22: 13808.49 | N22: 12746.3 | O22: 7158.1 | Q22: 15096.95 | R22: 14034.76
C23: A | D23: 17 | E23: 12600006 | F23: 1260008 | G23: 0 | H23: 10820264 | I23: 0 | J23: 2056687 | K23: 24680278 | L23: 26736965 | N23: 24680278 | O23: 13860014 | P23: 0 | Q23: 29231771 | R23: 27175085
C24: Da | D24: 18 | E24: 6767.65 | F24: 675.53 | G24: 0 | H24: 5588.2 | I24: 0 | J24: 1085.95 | K24: 13031.38 | L24: 14117.33 | N24: 13031.38 | O24: 7443.18 | Q24: 15457.1 | R24: 14371.15
C25: A | D25: 19 | E25: 13103998 | F25: 1308008 | G25: 0 | H25: 10820264 | I25: 0 | J25: 2102692 | K25: 25232270 | L25: 27334963 | N25: 25232270 | O25: 14412006 | P25: 0 | Q25: 29929119 | R25: 27826427
C26: Da | D26: 20 | E26: 7027.95 | F26: 700.32 | G26: 0 | H26: 5588.2 | I26: 0 | J26: 1109.71 | K26: 13316.47 | L26: 14426.18 | N26: 13316.47 | O26: 7728.27 | Q26: 15817.27 | R26: 14707.56
C27: A | D27: 21 | E27: 13608009 | F27: 1356009 | G27: 0 | H27: 10820264 | I27: 0 | J27: 2148698 | K27: 25784281 | L27: 27932980 | N27: 25784281 | O27: 14964017 | P27: 0 | Q27: 30626505 | R27: 28477807
C28: Da | D28: 22 | E28: 7170.49 | F28: 712.71 | G28: 0 | H28: 5588.2 | I28: 0 | J28: 1122.62 | K28: 13471.4 | L28: 14594.02 | N28: 13471.4 | O28: 7883.2 | Q28: 16013 | R28: 14890.38
C29: A | D29: 23 | E29: 13884005 | F29: 1379999 | G29: 0 | H29: 10820264 | I29: 0 | J29: 2173695 | K29: 26084268 | L29: 28257963 | N29: 26084268 | O29: 15264004 | P29: 0 | Q29: 31005492 | R29: 28831796
C30: Da | D30: 24 | E30: 7313.03 | F30: 731.3 | G30: 0 | H30: 5588.2 | I30: 0 | J30: 1136.04 | K30: 13632.53 | L30: 14768.57 | N30: 13632.53 | O30: 8044.33 | Q30: 16216.55 | R30: 15080.51
C31: A | D31: 25 | E31: 14160001 | F31: 1415994 | G31: 0 | H31: 10820264 | I31: 0 | J31: 2199680 | K31: 26396259 | L31: 28595939 | N31: 26396259 | O31: 15575995 | P31: 0 | Q31: 31399619 | R31: 29199939
C32: Da | D32: 26 | E32: 7455.57 | F32: 743.7 | G32: 0 | H32: 5588.2 | I32: 0 | J32: 1148.96 | K32: 13787.47 | L32: 14936.43 | N32: 13787.47 | O32: 8199.27 | Q32: 16412.3 | R32: 15263.34
C33: A | D33: 27 | E33: 14435997 | F33: 1440004 | G33: 0 | H33: 10820264 | I33: 0 | J33: 2224697 | K33: 26696265 | L33: 28920961 | N33: 26696265 | O33: 15876001 | P33: 0 | Q33: 31778644 | R33: 29553947
C34: Da | D34: 28 | E34: 7591.92 | F34: 756.09 | G34: 0 | H34: 5588.2 | I34: 0 | J34: 1161.35 | K34: 13936.21 | L34: 15097.56 | N34: 13936.21 | O34: 8348.01 | Q34: 16600.2 | R34: 15438.85
C35: A | D35: 29 | E35: 14700007 | F35: 1463994 | G35: 0 | H35: 10820264 | I35: 0 | J35: 2248687 | K35: 26984265 | L35: 29232953 | N35: 26984265 | O35: 16164001 | P35: 0 | Q35: 32142469 | R35: 29893782
C36: Da | D36: 30 | E36: 7734.46 | F36: 768.49 | G36: 0 | H36: 5588.2 | I36: 0 | J36: 1174.26 | K36: 14091.15 | L36: 15265.41 | N36: 14091.15 | O36: 8502.95 | Q36: 16795.94 | R36: 15621.68
C37: A | D37: 31 | E37: 14976003 | F37: 1488004 | G37: 0 | H37: 10820264 | I37: 0 | J37: 2273684 | K37: 27284271 | L37: 29557955 | N37: 27284271 | O37: 16464007 | P37: 0 | Q37: 32521475 | R37: 30247790
C38: Da | D38: 32 | E38: 7877 | F38: 787.08 | G38: 0 | H38: 5588.2 | I38: 0 | J38: 1187.69 | K38: 14252.28 | L38: 15439.97 | N38: 14252.28 | O38: 8664.08 | Q38: 16999.5 | R38: 15811.81
C39: A | D39: 33 | E39: 15251999 | F39: 1523999 | G39: 0 | H39: 10820264 | I39: 0 | J39: 2299689 | K39: 27596262 | L39: 29895951 | N39: 27596262 | O39: 16775998 | P39: 0 | Q39: 32915622 | R39: 30615933
C40: Da | D40: 34 | E40: 7829.49 | F40: 799.48 | G40: 0 | H40: 5588.2 | I40: 0 | J40: 1184.76 | K40: 14217.17 | L40: 15401.93 | N40: 14217.17 | O40: 8628.97 | Q40: 16955.14 | R40: 15770.38
...

Sheet Direttore_Amm.vo
A1: Personale ATA: | C1: Direttore dei servizi generali e amministrativi | N1: Voci retributive raggruppate per Posizione assicurativa | Q1: Voce unica | R1: Nuova | S1: 67
A2: 6 | Q2: Nuova PA | R2: PassWeb
A3: Decorrenza | C3: Fasce retributive | E3: Emolumenti contrattuali | K3: TOTALE (senza 13^) | L3: TOTALE (comprensivo della 13^) | N3: Retrib. Fisse e Cont.va | O3: Retrib.ne Base per il 18% | P3: Retr. Access. | Q3: Imponibile contributivo +18% e acc. | R3: Imponibile quota A pensione
A4: Dal | B4: Al | E4: Stipendio annuo | F4: Indennità funzione | G4: art. 7 L. 438/92 | H4: I.I.S. | I4: Vacanza contr.le | J4: 13^ da col.(d) a (f) | P4: Vedi tabella | Q4: Imponibile contributivo | R4: Imponibile contributivo
A5: (a) | B5: (b) | C5: (c) | E5: (d) | F5: (e) | G5: (f) | H5: (g) | I5: (h) | J5: (i) | K5: (l) | L5: (m) | N5: (d)+(e)+(f)+(g)+(h) | O5: (d)+(e)+(f)+(h)
A6: 32994 | B6: 33177 | C6: Da | D6: 0 | E6: 0 | F6: 0 | G6: 0 | H6: 0 | I6: 0 | J6: 0 | K6: 0 | L6: 0 | N6: 0 | O6: 0 | Q6: 0 | R6: 0
C7: A | D7: 0 | E7: 0 | F7: 0 | G7: 0 | H7: 0 | I7: 0 | J7: 0 | K7: 0 | L7: 0 | N7: 0 | O7: 0 | P7: 0 | Q7: 0 | R7: 0
A8: 32994 | B8: 33177 | C8: Da | D8: 1 | E8: 0 | F8: 0 | G8: 0 | H8: 0 | I8: 0 | J8: 0 | K8: 0 | L8: 0 | N8: 0 | O8: 0 | Q8: 0 | R8: 0
C9: A | D9: 2 | E9: 0 | F9: 0 | G9: 0 | H9: 0 | I9: 0 | J9: 0 | K9: 0 | L9: 0 | N9: 0 | O9: 0 | P9: 0 | Q9: 0 | R9: 0
C10: Da | D10: 3 | E10: 0 | F10: 0 | G10: 0 | H10: 0 | I10: 0 | J10: 0 | K10: 0 | L10: 0 | N10: 0 | O10: 0 | Q10: 0 | R10: 0
C11: A | D11: 4 | E11: 0 | F11: 0 | G11: 0 | H11: 0 | I11: 0 | J11: 0 | K11: 0 | L11: 0 | N11: 0 | O11: 0 | P11: 0 | Q11: 0 | R11: 0
C12: Da | D12: 5 | E12: 0 | F12: 0 | G12: 0 | H12: 0 | I12: 0 | J12: 0 | K12: 0 | L12: 0 | N12: 0 | O12: 0 | Q12: 0 | R12: 0
C13: A | D13: 6 | E13: 0 | F13: 0 | G13: 0 | H13: 0 | I13: 0 | J13: 0 | K13: 0 | L13: 0 | N13: 0 | O13: 0 | P13: 0 | Q13: 0 | R13: 0
C14: Da | D14: 7 | E14: 0 | F14: 0 | G14: 0 | H14: 0 | I14: 0 | J14: 0 | K14: 0 | L14: 0 | N14: 0 | O14: 0 | Q14: 0 | R14: 0
C15: A | D15: 8 | E15: 0 | F15: 0 | G15: 0 | H15: 0 | I15: 0 | J15: 0 | K15: 0 | L15: 0 | N15: 0 | O15: 0 | P15: 0 | Q15: 0 | R15: 0
C16: Da | D16: 9 | E16: 0 | F16: 0 | G16: 0 | H16: 0 | I16: 0 | J16: 0 | K16: 0 | L16: 0 | N16: 0 | O16: 0 | Q16: 0 | R16: 0
C17: A | D17: 10 | E17: 0 | F17: 0 | G17: 0 | H17: 0 | I17: 0 | J17: 0 | K17: 0 | L17: 0 | N17: 0 | O17: 0 | P17: 0 | Q17: 0 | R17: 0
C18: Da | D18: 11 | E18: 0 | F18: 0 | G18: 0 | H18: 0 | I18: 0 | J18: 0 | K18: 0 | L18: 0 | N18: 0 | O18: 0 | Q18: 0 | R18: 0
C19: A | D19: 12 | E19: 0 | F19: 0 | G19: 0 | H19: 0 | I19: 0 | J19: 0 | K19: 0 | L19: 0 | N19: 0 | O19: 0 | P19: 0 | Q19: 0 | R19: 0
C20: Da | D20: 13 | E20: 0 | F20: 0 | G20: 0 | H20: 0 | I20: 0 | J20: 0 | K20: 0 | L20: 0 | N20: 0 | O20: 0 | Q20: 0 | R20: 0
C21: A | D21: 14 | E21: 0 | F21: 0 | G21: 0 | H21: 0 | I21: 0 | J21: 0 | K21: 0 | L21: 0 | N21: 0 | O21: 0 | P21: 0 | Q21: 0 | R21: 0
C22: Da | D22: 15 | E22: 0 | F22: 0 | G22: 0 | H22: 0 | I22: 0 | J22: 0 | K22: 0 | L22: 0 | N22: 0 | O22: 0 | Q22: 0 | R22: 0
C23: A | D23: 16 | E23: 0 | F23: 0 | G23: 0 | H23: 0 | I23: 0 | J23: 0 | K23: 0 | L23: 0 | N23: 0 | O23: 0 | P23: 0 | Q23: 0 | R23: 0
C24: Da | D24: 17 | E24: 0 | F24: 0 | G24: 0 | H24: 0 | I24: 0 | J24: 0 | K24: 0 | L24: 0 | N24: 0 | O24: 0 | Q24: 0 | R24: 0
C25: A | D25: 17 | E25: 0 | F25: 0 | G25: 0 | H25: 0 | I25: 0 | J25: 0 | K25: 0 | L25: 0 | N25: 0 | O25: 0 | P25: 0 | Q25: 0 | R25: 0
C26: Da | D26: 18 | E26: 0 | F26: 0 | G26: 0 | H26: 0 | I26: 0 | J26: 0 | K26: 0 | L26: 0 | N26: 0 | O26: 0 | Q26: 0 | R26: 0
C27: A | D27: 19 | E27: 0 | F27: 0 | G27: 0 | H27: 0 | I27: 0 | J27: 0 | K27: 0 | L27: 0 | N27: 0 | O27: 0 | P27: 0 | Q27: 0 | R27: 0
C28: Da | D28: 20 | E28: 0 | F28: 0 | G28: 0 | H28: 0 | I28: 0 | J28: 0 | K28: 0 | L28: 0 | N28: 0 | O28: 0 | Q28: 0 | R28: 0
C29: A | D29: 21 | E29: 0 | F29: 0 | G29: 0 | H29: 0 | I29: 0 | J29: 0 | K29: 0 | L29: 0 | N29: 0 | O29: 0 | P29: 0 | Q29: 0 | R29: 0
C30: Da | D30: 22 | E30: 0 | F30: 0 | G30: 0 | H30: 0 | I30: 0 | J30: 0 | K30: 0 | L30: 0 | N30: 0 | O30: 0 | Q30: 0 | R30: 0
C31: A | D31: 23 | E31: 0 | F31: 0 | G31: 0 | H31: 0 | I31: 0 | J31: 0 | K31: 0 | L31: 0 | N31: 0 | O31: 0 | P31: 0 | Q31: 0 | R31: 0
C32: Da | D32: 24 | E32: 0 | F32: 0 | G32: 0 | H32: 0 | I32: 0 | J32: 0 | K32: 0 | L32: 0 | N32: 0 | O32: 0 | Q32: 0 | R32: 0
C33: A | D33: 25 | E33: 0 | F33: 0 | G33: 0 | H33: 0 | I33: 0 | J33: 0 | K33: 0 | L33: 0 | N33: 0 | O33: 0 | P33: 0 | Q33: 0 | R33: 0
C34: Da | D34: 26 | E34: 0 | F34: 0 | G34: 0 | H34: 0 | I34: 0 | J34: 0 | K34: 0 | L34: 0 | N34: 0 | O34: 0 | Q34: 0 | R34: 0
C35: A | D35: 27 | E35: 0 | F35: 0 | G35: 0 | H35: 0 | I35: 0 | J35: 0 | K35: 0 | L35: 0 | N35: 0 | O35: 0 | P35: 0 | Q35: 0 | R35: 0
C36: Da | D36: 28 | E36: 0 | F36: 0 | G36: 0 | H36: 0 | I36: 0 | J36: 0 | K36: 0 | L36: 0 | N36: 0 | O36: 0 | Q36: 0 | R36: 0
C37: A | D37: 29 | E37: 0 | F37: 0 | G37: 0 | H37: 0 | I37: 0 | J37: 0 | K37: 0 | L37: 0 | N37: 0 | O37: 0 | P37: 0 | Q37: 0 | R37: 0
C38: Da | D38: 30 | E38: 0 | F38: 0 | G38: 0 | H38: 0 | I38: 0 | J38: 0 | K38: 0 | L38: 0 | N38: 0 | O38: 0 | Q38: 0 | R38: 0
C39: A | D39: 33 | E39: 0 | F39: 0 | G39: 0 | H39: 0 | I39: 0 | J39: 0 | K39: 0 | L39: 0 | N39: 0 | O39: 0 | P39: 0 | Q39: 0 | R39: 0
C40: Da | D40: 34 | E40: 0 | F40: 0 | G40: 0 | H40: 0 | I40: 0 | J40: 0 | K40: 0 | L40: 0 | N40: 0 | O40: 0 | Q40: 0 | R40: 0
...
