Workbook
Name A.S.: '2001-02'!$A$1:$AC$39
Name ANNO: '1998-99'!$A$1:$AC$39
Name Anno_1: '1998-99'!$C$1
Name Anno_1: '1999-00'!$C$1
Name Anno_1: '2000-01'!$C$1
Name Anno_1: '2001-02'!$C$1
Name Anno_1: '2002-03'!$C$1
Name Anno_1: '2003-04'!$C$1
Name Anno_1: '2004-05'!$C$1
Name Anno_1: '2005-06'!$C$1
Name Anno_1: '2008-09'!$C$1
Name Anno_1: '2016-17'!$C$1
Name Anno_1: '2017-18'!$C$1
Name Anno_1: '2018-19'!$C$1
Name Anno_1: '2019-20'!$C$1
Name Anno_1: '2020-21'!$C$1
Name Anno_1: 'A14'!$C$1
Name Anno_1: 'A15'!$C$1
Name Anno_1: 'A16'!$C$1
Name Anno_1: 'A17'!$C$1
Name Anno_1: 'A18'!$C$1
Name Anno_1: 'A19'!$C$1
Name C.d.C: #REF!
Name CLASSE_DI_CONCORSOSCHEDA: #REF!
Name data_1: '1998-99'!$D$2
Name data_1: '1999-00'!$D$2
Name data_1: '2000-01'!$D$2
Name data_1: '2001-02'!$D$2
Name data_1: '2002-03'!$D$2
Name data_1: '2003-04'!$D$2
Name data_1: '2004-05'!$D$2
Name data_1: '2005-06'!$D$2
Name data_1: '2008-09'!$D$2
Name data_1: '2016-17'!$D$2
Name data_1: '2017-18'!$D$2
Name data_1: '2018-19'!$D$2
Name data_1: '2019-20'!$D$2
Name data_1: '2020-21'!$D$2
Name data_1: 'A14'!$D$2
Name data_1: 'A15'!$D$2
Name data_1: 'A16'!$D$2
Name data_1: 'A17'!$D$2
Name data_1: 'A18'!$D$2
Name data_1: 'A19'!$D$2
Name data_2: '1998-99'!$E$2
Name data_2: '1999-00'!$E$2
Name data_2: '2000-01'!$E$2
Name data_2: '2001-02'!$E$2
Name data_2: '2002-03'!$E$2
Name data_2: '2003-04'!$E$2
Name data_2: '2004-05'!$E$2
Name data_2: '2005-06'!$E$2
Name data_2: '2008-09'!$E$2
Name data_2: '2016-17'!$E$2
Name data_2: '2017-18'!$E$2
Name data_2: '2018-19'!$E$2
Name data_2: '2019-20'!$E$2
Name data_2: '2020-21'!$E$2
Name data_2: 'A14'!$E$2
Name data_2: 'A15'!$E$2

Sheet Start
C4: Questo programma è stato realizzato per la valutazione dei Titoli culturali e di servizio degli aspiranti a Supplenze di Terza Fascia del pers. ATA, ai sensi della O.M 50/2021, per il triennio 2021/22- 2023/24. Composto da un foglio "SCHEDE" in cui inserire i Titoli culturali compilabile selezionando "SI" su ogni profilo richiesto dal candidato (Collaboratore Scolastico / Assistente Amm.vo / Assistente Tecnico). Sono presenti ulteriori fogli, pari a 20 anni di servizio, denominati A1, A2, A3 ecc". E' possibile inserire il punteggio del precedente biennio nel foglio SCHEDE. Vi è infine un foglio RIEPILOGATIVO in cui si evidenziano i dati anno per anno. Non è opportuno inserire o eliminare nuovi Fogli, perchè altera i risultati finali. Non è opportuno rinominare i Fogli ma ciò non altera i risultati finali. Si consiglia comunque di conservare la copia originale del file. | W4: Versione | X4: 21.2
C19: Eventuali richieste di modifica per eventuali errori di programma vanno inviate a : ws59@libero.it
C22: Compilare solo le celle GIALLE
W23: Si ringraziano tutti coloro i quali hanno contribuito alla realizzazione e soprattutto alla verifica del programma
C24: In tutti i files è possibile muoversi all'interno utilizzando il tasto "F5"

Sheet DECRETO
A1: logo e carta intestata scuola
M3: Per andare nelle ZONE -->> "F5" | Q3: Convalide ATA
M7: Versione | N7: =+Start!X4 -> 21.2
B11: Al Dirigente USR – Ufficio VII Ambito Territoriale di | M11: Compilare solo i campi in GIALLO !! | Q11: Inserimento dati
Q12: Sig.
B13: Ai Dirigenti Scolastici delle Scuole Statali | Q13: nato il
I14: di competenza | Q14: luogo
H15: della provincia di | J15: =IF(I12=0,"",+I12) | Q15: mail
F16: Al Sig. | H16: =+R12 -> 0 | Q16: Codice Fisc
H17: =+R15 -> 0 | Q17: Ev.le Prec.Decreto da annullare
Q18: del
A19: OGGETTO: Decreto Convalida Sig.. | D19: =+R12 -> 0 | G19: nato il | H19: =+R13 -> 0 | I19: =+R16 -> 0 | Q19: TIPO GRAD
A20: Il Dirigente Scolastico
A22: VISTA l’O.M. n.50 del 3 marzo 2021 con la quale il Ministero dell’Istruzione disciplina, in prima applicazione e per il triennio 2021/2022 – 2023/2024, la costituzione delle graduatorie d’Istituto ATA nelle Istituzioni Scolastiche Statali;
A23: CONSIDERATO che il Sig. | C23: =+R12 -> 0 | G23: nato a | H23: =+R14 -> 0 | I23: il | J23: =IF(+R13="","",+R13) | M23: Inserire solo i dati personali nel foglio "DECRETO" e solo nei fogli successivi i dati nelle celle gialle
A24: è inserito nelle grad. | C24: =IF(+R19="","",+R19) | D24: prov. di | E24: =+I12 -> 0 | F24: per i profili appresso elencati per il triennio 2021/2022 – 2023/2024;
A25: VISTA la domanda presentata dall’ interessato e relativi titoli richiesti, estrapolati dal sistema SIDI;
A26: VISTI i punteggi attribuiti nella graduatoria provinciale pubblicata dall'UST di Milnao ai sensi della O.M. 50/2020;
A27: VERIFICATO il possesso del titolo di accesso e dei servizi effettuati;
A28: CONSIDERATO che questa scuola ha l’obbligo di effettuare la VALIDAZIONE della domanda, dei viri profili in essa indicate, in quanto ha stipulato con il candidato la prima nomina nel triennio 2021/ 22 - 2023/24, così come previsto dalla O.M. n. 50 del 3/03/2021;
A29: =IF(+R17>0,"VISTO il ns. precedente decreto prot.","") | D29: =IF(+R17>0,R17,"") | E29: =IF(R17>0,"del","") | F29: =IF(R18="","",+R18) | H29: =IF(R17>0,"che con il presente si annulla e sostituisce;","")
A30: VISTO l'art. 6 della O.M. 50 del 3/3/2021, che impone alle scuole la convalida delle domande dei candidati;
A32: DECRETA
A34: la VALIDAZIONE dei punteggi relativi ai vari profili sottoelencati, relativi alla domanda di inclusione quale candidata per contratti a tempo deternminato nelle Graduatorie di Istituto 3^ fascia per il triennio 2021/22 - 2023/24
A35: Tipo | B35: Fascia | C35: Descrizione | F35: Area | G35: Titolo di Accesso | H35: Titoli Accad. e Scientifici | I35: Titoli di Servizio | J35: Punti prec.ti | K35: TOTALE p.ti
A36: =IF(+'SCHEDE '!P1="SI","AREA A","") | B36: =IF(+'SCHEDE '!P1="SI","TERZA","") | C36: =IF(+'SCHEDE '!P1="SI","COLLABORATORE SCOLASTICO","") | D36: =IF(+'SCHEDE '!R1="SI","TERZA","") | E36: =IF(+'SCHEDE '!S1="SI","TERZA","") | F36: =IF('SCHEDE '!P1="si",+"CS","") | G36: =IF('SCHEDE '!P1="si",+'SCHEDE '!M3,"") | H36: =IF('SCHEDE '!P1="SI",+'SCHEDE '!M12,"") | I36: =IF('SCHEDE '!P1="si",+'SCHEDE '!M18,"") | J36: =IF('SCHEDE '!P1="si",+'SCHEDE '!M19,"") | K36: =IF('SCHEDE '!P1="si",+'SCHEDE '!M20,"") | L36: =+G36+H36+I36+J36 -> #VALUE! | M36: =IF((K36-L36)=0," E S A T T O"," E R R O R E !!!") -> #VALUE!
A37: =IF(+'SCHEDE '!F1="SI","AREA B","") | B37: =IF(+'SCHEDE '!F1="SI","TERZA","") | C37: =IF(+'SCHEDE '!F1="SI","ASSISTENTE AMMINISTRATIVO","") | D37: =IF(+'SCHEDE '!R2="SI","TERZA","") | E37: =IF(+'SCHEDE '!S2="SI","TERZA","") | F37: =IF('SCHEDE '!F1="si",+"AA","") | G37: =IF('SCHEDE '!F1="si",+'SCHEDE '!C4,"") | H37: =IF('SCHEDE '!F1="SI",+'SCHEDE '!C15,"") | I37: =IF('SCHEDE '!F1="si",+'SCHEDE '!C21,"") | J37: =IF('SCHEDE '!F1="si",+'SCHEDE '!C22,"") | K37: =IF('SCHEDE '!F1="si",+'SCHEDE '!C23,"") | L37: =+G37+H37+I37+J37 -> #VALUE! | M37: =IF((K37-L37)=0," E S A T T O"," E R R O R E !!!") -> #VALUE!
A38: =IF(+'SCHEDE '!Z1="SI","AREA B","") | B38: =IF(+'SCHEDE '!Z1="SI","TERZA","") | C38: =IF(+'SCHEDE '!Z1="SI","ASSISTENTE TECNICO","") | D38: =IF(+'SCHEDE '!R3="SI","TERZA","") | E38: =IF(+'SCHEDE '!S3="SI","TERZA","") | F38: =IF('SCHEDE '!Z1="si",+"AT","") | G38: =IF('SCHEDE '!Z1="SI",+'SCHEDE '!W3,"") | H38: =IF('SCHEDE '!Z1="si",+'SCHEDE '!W13,"") | I38: =IF('SCHEDE '!Z1="si",+'SCHEDE '!W19,"") | J38: =IF('SCHEDE '!Z1="si",+'SCHEDE '!W20,"") | K38: =IF('SCHEDE '!Z1="si",+'SCHEDE '!W21,"") | L38: =+G38+H38+I38+J38 -> #VALUE! | M38: =IF((K38-L38)=0," E S A T T O"," E R R O R E !!!") -> #VALUE!
A41: La presente vale come notifica all'interessato, all'USP per l'aggiornamento delle graduatorie provinciali, alle Scuole della provincia di Taranto per l'aggiornamento delle rispettive graduatorie di Isituto. Le risultanze del presente provvedimento saranno altresì oggetto di aggiornamento dei dati presenti nel sistema centrale del Miur "SIDI"
J43: Dirigente Scolastico
J44: (Dott.. )
H45: Documento firmato digitalmente ai sensi del D.L.svo 82/2005

Sheet SCHEDE 
A1: AA | B1: ASSISTENTE AMMINISTRATIVO | G1: <<-- (si/no) | H1: =IF(AND(F1<>"si",F1<>"NO",F1<>""),"Devi inserire SI o NO !!"," ") | K1: CS | L1: COLLABORATORE SCOLASTICO | Q1: <<--(si/no) | R1: =IF(AND(P1<>"si",P1<>"NO",P1<>""),"Devi inserire SI o NO !!"," ") | U1: AT 1 | V1: ASSISTENTE TECNICO | AA1: <<--(si/no) | AB1: =IF(AND(Z1<>"si",Z1<>"NO",Z1<>""),"Devi inserire SI o NO !!"," ")
A2: Sig. | B2: =IF(F1="SI",+DECRETO!R12,"") | F2: <<--- nome | K2: Sig. | L2: =IF(P1="si",+DECRETO!R12,"") | P2: voto | Q2: su (60,100,ecc) | R2: =IF(P3=0," ",IF(AND(P1=0,P3>0),"manca si/no","")) | U2: Sig. | V2: =IF(Z1="si",+DECRETO!R12,"") | Z2: voto | AA2: su(60,100,ecc) | AB2: =IF(Z3=0," ",IF(AND(Z1=0,Z3>0),"manca si/no",""))
A3: A | B3: Punteggio per il titolo di accesso alla graduatoria | F3: voto | G3: su (60,100 ecc) | H3: =IF(F4=0," ",IF(AND(F1=0,F3>0),"manca si/no","")) | K3: A.1 | L3: Titolo di studio che costituisce titolo di accesso | M3: =IF(P1="SI",IF(AND(P3>0,Q3=0),"manca su quanto",IF(P3=0,0,IF(P3*10/Q3<6,"VOTO ERRATO ! ", IF(IF(Q3>0, ROUND( P3*10/Q3,2), P3*Q3/10)>10, "VOTO ERRATO", IF(Q3>0, P3*10/Q3, IF( P3>0, P3*10/Q3, 0)))))),0) -> 0 | U3: A.1 | V3: Titolo di studio che costituisce titolo di accesso | W3: =IF(Z1="SI",IF(AND(Z3>0,AA3=0),"manca su quanto",IF(Z3=0,0,IF(Z3*10/AA3<6,"VOTO ERRATO ! ", IF(IF(AA3>0, ROUND( Z3*10/AA3,2), Z3*AA3/10)>10, "VOTO ERRATO", IF(AA3>0, Z3*10/AA3, IF( Z3>0, Z3*10/AA3, 0)))))),0) -> 0
A4: A.1 | B4: Titolo di studio che costituisce titolo di accesso | C4: =IF(F1="SI",IF(AND(F4>0,G4=0),"manca su quanto !",IF(F4=0,0,IF(F4*10/G4<6,"VOTO ERRATO ! ",IF(IF(G4>0, ROUND(F4*10/G4,2), F4*G4/10)>10,"VOTO ERRATO",IF(G4>0,F4*10/G4,IF(F4>0,F4*10/G4,0)))))),0) -> 0 | K4: A.2 | L4: Qualifiche ottenute per corsi socio-assistenziali e socio-sanitari rilasciati dalle Regioni | M4: =IF(P4=0,0,IF(P1="si",IF(P4=1,1,"UN SOLO TITOLO!"))) -> 0 | O4: n. titoli | Q4: =IF(AND(P1=0,P4>0),"manca si/no","") | U4: A.2 | V4: Diploma di Laurea (Un solo titolo p. 2) | W4: =IF(Z1="si",IF(Z4=0,0,IF(Z4=1,2,"UN SOLO TITOLO !")),0) -> 0 | Y4: n. titoli | AA4: =IF(AND(Z1=0,Z4>0),"manca si/no","")
A5: A.2 | B5: Diploma di Laurea (un solo titolo) | C5: =IF(F1="si",IF(F5=0,0,IF(F5=1,2,"UN SOLO TITOLO!")),0) -> 0 | E5: n.titoli | G5: =IF(AND(F1=0,F5>0),"manca si/no","") | K5: A.3.a | L5: Certif.ni Inform. ECDL (CORE/ADVANCED/SPECIALISED | M5: =IF(P5=0,0,IF(P1=0,0,IF(P1="SI",IF(P5="CORE",0.25,IF(P5="advanced",0.28,IF(P5="specialised",0.3,"ERRORE !!")))))) -> 0 | O5: Tipo | Q5: =IF(AND(P1=0,P5>0),"manca si/no","") | U5: A.3 | V5: Idoneità in concorso pubblico per esami per carriere di concetto o esecutive | W5: =IF(Z1="si",IF(Z5=0,0,IF(Z5=1,2,"UN SOLO TITOLO !")),0) -> 0 | Y5: n. titoli | AA5: =IF(AND(Z1=0,Z5>0),"manca si/no","")
A6: A.3 | B6: Attestato di Qualifica professionale rilasciato ai sensi art. 14 L.845/78 su Trattazione Testi o Gestione amm. mediante Strumenti di Videoscrittura o informatici | C6: =IF(F1="si",IF(F6=0,0,IF(F6=1,1.5,"UN SOLO TITOLO!")),0) -> 0 | E6: n. titoli | G6: =IF(AND(F1=0,F6>0),"manca si/no","") | R6: =IF(AND(P5<>0,OR(P7<>0,P8<>0,P9<>0,P10<>0,P11<>0)),"più Tipi !!","")
A7: A.4 | B7: Attestato di Addestramento Professionale per Dattilografia | C7: =IF(F1="si",IF(F7=0,0,IF(F7=1,1,"UN SOLO TITOLO !")),0) -> 0 | E7: n. titoli | G7: =IF(AND(F1=0,F7>0),"manca si/no","") | K7: A.3.b | L7: Cert. Inform. NUOVA ECDL (BASE/ADVANCED/SPECIALISED | M7: =IF(P1=0,0,IF(P7=0,0, IF(P7=AND(P7<>"BASE",P7<>"ADVANCED",P7<>"SPECIALISED"),0,IF(P7="BASE",0.25,IF(P7="advanced",0.28,IF(P7="specialised",0.3,"ERRORE !!")))))) -> 0 | O7: Tipo | Q7: =IF(AND(P1=0,P7>0),"manca si/no","") | R7: =IF(AND(P7<>0,OR(P8<>0,P9<>0,P10<>0,P11<>0,P5<>0)),"più Tipi !!","") | U7: A.4a | V7: Certif.ni Inform. ECDL (CORE/ADVANCED/SPECIALISED | W7: =IF(Z1=0,0,IF(Z7=0,0,IF(Z1="SI",IF(Z7="CORE",0.5,IF(Z7="advanced",0.55,IF(Z7="specialised",0.6,"ERRORE !!")))))) -> 0 | Y7: Tipo | AA7: =IF(AND(Z1=0,Z7>0),"manca si/no","") | AB7: =IF(AND(Z7<>0,OR(Z8<>0,Z9<>0,Z10<>0,Z11<>0,Z12<>0)),"più Tipi !!","")
A8: A.5 | B8: Idoneità in concorso pubblico per esami per carriere di concetto o esecutive | C8: =IF(F1="si",IF(F8=0,0,IF(F8=1,1,"UN SOLO TITOLO !")),0) -> 0 | E8: n. titoli | G8: =IF(AND(F1=0,F8>0),"manca si/no","") | K8: A.3.c | L8: Cert.ni Inform. MICROSOFT (MCAD/MCSD/MCDBA/EUCIP/IC3/MOUS/CISCO/PEKIT/EIPASS | M8: =IF(P8=0,0,IF(P1=0,0,IF(P1="SI",IF(P8="mcad",0.25,IF(P8="mcsd",0.28,IF(OR(P8="mcdba",P8="eucip",P8="ic3",P8="mous",P8="cisco",P8="pekit",P8="eipass"),0.3,"ERRORE !!")))))) -> 0 | O8: Tipo | Q8: =IF(AND(P1=0,P8>0),"manca si/no","") | R8: =IF(AND(P8<>0,OR(P9<>0,P10<>0,P11<>0,P6<>0,P7<>0)),"più Tipi !!","") | U8: A.4b | V8: Cert. Inform. NUOVA ECDL (BASE/ADVANCED/SPECIALISED | W8: =IF(Z1=0,0,IF(Z8=0,0, IF(Z8=AND(Z8<>"BASE",Z8<>"ADVANCED",Z8<>"SPECIALISED"),0,IF(Z8="BASE",0.5,IF(Z8="advanced",0.55,IF(Z8="specialised",0.6,"ERRORE !!")))))) -> 0 | Y8: Tipo | AA8: =IF(AND(Z1=0,Z8>0),"manca si/no","") | AB8: =IF(AND(Z8<>0,OR(Z9<>0,Z10<>0,Z11<>0,Z12<>0,Z7<>0)),"più Tipi !!","")
A9: A.6.a | B9: Certif.ni Inform. ECDL (CORE/ADVANCED/SPECIALISED | C9: =IF(F9=0,0, IF(F1=0,0, IF(F1="SI", IF(F9="CORE",0.5,IF(F9="advanced",0.55,IF(F9="specialised",0.6,"ERRORE!!")))))) -> 0 | E9: Tipo | G9: =IF(AND(F1=0,F9>0),"manca si/no","") | H9: =IF(AND(F9<>0,OR(F10<>0,F11<>0,F12<>0,F13<>0,F14<>0)),"più Tipi !!","") | K9: A.3.d | L9: Cert.ni Inf.che EIRSAF (FULL/FOUR/GREEN) | M9: =IF(P9=0,0,IF(P1=0,0,IF(P1="SI",IF(P9<>OR(P9="FULL",P9="four",P9="green"),IF(P9="full",0.3,IF(P9="four",0.25,IF(P9="green", 0.25,"ERRORE !!"))))))) -> 0 | O9: Tipo | Q9: =IF(AND(P1=0,P9>0),"manca si/no","") | R9: =IF(AND(P9<>0,OR(P10<>0,P11<>0,P6<>0,P7<>0,P8<>0)),"più Tipi !!","") | U9: A.4c | V9: Cert.ni Inform. MICROSOFT (MCAD/MCSD/MCDBA/EUCIP/IC3/MOUS/CISCO/PEKIT/EIPASS | W9: =IF(Z9=0,0,IF(Z1=0,0,IF(Z1="SI",IF(Z9="mcad",0.5,IF(Z9="mcsd",0.55,IF(OR(Z9="mcdba",Z9="eucip",Z9="ic3",Z9="mous",Z9="cisco",Z9="pekit",Z9="eipass"),0.6,"ERRORE !!")))))) -> 0 | Y9: Tipo | AA9: =IF(AND(Z1=0,Z9>0),"manca si/no","") | AB9: =IF(AND(Z9<>0,OR(Z10<>0,Z11<>0,Z12<>0,Z8<>0,Z9<>0)),"più Tipi !!","")
A10: A.6.b | B10: Cert. Inform. NUOVA ECDL (BASE/ADVANCED/SPECIALISED | C10: =IF(F10=0,0, IF(F1=0,0, IF(F1="SI", IF(F10="base",0.5,IF(F10="advanced",0.55,IF(F10="specialised",0.6,"ERRORE !!")))))) -> 0 | E10: Tipo | G10: =IF(AND(F1=0,F10>0),"manca si/no","") | H10: =IF(AND(F10<>0,OR(F11<>0,F12<>0,F13<>0,F14<>0,F9<>0)),"più Tipi !!","") | K10: A.3.e | L10: Cert.ni Inf.che Mediaform E.Q.I.A.(IIQ7MOD / IIQ7MODSK / IIQ4MODADV) | M10: =IF(P10=0,0,IF(P1=0,0,IF(P1="SI",IF(P10="iiq7mod",0.25,IF(P10="iiQ7modsk",0.28,IF(P10="iiq4modadv",0.3,"ERRORE!!")))))) -> 0 | O10: Tipo | Q10: =IF(AND(P1=0,P10>0),"manca si/no","") | R10: =IF(AND(P10<>0,OR(P11<>0,P9<>0,P8<>0,P7<>0,P6<>0)),"più Tipi !!","") | U10: A.4d | V10: Cert.ni Inf.che EIRSAF (FULL/FOUR/GREEN) | W10: =IF(Z10=0,0,IF(Z1=0,0,IF(Z1="SI",IF(Z10<>OR(Z10="FULL",Z10="four",Z10="green"),IF(Z10="full",0.6,IF(Z10="four",0.5,IF(Z10="green", 0.5,"ERRORE !!"))))))) -> 0 | Y10: Tipo | AA10: =IF(AND(Z1=0,Z10>0),"manca si/no","") | AB10: =IF(AND(Z10<>0,OR(Z11<>0,Z12<>0,Z7<>0,Z8<>0,Z9<>0)),"più Tipi !!","")
A11: A.6.c | B11: Cert.ni Inform. MICROSOFT (MCAD/MCSD/MCDBA/EUCIP/IC3/MOUS/CISCO/PEKIT/EIPASS | C11: =IF(F11=0,0, IF(F1=0,0, IF(F1="SI", IF(F11="mcad",0.5,IF(F11="mcsd",0.55,IF(OR(F11="mcdba",F11="eucip",F11="ic3",F11="mous",F11="cisco",F11="pekit",F11="eipass"),0.6,"ERRORE !!")))))) -> 0 | E11: Tipo | G11: =IF(AND(F1=0,F11>0),"manca si/no","") | H11: =IF(AND(F11<>0,OR(F9<>0,F10<>0,F12<>0,F13<>0,F14<>0)),"più Tipi !!","") | K11: A.3.f | L11: Cert.ni Inf.che IDCERT (DIGICOMP /DIGIADV) | M11: =IF(P11=0,0,IF(P1=0,0,IF(P1="SI",IF(P11="digicomp",0.25,IF(P11="digiadv",0.28,"ERRORE !!"))))) -> 0 | O11: Tipo | Q11: =IF(AND(P1=0,P11>0),"manca si/no","") | R11: =IF(AND(P11<>0,OR(P6<>0,P7<>0,P8<>0,P9<>0,P10<>0)),"più Tipi !!","") | U11: A.4e | V11: Cert.ni Inf.che Mediaform E.Q.I.A.(IIQ7MOD / IIQ7MODSK / IIQ4MODADV) | W11: =IF(Z11=0,0,IF(Z1=0,0,IF(Z1="SI",IF(Z11="iiq7mod",0.5,IF(Z11="iiq7modsk",0.55,IF(Z11="iiq4modadv",0.6,"ERRORE !!")))))) -> 0 | Y11: Tipo | AA11: =IF(AND(Z1=0,Z11>0),"manca si/no","") | AB11: =IF(AND(Z11<>0,OR(Z12<>0,Z7<>0,Z8<>0,Z9<>0,Z10<>0)),"più Tipi !!","")
A12: A.6.d | B12: Cert.ni Inf.che EIRSAF (FULL/FOUR/GREEN) | C12: =IF(F12=0,0, IF(F1=0,0,IF(F1="SI",IF(F12<>OR(F12="FULL",F12="four",F12="green"),IF(F12="full",0.6,IF(F12="four",0.5,IF(F12="green", 0.5,"ERRORE!!"))))))) -> 0 | E12: Tipo | G12: =IF(AND(F1=0,F12>0),"manca si/no","") | H12: =IF(AND(F12<>0,OR(F13<>0,F14<>0,F9<>0,F10<>0,F11<>0)),"più Tipi !!","") | L12: Totale punteggi Titoli CULTURALI - TITOLO "A" | M12: =SUM(M4:M11) -> 0 | O12: Collaboratori Scolastici | U12: A.4f | V12: Cert.ni Inf.che IDCERT (DIGICOMP /DIGIADV) | W12: =IF(Z12=0,0,IF(Z1=0,0,IF(Z1="SI",IF(Z12="digicomp",0.5,IF(Z12="digiadv",0.55,"ERRORE !!"))))) -> 0 | Y12: Tipo | AA12: =IF(AND(Z1=0,Z12>0),"manca si/no","") | AB12: =IF(AND(Z12<>0,OR(Z7<>0,Z8<>0,Z9<>0,Z10<>0,Z11<>0)),"più Tipi !!","")
A13: A.6.e | B13: Cert.ni Inf.che Mediaform E.Q.I.A.(IIQ7MOD / IIQ7MODSK / IIQ4MODADV) | C13: =IF(F13=0,0,IF(F1=0,0,IF(F1="SI",IF(F13="iiq7mod",0.5,IF(F13="iiq7modsk",0.55,IF(F13="iiq4modadv",0.6,"ERRORE!!")))))) -> 0 | E13: Tipo | G13: =IF(AND(F1=0,F13>0),"manca si/no","") | H13: =IF(AND(F13<>0,OR(F14<>0,F12<>0,F11<>0,F10<>0,F9<>0)),"più Tipi !!","") | K13: 4.1 | L13: Servizio da Coll.Scolast. in Scuole Statali | M13: =+RIEPILOGO!B24 -> 0 | V13: Totale punteggi Titoli Culturali - TITOLO "A.x" | W13: =SUM(W4:W12) -> 0 | Y13: Aiutanti Tecnici
A14: A.6.f | B14: Cert.ni Inf.che IDCERT (DIGICOMP /DIGIADV) | C14: =IF(F14=0,0,IF(F1=0,0,IF(F1="SI",IF(F14="digicomp",0.5,IF(F14="digiadv",0.55,"ERRORE!!"))))) -> 0 | E14: Tipo | G14: =IF(AND(F1=0,F14>0),"manca si/no","") | H14: =IF(AND(F14<>0,OR(F9<>0,F10<>0,F11<>0,F12<>0,F13<>0)),"più Tipi !!","") | K14: 4.2 | L14: Servizio da Coll.Scolast. in Scuole NON Statali | M14: =+RIEPILOGO!C24 -> 0 | U14: B.5.1 | V14: Servizio da Assistente Tecnico in Scuole Statali | W14: =+RIEPILOGO!N24 -> 0
B15: Totale punteggi Titoli CULTURALI - TITOLO "A" | C15: =SUM(C5:C14) -> 0 | E15: Assistenti Amministrativi | K15: 5.a | L15: ALTRO Servizio in Scuole Statali | M15: =+RIEPILOGO!D24 -> 0 | U15: B.5.2 | V15: Servizio da Assitente Tecnicoo in Scuole NON Statali | W15: =+RIEPILOGO!O24 -> 0
A16: 7.1 | B16: Servizio da Assistente Amm.vo in Scuole Statali | C16: =+RIEPILOGO!H24 -> 0 | K16: 5.b | L16: ALTRO Servizio in Scuole NON Statali | M16: =+RIEPILOGO!E24 -> 0 | U16: B.8a | V16: ALTRO Servizio in Scuole Statali | W16: =+RIEPILOGO!P24 -> 0
A17: 7.2 | B17: Servizio da Assitente Amm.vo in Scuole NON Statali | C17: =+RIEPILOGO!I24 -> 0 | K17: 6 | L17: ALTRO Servizio presso Enti Statali o EE.LL. | M17: =+RIEPILOGO!F24 -> 0 | U17: B.8b | V17: ALTRO Servizio in Scuole NON Statali | W17: =+RIEPILOGO!Q24 -> 0
A18: 8.a | B18: ALTRO Servizio in Scuole Statali | C18: =+RIEPILOGO!J24 -> 0 | L18: Totale punteggi Titoli di Servizio - TITOLO "C" | M18: =SUM(M13:M17) -> 0 | O18: =IF(M18=0,"",IF(+RIEPILOGO!G24-M18=0,"TOTALE SERVIZI ESATTI !!",RIEPILOGO!G24-M18)) | U18: B.9 | V18: ALTRO Servizio presso Enti Statali o EE.LL. | W18: =+RIEPILOGO!R24 -> 0
A19: 8.b | B19: ALTRO Servizio in Scuole NON Statali | C19: =+RIEPILOGO!K24 -> 0 | L19: Punti precedente Inserimento | O19: =IF(M19>0,"solo per titoli e SERVIZI non già valutati !","") | U19: Totale punteggi Titoli di Servizio - TITOLO "B" | W19: =SUM(W14:W18) -> 0 | Y19: =IF(W19=0,"",IF(W19-RIEPILOGO!S24=0,"TOTALE SERVIZI ESATTI !!",W19-RIEPILOGO!AG15))
A20: 9 | B20: ALTRO Servizio presso Enti Statali o EE.LL. | C20: =+RIEPILOGO!L24 -> 0 | K20: TOTALE PUNTEGGIO VALIDATO | M20: =+M3+M18+M12+M19 -> 0 | V20: Punti precedente Inserimento | Y20: =IF(W20>0,"solo per Titoli e Servizi non già valutati !","")
B21: Totale punteggi Titoli di Servizio - TITOLO "C" | C21: =(SUM(C16:C20)) -> 0 | E21: =IF(C21=0," ", IF(C21-RIEPILOGO!M24=0,"TOTALE SERVIZI ESATTI !!",C21-RIEPILOGO!M24)) | U21: TOTALE PUNTEGGIO VALIDATO | W21: =+W3+W13+W19+W20 -> 0 | Y21: Area | Z21: =+Y1 -> 0 | AA21: AT1
B22: Punti precedente Inserimento | E22: =IF(C22>0,"solo per titoli e SERVIZI non già valutati !","") | K22: =+L1 -> COLLABORATORE SCOLASTICO | O22: Versione | Q22: =+Start!X4 -> 21.2
B23: TOTALE PUNTEGGIO VALIDATO | C23: =+C4+C21+C15+C22 -> 0 | G23: =IF(AND(F18=0,F23>0),"manca si/no","") | U23: =+V1 -> ASSISTENTE TECNICO | W23: AT 1 | Y23: VERSIONE | AA23: =+Q22 -> 21.2
A25: ASSISTENTE AMMINISTRATIVO | E25: VERSIONE | G25: =+Start!X4 -> 21.2 | K25: " F5 " zone quindi "Ctrl" + "P" STAMPA | U25: " F5 " zone quindi "Ctrl" + "P" STAMPA
A27: " F5 " zone quindi "Ctrl" + "P" STAMPA
AI207: ECDL | AJ207: NUOVA EC | AK207: MICROS | AL207: EIRSAF | AM207: MEDIAF | AN207: IDCERT
AI209: CORE | AJ209: BASE | AK209: MCAD | AL209: FULL | AM209: IIQ7MOD | AN209: DIGICOMP
AI210: ADVANCED | AJ210: ADVANCED | AK210: MCSD | AL210: FOUR | AM210: IIQ7MODSK | AN210: DIGIADV
AI211: SPECIALISED | AJ211: SPECIALISED | AK211: MCDBA | AL211: GREEN | AM211: IIQ4MODADV
AK212: EUCIP
AK213: IC3
AK214: MOUS
AK215: CISCO
AK216: PEKIT
AK217: EIPASS

Sheet RIEPILOGO
A1: Sig. | B1: =IF(+'SCHEDE '!B2:E2=0,"Inserire nome nel file SCHEDE",+'SCHEDE '!B2) | F1: TERZA Fascia Supplenze | J1: Valutazione SERVIZI per triennio 2021/22- 2023/24 o.m. 50/2021
A2: A.S. | B2: COLLABORATORI SCOLASTICI | H2: ASSISTENTI AMMINISTRATIVI | N2: ASSISTENTI TECNICI
B3: C.S. in SMS | C3: C.S NON Stat. | D3: Altro in SMS | E3: Altro in NON Stat. | F3: Altro in ENTI | G3: TOTALE ANNO | H3: A.A. in SMS | I3: A.A. NON Stat. | J3: Altro in SMS | K3: Altro in NON Stat. | L3: Altro in ENTI | M3: TOTALE ANNO | N3: A.T. in SMS | O3: A.T.NON Stat. | P3: Altro in SMS | Q3: Altro in NON Stat. | R3: Altro in ENTI | S3: TOTALE ANNO | U3: Versione | V3: =+'2002-03'!AF2 -> 21.2
A4: =+'1998-99'!Anno_1 -> 0 | B4: =+'1998-99'!AC18 -> 0 | C4: =+'1998-99'!AC19 -> 0 | D4: =+'1998-99'!AC20 -> 0 | E4: =+'1998-99'!AC21 -> 0 | F4: =+'1998-99'!AC22 -> 0 | G4: =+'1998-99'!AC23 -> 0 | H4: =+'1998-99'!AC26 -> 0 | I4: =+'1998-99'!AC27 -> 0 | J4: =+'1998-99'!AC28 -> 0 | K4: =+'1998-99'!AC29 -> 0 | L4: =+'1998-99'!AC30 -> 0 | M4: =+'1998-99'!AC31 -> 0 | N4: =+'1998-99'!AC34 -> 0 | O4: =+'1998-99'!AC35 -> 0 | P4: =+'1998-99'!AC36 -> 0 | Q4: =+'1998-99'!AC37 -> 0 | R4: =+'1998-99'!AC38 -> 0 | S4: =+'1998-99'!AC39 -> 0
A5: =+'1999-00'!Anno_1 -> 0 | B5: =+'1999-00'!AC18 -> 0 | C5: =+'1999-00'!AC19 -> 0 | D5: =+'1999-00'!AC20 -> 0 | E5: =+'1999-00'!AC21 -> 0 | F5: =+'1999-00'!AC22 -> 0 | G5: =+'1999-00'!AC23 -> 0 | H5: =+'1999-00'!AC26 -> 0 | I5: =+'1999-00'!AC27 -> 0 | J5: =+'1999-00'!AC28 -> 0 | K5: =+'1999-00'!AC29 -> 0 | L5: =+'1999-00'!AC30 -> 0 | M5: =+'1999-00'!AC31 -> 0 | N5: =+'1999-00'!AC34 -> 0 | O5: =+'1999-00'!AC35 -> 0 | P5: =+'1999-00'!AC36 -> 0 | Q5: =+'1999-00'!AC37 -> 0 | R5: =+'1999-00'!AC38 -> 0 | S5: =+'1999-00'!AC39 -> 0
A6: =+'2000-01'!Anno_1 -> 0 | B6: =+'2000-01'!AC18 -> 0 | C6: =+'2000-01'!AC19 -> 0 | D6: =+'2000-01'!AC20 -> 0 | E6: =+'2000-01'!AC21 -> 0 | F6: =+'2000-01'!AC22 -> 0 | G6: =+'2000-01'!AC23 -> 0 | H6: =+'2000-01'!AC26 -> 0 | I6: =+'2000-01'!AC27 -> 0 | J6: =+'2000-01'!AC28 -> 0 | K6: =+'2000-01'!AC29 -> 0 | L6: =+'2000-01'!AC30 -> 0 | M6: =+'2000-01'!AC31 -> 0 | N6: =+'2000-01'!AC34 -> 0 | O6: =+'2000-01'!AC35 -> 0 | P6: =+'2000-01'!AC36 -> 0 | Q6: =+'2000-01'!AC37 -> 0 | R6: =+'2000-01'!AC38 -> 0 | S6: =+'2000-01'!AC39 -> 0 | U6: "F5" Zone Ctrl" + "P" STAMPA
A7: =+'2001-02'!Anno_1 -> 0 | B7: =+'2001-02'!AC18 -> 0 | C7: =+'2001-02'!AC19 -> 0 | D7: =+'2001-02'!AC20 -> 0 | E7: =+'2001-02'!AC21 -> 0 | F7: =+'2001-02'!AC22 -> 0 | G7: =+'2001-02'!AC23 -> 0 | H7: =+'2001-02'!AC26 -> 0 | I7: =+'2001-02'!AC27 -> 0 | J7: =+'2001-02'!AC28 -> 0 | K7: =+'2001-02'!AC29 -> 0 | L7: =+'2001-02'!AC30 -> 0 | M7: =+'2001-02'!AC31 -> 0 | N7: =+'2001-02'!AC34 -> 0 | O7: =+'2001-02'!AC35 -> 0 | P7: =+'2001-02'!AC36 -> 0 | Q7: =+'2001-02'!AC37 -> 0 | R7: =+'2001-02'!AC38 -> 0 | S7: =+'2001-02'!AC39 -> 0
A8: =+'2002-03'!Anno_1 -> 0 | B8: =+'2002-03'!AC18 -> 0 | C8: =+'2002-03'!AC19 -> 0 | D8: =+'2002-03'!AC20 -> 0 | E8: =+'2002-03'!AC21 -> 0 | F8: =+'2002-03'!AC22 -> 0 | G8: =+'2002-03'!AC23 -> 0 | H8: =+'2002-03'!AC26 -> 0 | I8: =+'2002-03'!AC27 -> 0 | J8: =+'2002-03'!AC28 -> 0 | K8: =+'2002-03'!AC29 -> 0 | L8: =+'2002-03'!AC30 -> 0 | M8: =+'2002-03'!AC31 -> 0 | N8: =+'2002-03'!AC34 -> 0 | O8: =+'2002-03'!AC35 -> 0 | P8: =+'2002-03'!AC36 -> 0 | Q8: =+'2002-03'!AC37 -> 0 | R8: =+'2002-03'!AC38 -> 0 | S8: =+'2002-03'!AC39 -> 0
A9: =+'2004-05'!Anno_1 -> 0 | B9: =+'2004-05'!AC18 -> 0 | C9: =+'2004-05'!AC19 -> 0 | D9: =+'2004-05'!AC20 -> 0 | E9: =+'2004-05'!AC21 -> 0 | F9: =+'2004-05'!AC22 -> 0 | G9: =+'2004-05'!AC23 -> 0 | H9: =+'2004-05'!AC26 -> 0 | I9: =+'2004-05'!AC27 -> 0 | J9: =+'2004-05'!AC28 -> 0 | K9: =+'2004-05'!AC29 -> 0 | L9: =+'2004-05'!AC30 -> 0 | M9: =+'2004-05'!AC31 -> 0 | N9: =+'2004-05'!AC34 -> 0 | O9: =+'2004-05'!AC35 -> 0 | P9: =+'2004-05'!AC36 -> 0 | Q9: =+'2004-05'!AC37 -> 0 | R9: =+'2004-05'!AC38 -> 0 | S9: =+'2004-05'!AC39 -> 0
A10: =+'2005-06'!Anno_1 -> 0 | B10: =+'2005-06'!AC18 -> 0 | C10: =+'2005-06'!AC19 -> 0 | D10: =+'2005-06'!AC20 -> 0 | E10: =+'2005-06'!AC21 -> 0 | F10: =+'2005-06'!AC22 -> 0 | G10: =+'2005-06'!AC23 -> 0 | H10: =+'2005-06'!AC26 -> 0 | I10: =+'2005-06'!AC27 -> 0 | J10: =+'2005-06'!AC28 -> 0 | K10: =+'2005-06'!AC29 -> 0 | L10: =+'2005-06'!AC30 -> 0 | M10: =+'2005-06'!AC31 -> 0 | N10: =+'2005-06'!AC34 -> 0 | O10: =+'2005-06'!AC35 -> 0 | P10: =+'2005-06'!AC36 -> 0 | Q10: =+'2005-06'!AC37 -> 0 | R10: =+'2005-06'!AC38 -> 0 | S10: =+'2005-06'!AC39 -> 0
A11: =+'2008-09'!Anno_1 -> 0 | B11: =+'2008-09'!AC18 -> 0 | C11: =+'2008-09'!AC19 -> 0 | D11: =+'2008-09'!AC20 -> 0 | E11: =+'2008-09'!AC21 -> 0 | F11: =+'2008-09'!AC22 -> 0 | G11: =+'2008-09'!AC23 -> 0 | H11: =+'2008-09'!AC26 -> 0 | I11: =+'2008-09'!AC27 -> 0 | J11: =+'2008-09'!AC28 -> 0 | K11: =+'2008-09'!AC29 -> 0 | L11: =+'2008-09'!AC30 -> 0 | M11: =+'2008-09'!AC31 -> 0 | N11: =+'2008-09'!AC34 -> 0 | O11: =+'2008-09'!AC35 -> 0 | P11: =+'2008-09'!AC36 -> 0 | Q11: =+'2008-09'!AC37 -> 0 | R11: =+'2008-09'!AC38 -> 0 | S11: =+'2008-09'!AC39 -> 0
A12: =+'2016-17'!Anno_1 -> 0 | B12: =+'2016-17'!AC18 -> 0 | C12: =+'2016-17'!AC19 -> 0 | D12: =+'2016-17'!AC20 -> 0 | E12: =+'2016-17'!AC21 -> 0 | F12: =+'2016-17'!AC22 -> 0 | G12: =+'2016-17'!AC23 -> 0 | H12: =+'2016-17'!AC26 -> 0 | I12: =+'2016-17'!AC27 -> 0 | J12: =+'2016-17'!AC28 -> 0 | K12: =+'2016-17'!AC29 -> 0 | L12: =+'2016-17'!AC30 -> 0 | M12: =+'2016-17'!AC31 -> 0 | N12: =+'2016-17'!AC34 -> 0 | O12: =+'2016-17'!AC35 -> 0 | P12: =+'2016-17'!AC36 -> 0 | Q12: =+'2016-17'!AC37 -> 0 | R12: =+'2016-17'!AC38 -> 0 | S12: =+'2016-17'!AC39 -> 0
A13: =+'2017-18'!Anno_1 -> 0 | B13: =+'2017-18'!AC18 -> 0 | C13: =+'2017-18'!AC19 -> 0 | D13: =+'2017-18'!AC20 -> 0 | E13: =+'2017-18'!AC21 -> 0 | F13: =+'2017-18'!AC22 -> 0 | G13: =+'2017-18'!AC23 -> 0 | H13: =+'2017-18'!AC26 -> 0 | I13: =+'2017-18'!AC27 -> 0 | J13: =+'2017-18'!AC28 -> 0 | K13: =+'2017-18'!AC29 -> 0 | L13: =+'2017-18'!AC30 -> 0 | M13: =+'2017-18'!AC31 -> 0 | N13: =+'2017-18'!AC34 -> 0 | O13: =+'2017-18'!AC35 -> 0 | P13: =+'2017-18'!AC36 -> 0 | Q13: =+'2017-18'!AC37 -> 0 | R13: =+'2017-18'!AC38 -> 0 | S13: =+'2017-18'!AC39 -> 0
A14: =+'2018-19'!Anno_1 -> 0 | B14: =+'2018-19'!AC18 -> 0 | C14: =+'2018-19'!AC19 -> 0 | D14: =+'2018-19'!AC20 -> 0 | E14: =+'2018-19'!AC21 -> 0 | F14: =+'2018-19'!AC22 -> 0 | G14: =+'2018-19'!AC23 -> 0 | H14: =+'2018-19'!AC26 -> 0 | I14: =+'2018-19'!AC27 -> 0 | J14: =+'2018-19'!AC28 -> 0 | K14: =+'2018-19'!AC29 -> 0 | L14: =+'2018-19'!AC30 -> 0 | M14: =+'2018-19'!AC31 -> 0 | N14: =+'2018-19'!AC34 -> 0 | O14: =+'2018-19'!AC35 -> 0 | P14: =+'2018-19'!AC36 -> 0 | Q14: =+'2018-19'!AC37 -> 0 | R14: =+'2018-19'!AC38 -> 0 | S14: =+'2018-19'!AC39 -> 0
A15: =+'2019-20'!Anno_1 -> 0 | B15: =+'2019-20'!AC18 -> 0 | C15: =+'2019-20'!AC$19 -> 0 | D15: =+'2019-20'!AC$20 -> 0 | E15: =+'2019-20'!AC$21 -> 0 | F15: =+'2019-20'!AC$22 -> 0 | G15: =+'2019-20'!AC$23 -> 0 | H15: =+'2019-20'!AC$26 -> 0 | I15: =+'2019-20'!AC$27 -> 0 | J15: =+'2019-20'!AC$28 -> 0 | K15: =+'2019-20'!AC$29 -> 0 | L15: =+'2019-20'!AC$30 -> 0 | M15: =+'2019-20'!AC$31 -> 0 | N15: =+'2019-20'!AC$34 -> 0 | O15: =+'2019-20'!AC$35 -> 0 | P15: =+'2019-20'!AC$36 -> 0 | Q15: =+'2019-20'!AC$37 -> 0 | R15: =+'2019-20'!AC$38 -> 0 | S15: =+'2019-20'!AC$39 -> 0
A16: =+'2020-21'!Anno_1 -> 0 | B16: =+'2020-21'!AC$18 -> 0 | C16: =+'2020-21'!AC$19 -> 0 | D16: =+'2020-21'!AC$20 -> 0 | E16: =+'2020-21'!AC$21 -> 0 | F16: =+'2020-21'!AC$22 -> 0 | G16: =+'2020-21'!AC$23 -> 0 | H16: =+'2020-21'!AC$26 -> 0 | I16: =+'2020-21'!AC$27 -> 0 | J16: =+'2020-21'!AC$28 -> 0 | K16: =+'2020-21'!AC$29 -> 0 | L16: =+'2020-21'!AC$30 -> 0 | M16: =+'2020-21'!AC$31 -> 0 | N16: =+'2020-21'!AC$34 -> 0 | O16: =+'2020-21'!AC$35 -> 0 | P16: =+'2020-21'!AC$36 -> 0 | Q16: =+'2020-21'!AC$37 -> 0 | R16: =+'2020-21'!AC$38 -> 0 | S16: =+'2020-21'!AC$39 -> 0
A17: =+'A14'!Anno_1 -> 0 | B17: =+'A14'!AC$18 -> 0 | C17: =+'A14'!AC$19 -> 0 | D17: =+'A14'!AC$20 -> 0 | E17: =+'A14'!AC$21 -> 0 | F17: =+'A14'!AC$22 -> 0 | G17: =+'A14'!AC$23 -> 0 | H17: =+'A14'!AC$26 -> 0 | I17: =+'A14'!AC$27 -> 0 | J17: =+'A14'!AC$28 -> 0 | K17: =+'A14'!AC$29 -> 0 | L17: =+'A14'!AC$30 -> 0 | M17: =+'A14'!AC$31 -> 0 | N17: =+'A14'!AC$34 -> 0 | O17: =+'A14'!AC$35 -> 0 | P17: =+'A14'!AC$36 -> 0 | Q17: =+'A14'!AC$37 -> 0 | R17: =+'A14'!AC$38 -> 0 | S17: =+'A14'!AC$39 -> 0
A18: =+'A15'!Anno_1 -> 0 | B18: =+'A15'!AC$18 -> 0 | C18: =+'A15'!AC$19 -> 0 | D18: =+'A15'!AC$20 -> 0 | E18: =+'A15'!AC$21 -> 0 | F18: =+'A15'!AC$22 -> 0 | G18: =+'A15'!AC$23 -> 0 | H18: =+'A15'!AC$26 -> 0 | I18: =+'A15'!AC$27 -> 0 | J18: =+'A15'!AC$28 -> 0 | K18: =+'A15'!AC$29 -> 0 | L18: =+'A15'!AC$30 -> 0 | M18: =+'A15'!AC$31 -> 0 | N18: =+'A15'!AC$34 -> 0 | O18: =+'A15'!AC$35 -> 0 | P18: =+'A15'!AC$36 -> 0 | Q18: =+'A15'!AC$37 -> 0 | R18: =+'A15'!AC$38 -> 0 | S18: =+'A15'!AC$39 -> 0
A19: =+'A16'!Anno_1 -> 0 | B19: =+'A16'!AC$18 -> 0 | C19: =+'A16'!AC$19 -> 0 | D19: =+'A16'!AC$20 -> 0 | E19: =+'A16'!AC$21 -> 0 | F19: =+'A16'!AC$22 -> 0 | G19: =+'A16'!AC$23 -> 0 | H19: =+'A16'!AC$26 -> 0 | I19: =+'A16'!AC$27 -> 0 | J19: =+'A16'!AC$28 -> 0 | K19: =+'A16'!AC$29 -> 0 | L19: =+'A16'!AC$30 -> 0 | M19: =+'A16'!AC$31 -> 0 | N19: =+'A16'!AC$34 -> 0 | O19: =+'A16'!AC$35 -> 0 | P19: =+'A16'!AC$36 -> 0 | Q19: =+'A16'!AC$37 -> 0 | R19: =+'A16'!AC$38 -> 0 | S19: =+'A16'!AC$39 -> 0
A20: =+'A17'!Anno_1 -> 0 | B20: =+'1998-99'!AC$18 -> 0 | C20: =+'A17'!AC$19 -> 0 | D20: =+'A17'!AC$20 -> 0 | E20: =+'A17'!AC$21 -> 0 | F20: =+'A17'!AC$22 -> 0 | G20: =+'A17'!AC$23 -> 0 | H20: =+'A17'!AC$26 -> 0 | I20: =+'A17'!AC$27 -> 0 | J20: =+'A17'!AC$28 -> 0 | K20: =+'A17'!AC$29 -> 0 | L20: =+'A17'!AC$30 -> 0 | M20: =+'A17'!AC$31 -> 0 | N20: =+'A17'!AC$34 -> 0 | O20: =+'A17'!AC$35 -> 0 | P20: =+'A17'!AC$36 -> 0 | Q20: =+'A17'!AC$37 -> 0 | R20: =+'A17'!AC$38 -> 0 | S20: =+'A17'!AC$39 -> 0
A21: =+'A18'!Anno_1 -> 0 | B21: =+'A18'!AC$18 -> 0 | C21: =+'A18'!AC$19 -> 0 | D21: =+'A18'!AC$20 -> 0 | E21: =+'A18'!AC$21 -> 0 | F21: =+'A18'!AC$22 -> 0 | G21: =+'A18'!AC$23 -> 0 | H21: =+'A18'!AC$26 -> 0 | I21: =+'A18'!AC$27 -> 0 | J21: =+'A18'!AC$28 -> 0 | K21: =+'A18'!AC$29 -> 0 | L21: =+'A18'!AC$30 -> 0 | M21: =+'A18'!AC$31 -> 0 | N21: =+'A18'!AC$34 -> 0 | O21: =+'A18'!AC$35 -> 0 | P21: =+'A18'!AC$36 -> 0 | Q21: =+'A18'!AC$37 -> 0 | R21: =+'A18'!AC$38 -> 0 | S21: =+'A18'!AC$39 -> 0
A22: =+'A19'!Anno_1 -> 0 | B22: =+'A19'!AC$18 -> 0 | C22: =+'A19'!AC$19 -> 0 | D22: =+'A19'!AC$20 -> 0 | E22: =+'A19'!AC$21 -> 0 | F22: =+'A19'!AC$22 -> 0 | G22: =+'A19'!AC$23 -> 0 | H22: =+'A19'!AC$26 -> 0 | I22: =+'A19'!AC$27 -> 0 | J22: =+'A19'!AC$28 -> 0 | K22: =+'A19'!AC$29 -> 0 | L22: =+'A19'!AC$30 -> 0 | M22: =+'A19'!AC$31 -> 0 | N22: =+'A19'!AC$34 -> 0 | O22: =+'A19'!AC$35 -> 0 | P22: =+'A19'!AC$36 -> 0 | Q22: =+'A19'!AC$37 -> 0 | R22: =+'A19'!AC$38 -> 0 | S22: =+'A19'!AC$39 -> 0
A23: =+'2003-04'!Anno_1 -> 0 | B23: =+'2003-04'!AC18 -> 0 | C23: =+'2003-04'!AC$19 -> 0 | D23: =+'2003-04'!AC$20 -> 0 | E23: =+'2003-04'!AC$21 -> 0 | F23: =+'2003-04'!AC$22 -> 0 | G23: =+'2003-04'!AC$23 -> 0 | H23: =+'2003-04'!AC$26 -> 0 | I23: =+'2003-04'!AC$27 -> 0 | J23: =+'2003-04'!AC$28 -> 0 | K23: =+'2003-04'!AC$29 -> 0 | L23: =+'2003-04'!AC$30 -> 0 | M23: =+'2003-04'!AC$31 -> 0 | N23: =+'2003-04'!AC$34 -> 0 | O23: =+'2003-04'!AC$35 -> 0 | P23: =+'2003-04'!AC$36 -> 0 | Q23: =+'2003-04'!AC$37 -> 0 | R23: =+'2003-04'!AC$38 -> 0 | S23: =+'2003-04'!AC$39 -> 0
A24: TOTALI | B24: =SUM(B4:B23) -> 0 | C24: =SUM(C4:C23) -> 0 | D24: =SUM(D4:D23) -> 0 | E24: =SUM(E4:E23) -> 0 | F24: =SUM(F4:F23) -> 0 | G24: =SUM(G4:G23) -> 0 | H24: =SUM(H4:H23) -> 0 | I24: =SUM(I4:I23) -> 0 | ... S24: =SUM(S4:S23) -> 0
B25: Punti servizio biennio precedente -->> | G25: =+'SCHEDE '!M19 -> 0 | H25: Punti servizio biennio precedente -->> | M25: =+'SCHEDE '!C22 -> 0 | N25: Punti servizio biennio precedente -->> | S25: =+'SCHEDE '!W20 -> 0
A26: Versione | B26: =+Start!X4 -> 21.2 | C26: Punteggio aggiornato | G26: =+G24+G25 -> 0 | I26: Punteggio aggiornato | M26: =+M24+M25 -> 0 | O26: Punteggio aggiornato | S26: =+S24+S25 -> 0

Sheet 1998-99
A1: A.S. | D1: dal | E1: al | F1: <<<-- Inserire inizio e fine A.S. | K1: =IF(+'SCHEDE '!B2=0,"Inserire il nome nel file SCHEDE",+'SCHEDE '!B2) | AI1: Compilare solo i campi in giallo
AE2: Versione | AF2: =+'2019-20'!AF2 -> 21.2
G3: Profilo | H3: Tipo Sede
A4: A.S. | B4: N. | C4: presso | D4: dal | E4: al | F4: ALERT | G4: CS AA AT ALTRO | H4: SS NON ENTE | M4: Totale giorni | N4: pari a | Q4: a | R4: b | S4: c | T4: d | U4: e | V4: f | W4: g | X4: h | Y4: i | AC4: A.S | AE4: Muoversi nelle zone con "F5" | AI4: CS = Collaboratore Scolastico
N5: aa | O5: mm | P5: gg | Q5: d+h+i | AI5: AA = Assistente Amministrativo
A6: =IF(+Anno_1=0,"",+Anno_1) | B6: 1 | F6: =IF(OR(D6=0,E6=0,+Anno_1=0),"",IF(OR(E6>data_2,D6<data_1),"DATA ERRATA","ok")) | M6: =IF(G6=0,0, IF(H6=0,0, IF( AND(G6<>"AA",G6<>"AT",G6<>"CS",G6<>"ALTRO"), "ERRORE", IF(AND(H6<>"NON",H6<>"SS",H6<>"ENTE"),"ERRORE",ROUND(E6-D6+1,0))))) -> 0 | N6: =FLOOR(R6,1) -> 0 | O6: =FLOOR(V6,1) -> 0 | P6: =U6-X6 -> 0 | Q6: =T6+X6+Y6 -> 0 | R6: =M6/365 -> 0 | S6: =FLOOR(R6,1) -> 0 | T6: =S6*365 -> 0 | U6: =M6-T6 -> 0 | V6: =U6/30 -> 0 | W6: =FLOOR(V6,1) -> 0 | X6: =W6*30 -> 0 | Y6: =U6-X6 -> 0 | AC6: =IF(+Anno_1=0,"",+Anno_1) | AI6: AT = Aiutante Tecnico
B7: 2 | F7: =IF(OR(D7=0,E7=0,+Anno_1=0),"",IF(OR(E7>data_2,D7<data_1),"DATA ERRATA","ok")) | M7: =IF(G7=0,0, IF(H7=0,0, IF( AND(G7<>"AA",G7<>"AT",G7<>"CS",G7<>"ALTRO"), "ERRORE", IF(AND(H7<>"NON",H7<>"SS",H7<>"ENTE"),"ERRORE",ROUND(E7-D7+1,0))))) -> 0 | N7: =FLOOR(R7,1) -> 0 | O7: =FLOOR(V7,1) -> 0 | P7: =U7-X7 -> 0 | Q7: =T7+X7+Y7 -> 0 | R7: =M7/365 -> 0 | S7: =FLOOR(R7,1) -> 0 | T7: =S7*365 -> 0 | U7: =M7-T7 -> 0 | V7: =U7/30 -> 0 | W7: =FLOOR(V7,1) -> 0 | X7: =W7*30 -> 0 | Y7: =U7-X7 -> 0 | AE7: quindi "Ctrl" + "P" | AI7: ALTRO = Altro tipo di lavoro
B8: 3 | F8: =IF(OR(D8=0,E8=0,+Anno_1=0),"",IF(OR(E8>data_2,D8<data_1),"DATA ERRATA","ok")) | M8: =IF(G8=0,0, IF(H8=0,0, IF( AND(G8<>"AA",G8<>"AT",G8<>"CS",G8<>"ALTRO"), "ERRORE", IF(AND(H8<>"NON",H8<>"SS",H8<>"ENTE"),"ERRORE",ROUND(E8-D8+1,0))))) -> 0 | N8: =FLOOR(R8,1) -> 0 | O8: =FLOOR(V8,1) -> 0 | P8: =U8-X8 -> 0 | Q8: =T8+X8+Y8 -> 0 | R8: =M8/365 -> 0 | S8: =FLOOR(R8,1) -> 0 | T8: =S8*365 -> 0 | U8: =M8-T8 -> 0 | V8: =U8/30 -> 0 | W8: =FLOOR(V8,1) -> 0 | X8: =W8*30 -> 0 | Y8: =U8-X8 -> 0 | AE8: STAMPA
B9: 4 | F9: =IF(OR(D9=0,E9=0,+Anno_1=0),"",IF(OR(E9>data_2,D9<data_1),"DATA ERRATA","ok")) | M9: =IF(G9=0,0, IF(H9=0,0, IF( AND(G9<>"AA",G9<>"AT",G9<>"CS",G9<>"ALTRO"), "ERRORE", IF(AND(H9<>"NON",H9<>"SS",H9<>"ENTE"),"ERRORE",ROUND(E9-D9+1,0))))) -> 0 | N9: =FLOOR(R9,1) -> 0 | O9: =FLOOR(V9,1) -> 0 | P9: =U9-X9 -> 0 | Q9: =T9+X9+Y9 -> 0 | R9: =M9/365 -> 0 | S9: =FLOOR(R9,1) -> 0 | T9: =S9*365 -> 0 | U9: =M9-T9 -> 0 | V9: =U9/30 -> 0 | W9: =FLOOR(V9,1) -> 0 | X9: =W9*30 -> 0 | Y9: =U9-X9 -> 0
B10: 5 | F10: =IF(OR(D10=0,E10=0,+Anno_1=0),"",IF(OR(E10>data_2,D10<data_1),"DATA ERRATA","ok")) | M10: =IF(G10=0,0, IF(H10=0,0, IF( AND(G10<>"AA",G10<>"AT",G10<>"CS",G10<>"ALTRO"), "ERRORE", IF(AND(H10<>"NON",H10<>"SS",H10<>"ENTE"),"ERRORE",ROUND(E10-D10+1,0))))) -> 0 | N10: =FLOOR(R10,1) -> 0 | O10: =FLOOR(V10,1) -> 0 | P10: =U10-X10 -> 0 | Q10: =T10+X10+Y10 -> 0 | R10: =M10/365 -> 0 | S10: =FLOOR(R10,1) -> 0 | T10: =S10*365 -> 0 | U10: =M10-T10 -> 0 | V10: =U10/30 -> 0 | W10: =FLOOR(V10,1) -> 0 | X10: =W10*30 -> 0 | Y10: =U10-X10 -> 0 | AE10: Scorrere in basso per visualizzare PUNTEGGI | AI10: SS = Scuola Statale
B11: 6 | F11: =IF(OR(D11=0,E11=0,+Anno_1=0),"",IF(OR(E11>data_2,D11<data_1),"DATA ERRATA","ok")) | M11: =IF(G11=0,0, IF(H11=0,0, IF( AND(G11<>"AA",G11<>"AT",G11<>"CS",G11<>"ALTRO"), "ERRORE", IF(AND(H11<>"NON",H11<>"SS",H11<>"ENTE"),"ERRORE",ROUND(E11-D11+1,0))))) -> 0 | N11: =FLOOR(R11,1) -> 0 | O11: =FLOOR(V11,1) -> 0 | P11: =U11-X11 -> 0 | Q11: =T11+X11+Y11 -> 0 | R11: =M11/365 -> 0 | S11: =FLOOR(R11,1) -> 0 | T11: =S11*365 -> 0 | U11: =M11-T11 -> 0 | V11: =U11/30 -> 0 | W11: =FLOOR(V11,1) -> 0 | X11: =W11*30 -> 0 | Y11: =U11-X11 -> 0 | AI11: NON = Scuola NON Statale
B12: 7 | F12: =IF(OR(D12=0,E12=0,+Anno_1=0),"",IF(OR(E12>data_2,D12<data_1),"DATA ERRATA","ok")) | M12: =IF(G12=0,0, IF(H12=0,0, IF( AND(G12<>"AA",G12<>"AT",G12<>"CS",G12<>"ALTRO"), "ERRORE", IF(AND(H12<>"NON",H12<>"SS",H12<>"ENTE"),"ERRORE",ROUND(E12-D12+1,0))))) -> 0 | N12: =FLOOR(R12,1) -> 0 | O12: =FLOOR(V12,1) -> 0 | P12: =U12-X12 -> 0 | Q12: =T12+X12+Y12 -> 0 | R12: =M12/365 -> 0 | S12: =FLOOR(R12,1) -> 0 | T12: =S12*365 -> 0 | U12: =M12-T12 -> 0 | V12: =U12/30 -> 0 | W12: =FLOOR(V12,1) -> 0 | X12: =W12*30 -> 0 | Y12: =U12-X12 -> 0 | AI12: ENTE = Enti Locali, Comune, Provincia, Patronati Scolastici ecc.
B13: 8 | F13: =IF(OR(D13=0,E13=0,+Anno_1=0),"",IF(OR(E13>data_2,D13<data_1),"DATA ERRATA","ok")) | M13: =IF(G13=0,0, IF(H13=0,0, IF( AND(G13<>"AA",G13<>"AT",G13<>"CS",G13<>"ALTRO"), "ERRORE", IF(AND(H13<>"NON",H13<>"SS",H13<>"ENTE"),"ERRORE",ROUND(E13-D13+1,0))))) -> 0 | N13: =FLOOR(R13,1) -> 0 | O13: =FLOOR(V13,1) -> 0 | P13: =U13-X13 -> 0 | Q13: =T13+X13+Y13 -> 0 | R13: =M13/365 -> 0 | S13: =FLOOR(R13,1) -> 0 | T13: =S13*365 -> 0 | U13: =M13-T13 -> 0 | V13: =U13/30 -> 0 | W13: =FLOOR(V13,1) -> 0 | X13: =W13*30 -> 0 | Y13: =U13-X13 -> 0
B14: 9 | F14: =IF(OR(D14=0,E14=0,+Anno_1=0),"",IF(OR(E14>data_2,D14<data_1),"DATA ERRATA","ok")) | M14: =IF(G14=0,0, IF(H14=0,0, IF( AND(G14<>"AA",G14<>"AT",G14<>"CS",G14<>"ALTRO"), "ERRORE", IF(AND(H14<>"NON",H14<>"SS",H14<>"ENTE"),"ERRORE",ROUND(E14-D14+1,0))))) -> 0 | N14: =FLOOR(R14,1) -> 0 | O14: =FLOOR(V14,1) -> 0 | P14: =U14-X14 -> 0 | Q14: =T14+X14+Y14 -> 0 | R14: =M14/365 -> 0 | S14: =FLOOR(R14,1) -> 0 | T14: =S14*365 -> 0 | U14: =M14-T14 -> 0 | V14: =U14/30 -> 0 | W14: =FLOOR(V14,1) -> 0 | X14: =W14*30 -> 0 | Y14: =U14-X14 -> 0
B15: 10 | F15: =IF(OR(D15=0,E15=0,+Anno_1=0),"",IF(OR(E15>data_2,D15<data_1),"DATA ERRATA","ok")) | M15: =IF(G15=0,0, IF(H15=0,0, IF( AND(G15<>"AA",G15<>"AT",G15<>"CS",G15<>"ALTRO"), "ERRORE", IF(AND(H15<>"NON",H15<>"SS",H15<>"ENTE"),"ERRORE",ROUND(E15-D15+1,0))))) -> 0 | N15: =FLOOR(R15,1) -> 0 | O15: =FLOOR(V15,1) -> 0 | P15: =U15-X15 -> 0 | Q15: =T15+X15+Y15 -> 0 | R15: =M15/365 -> 0 | S15: =FLOOR(R15,1) -> 0 | T15: =S15*365 -> 0 | U15: =M15-T15 -> 0 | V15: =U15/30 -> 0 | W15: =FLOOR(V15,1) -> 0 | X15: =W15*30 -> 0 | Y15: =U15-X15 -> 0
M16: =SUM(M6:M15) -> 0 | N16: =FLOOR(R16,1) -> 0 | O16: =FLOOR(V16,1) -> 0 | P16: =U16-X16 -> 0 | Q16: =T16+X16+Y16 -> 0 | R16: =M16/365 -> 0 | S16: =FLOOR(R16,1) -> 0 | T16: =S16*365 -> 0 | U16: =M16-T16 -> 0 | V16: =U16/30 -> 0 | W16: =FLOOR(V16,1) -> 0 | X16: =W16*30 -> 0
N17: aa | O17: mm | P17: gg | AC17: Punti
A18: PER INSERIMENTO IN GRADUATORIA DA | H18: CS | I18: SS | M18: =SUMIFS(M6:M15,G6:G15,"CS",H6:H15,"ss") -> 0 | N18: =FLOOR(R18,1) -> 0 | O18: =FLOOR(V18,1) -> 0 | P18: =U18-X18 -> 0 | Q18: =T18+X18+Y18 -> 0 | R18: =M18/365 -> 0 | S18: =FLOOR(R18,1) -> 0 | T18: =S18*365 -> 0 | U18: =M18-T18 -> 0 | V18: =U18/30 -> 0 | W18: =FLOOR(V18,1) -> 0 | X18: =W18*30 -> 0 | AC18: =ROUND(IF(IF(O18>12,6,O18*0.5)+IF(P18>15,0.5,0)+IF(N18>0,6,0)>12,6,IF(O18>12,6,O18*0.5)+IF(P18>15,0.5,0)+IF(N18>0,6,0)),3) -> 0
A19: Collaboratore Scolastico | H19: CS | I19: NON | M19: =SUMIFS(M6:M15,G6:G15,"CS",H6:H15,"NON") -> 0 | N19: =FLOOR(R19,1) -> 0 | O19: =FLOOR(V19,1) -> 0 | P19: =U19-X19 -> 0 | Q19: =T19+X19+Y19 -> 0 | R19: =M19/365 -> 0 | S19: =FLOOR(R19,1) -> 0 | T19: =S19*365 -> 0 | U19: =M19-T19 -> 0 | V19: =U19/30 -> 0 | W19: =FLOOR(V19,1) -> 0 | X19: =W19*30 -> 0 | AC19: =ROUND(IF(IF(O19>12,3,O19*0.25)+IF(P19>15,0.25,0)+IF(N19>0,3,0)>12,6,IF(O19>12,3,O19*0.25)+IF(P19>15,0.25,0)+IF(N19>0,3,0)),3) -> 0
H20: AL | I20: SS | M20: =SUMIFS(M6:M15,G6:G15,"ALTRO",H6:H15,"SS")+ SUMIFS(M6:M15,G6:G15,"AT",H6:H15,"SS")+SUMIFS(M6:M15,G6:G15,"AA",H6:H15,"SS") -> 0 | N20: =FLOOR(R20,1) -> 0 | O20: =FLOOR(V20,1) -> 0 | P20: =U20-X20 -> 0 | Q20: =T20+X20+Y20 -> 0 | R20: =M20/365 -> 0 | S20: =FLOOR(R20,1) -> 0 | T20: =S20*365 -> 0 | U20: =M20-T20 -> 0 | V20: =U20/30 -> 0 | W20: =FLOOR(V20,1) -> 0 | X20: =W20*30 -> 0 | AC20: =ROUND(IF(IF(O20>12,1.8,O20*0.15)+IF(P20>15,0.15,0)+IF(N20>0,1.8,0)>12,1.8,IF(O20>12,1.8,O20*0.15)+IF(P20>15,0.15,0)+IF(N20>0,1.8,0)),3) -> 0
H21: AL | I21: NON | M21: =SUMIFS(M6:M15,G6:G15,"ALTRO",H6:H15,"NON")+ SUMIFS(M6:M15,G6:G15,"Aa",H6:H15,"NON")+ SUMIFS(M6:M15,G6:G15,"AT",H6:H15,"NON") -> 0 | N21: =FLOOR(R21,1) -> 0 | O21: =FLOOR(V21,1) -> 0 | P21: =U21-X21 -> 0 | Q21: =T21+X21+Y21 -> 0 | R21: =M21/365 -> 0 | S21: =FLOOR(R21,1) -> 0 | T21: =S21*365 -> 0 | U21: =M21-T21 -> 0 | V21: =U21/30 -> 0 | W21: =FLOOR(V21,1) -> 0 | X21: =W21*30 -> 0 | AC21: =ROUND(IF(IF(O21>12,0.9,O21*0.075)+IF(P21>15,0.075,0)+IF(N21>0,0.9,0)>12,0.9,IF(O21>12,0.9,O21*0.075)+IF(P21>15,0.075,0)+IF(N21>0,0.9,0)),3) -> 0
A22: Punti valutati su Anno Scolastico | F22: =IF(+Anno_1=0,"",+Anno_1) | H22: AL | I22: ENTE | M22: =SUMIFS(M6:M15,G6:G15,"ALTRO",H6:H15,"ENTE") -> 0 | N22: =FLOOR(R22,1) -> 0 | O22: =FLOOR(V22,1) -> 0 | P22: =U22-X22 -> 0 | Q22: =T22+X22+Y22 -> 0 | R22: =M22/365 -> 0 | S22: =FLOOR(R22,1) -> 0 | T22: =S22*365 -> 0 | U22: =M22-T22 -> 0 | V22: =U22/30 -> 0 | W22: =FLOOR(V22,1) -> 0 | X22: =W22*30 -> 0 | AC22: =ROUND(IF(IF(O22>12,0.6,O22*0.05)+IF(P22>15,0.05,0)+IF(N22>0,0.6,0)>12,0.6,IF(O22>12,0.6,O22*0.05)+IF(P22>15,0.05,0)+IF(N22>0,0.6,0)),3) -> 0
H23: Totali | M23: =SUM(M18:M22) -> 0 | N23: =FLOOR(R23,1) -> 0 | O23: =FLOOR(V23,1) -> 0 | P23: =U23-X23 -> 0 | Q23: =T23+X23+Y23 -> 0 | R23: =M23/365 -> 0 | S23: =FLOOR(R23,1) -> 0 | T23: =S23*365 -> 0 | U23: =M23-T23 -> 0 | V23: =U23/30 -> 0 | W23: =FLOOR(V23,1) -> 0 | X23: =W23*30 -> 0 | AC23: =IF(SUM(AC18:AC22)>6,6,SUM(AC18:AC22)) -> 0
N25: aa | O25: mm | P25: gg | AC25: Punti
A26: PER INSERIMENTO IN GRADUATORIA DA | H26: AA | I26: SS | M26: =SUMIFS(M6:M15,G6:G15,"AA",H6:H15,"ss") -> 0 | N26: =FLOOR(R26,1) -> 0 | O26: =FLOOR(V26,1) -> 0 | P26: =U26-X26 -> 0 | Q26: =T26+X26+Y26 -> 0 | R26: =M26/365 -> 0 | S26: =FLOOR(R26,1) -> 0 | T26: =S26*365 -> 0 | U26: =M26-T26 -> 0 | V26: =U26/30 -> 0 | W26: =FLOOR(V26,1) -> 0 | X26: =W26*30 -> 0 | AC26: =ROUND(IF(IF(O26>12,6,O26*0.5)+IF(P26>15,0.5,0)+IF(N26>0,6,0)>12,6,IF(O26>12,6,O26*0.5)+IF(P26>15,0.5,0)+IF(N26>0,6,0)),3) -> 0
A27: Assistente Amministrativo | H27: AA | I27: NON | M27: =SUMIFS(M6:M15,G6:G15,"AA",H6:H15,"NON") -> 0 | N27: =FLOOR(R27,1) -> 0 | O27: =FLOOR(V27,1) -> 0 | P27: =U27-X27 -> 0 | Q27: =T27+X27+Y27 -> 0 | R27: =M27/365 -> 0 | S27: =FLOOR(R27,1) -> 0 | T27: =S27*365 -> 0 | U27: =M27-T27 -> 0 | V27: =U27/30 -> 0 | W27: =FLOOR(V27,1) -> 0 | X27: =W27*30 -> 0 | AC27: =IF(IF(O27>12,3,O27*0.25)+IF(P27>15,0.25,0)+IF(N27>0,3,0)>12,6,IF(O27>12,3,O27*0.25)+IF(P27>15,0.25,0)+IF(N27>0,3,0)) -> 0
H28: AL | I28: SS | M28: =SUMIFS(M6:M15,G6:G15,"ALTRO",H6:H15,"SS") + SUMIFS(M6:M15,G6:G15,"CS",H6:H15,"SS")+SUMIFS(M6:M15,G6:G15,"AT",H6:H15,"SS") -> 0 | N28: =FLOOR(R28,1) -> 0 | O28: =FLOOR(V28,1) -> 0 | P28: =U28-X28 -> 0 | Q28: =T28+X28+Y28 -> 0 | R28: =M28/365 -> 0 | S28: =FLOOR(R28,1) -> 0 | T28: =S28*365 -> 0 | U28: =M28-T28 -> 0 | V28: =U28/30 -> 0 | W28: =FLOOR(V28,1) -> 0 | X28: =W28*30 -> 0 | AC28: =ROUND(IF(IF(O28>12,1.2,O28*0.1)+IF(P28>15,0.1,0)+IF(N28>0,1.2,0)>12,1.2,IF(O28>12,1.2,O28*0.1)+IF(P28>15,0.1,0)+IF(N28>0,1.2,0)),3) -> 0
H29: AL | I29: NON | M29: =SUMIFS(M6:M15,G6:G15,"ALTRO",H6:H15,"NON") +SUMIFS(M6:M15,G6:G15,"cs",H6:H15,"NON") +SUMIFS(M6:M15,G6:G15,"AT",H6:H15,"NON") -> 0 | N29: =FLOOR(R29,1) -> 0 | O29: =FLOOR(V29,1) -> 0 | P29: =U29-X29 -> 0 | Q29: =T29+X29+Y29 -> 0 | R29: =M29/365 -> 0 | S29: =FLOOR(R29,1) -> 0 | T29: =S29*365 -> 0 | U29: =M29-T29 -> 0 | V29: =U29/30 -> 0 | W29: =FLOOR(V29,1) -> 0 | X29: =W29*30 -> 0 | AC29: =ROUND(IF(IF(O29>12,0.6,O29*0.05)+IF(P29>15,0.05,0)+IF(N29>0,0.6,0)>12,0.6,IF(O29>12,0.6,O29*0.05)+IF(P29>15,0.05,0)+IF(N29>0,0.6,0)),3) -> 0
A30: Punti valutati su Anno Scolastico | F30: =IF(+Anno_1=0,"",+Anno_1) | H30: AL | I30: ENTE | M30: =SUMIFS(M6:M15,G6:G15,"ALTRO",H6:H15,"ENTE") -> 0 | N30: =FLOOR(R30,1) -> 0 | O30: =FLOOR(V30,1) -> 0 | P30: =U30-X30 -> 0 | Q30: =T30+X30+Y30 -> 0 | R30: =M30/365 -> 0 | S30: =FLOOR(R30,1) -> 0 | T30: =S30*365 -> 0 | U30: =M30-T30 -> 0 | V30: =U30/30 -> 0 | W30: =FLOOR(V30,1) -> 0 | X30: =W30*30 -> 0 | AC30: =ROUND(IF(IF(O30>12,0.6,O30*0.05)+IF(P30>15,0.05,0)+IF(N30>0,0.6,0)>12,0.6,IF(O30>12,0.6,O30*0.05)+IF(P30>15,0.05,0)+IF(N30>0,0.6,0)),3) -> 0
H31: Totali | M31: =SUM(M26:M30) -> 0 | N31: =FLOOR(R31,1) -> 0 | O31: =FLOOR(V31,1) -> 0 | P31: =U31-X31 -> 0 | Q31: =T31+X31+Y31 -> 0 | R31: =M31/365 -> 0 | S31: =FLOOR(R31,1) -> 0 | T31: =S31*365 -> 0 | U31: =M31-T31 -> 0 | V31: =U31/30 -> 0 | W31: =FLOOR(V31,1) -> 0 | X31: =W31*30 -> 0 | AC31: =IF(SUM(AC26:AC30)>6,6,SUM(AC26:AC30)) -> 0
N33: aa | O33: mm | P33: gg | AC33: Punti
A34: PER INSERIMENTO IN GRADUATORIA DA | H34: AT | I34: SS | M34: =SUMIFS(M6:M15,G6:G15,"AT",H6:H15,"ss") -> 0 | N34: =FLOOR(R34,1) -> 0 | O34: =FLOOR(V34,1) -> 0 | P34: =U34-X34 -> 0 | Q34: =T34+X34+Y34 -> 0 | R34: =M34/365 -> 0 | S34: =FLOOR(R34,1) -> 0 | T34: =S34*365 -> 0 | U34: =M34-T34 -> 0 | V34: =U34/30 -> 0 | W34: =FLOOR(V34,1) -> 0 | X34: =W34*30 -> 0 | AC34: =ROUND(IF(IF(O34>12,6,O34*0.5)+IF(P34>15,0.5,0)+IF(N34>0,6,0)>12,6,IF(O34>12,6,O34*0.5)+IF(P34>15,0.5,0)+IF(N34>0,6,0)),3) -> 0
A35: Assistente Tecnico | H35: AT | I35: NON | M35: =SUMIFS(M6:M15,G6:G15,"AT",H6:H15,"NON") -> 0 | N35: =FLOOR(R35,1) -> 0 | O35: =FLOOR(V35,1) -> 0 | P35: =U35-X35 -> 0 | Q35: =T35+X35+Y35 -> 0 | R35: =M35/365 -> 0 | S35: =FLOOR(R35,1) -> 0 | T35: =S35*365 -> 0 | U35: =M35-T35 -> 0 | V35: =U35/30 -> 0 | W35: =FLOOR(V35,1) -> 0 | X35: =W35*30 -> 0 | AC35: =ROUND(IF(IF(O35>12,3,O35*0.25)+IF(P35>15,0.25,0)+IF(N35>0,3,0)>12,6,IF(O35>12,3,O35*0.25)+IF(P35>15,0.25,0)+IF(N35>0,3,0)),3) -> 0
H36: AL | I36: SS | M36: =SUMIFS(M6:M15,G6:G15,"ALTRO",H6:H15,"SS")+SUMIFS(M6:M15,G6:G15,"CS",H6:H15,"SS")+SUMIFS(M6:M15,G6:G15,"AA",H6:H15,"SS") -> 0 | N36: =FLOOR(R36,1) -> 0 | O36: =FLOOR(V36,1) -> 0 | P36: =U36-X36 -> 0 | Q36: =T36+X36+Y36 -> 0 | R36: =M36/365 -> 0 | S36: =FLOOR(R36,1) -> 0 | T36: =S36*365 -> 0 | U36: =M36-T36 -> 0 | V36: =U36/30 -> 0 | W36: =FLOOR(V36,1) -> 0 | X36: =W36*30 -> 0 | AC36: =ROUND(IF(IF(O36>12,1.2,O36*0.1)+IF(P36>15,0.1,0)+IF(N36>0,1.2,0)>12,1.2,IF(O36>12,1.2,O36*0.1)+IF(P36>15,0.1,0)+IF(N36>0,1.2,0)),3) -> 0
H37: AL | I37: NON | M37: =SUMIFS(M6:M15,G6:G15,"ALTRO",H6:H15,"NON")+ SUMIFS(M6:M15,G6:G15,"cs",H6:H15,"NON") +SUMIFS(M6:M15,G6:G15,"Aa",H6:H15,"NON") -> 0 | N37: =FLOOR(R37,1) -> 0 | O37: =FLOOR(V37,1) -> 0 | P37: =U37-X37 -> 0 | Q37: =T37+X37+Y37 -> 0 | R37: =M37/365 -> 0 | S37: =FLOOR(R37,1) -> 0 | T37: =S37*365 -> 0 | U37: =M37-T37 -> 0 | V37: =U37/30 -> 0 | W37: =FLOOR(V37,1) -> 0 | X37: =W37*30 -> 0 | AC37: =ROUND(IF(IF(O37>12,0.6,O37*0.05)+IF(P37>15,0.05,0)+IF(N37>0,0.6,0)>12,0.6,IF(O37>12,0.6,O37*0.05)+IF(P37>15,0.05,0)+IF(N37>0,0.6,0)),3) -> 0
A38: Punti valutati su Anno Scolastico | F38: =IF(+Anno_1=0,"",+Anno_1) | H38: AL | I38: ENTE | M38: =SUMIFS(M6:M15,G6:G15,"ALTRO",H6:H15,"ENTE") -> 0 | N38: =FLOOR(R38,1) -> 0 | O38: =FLOOR(V38,1) -> 0 | P38: =U38-X38 -> 0 | Q38: =T38+X38+Y38 -> 0 | R38: =M38/365 -> 0 | S38: =FLOOR(R38,1) -> 0 | T38: =S38*365 -> 0 | U38: =M38-T38 -> 0 | V38: =U38/30 -> 0 | W38: =FLOOR(V38,1) -> 0 | X38: =W38*30 -> 0 | AC38: =ROUND(IF(IF(O38>12,0.6,O38*0.05)+IF(P38>15,0.05,0)+IF(N38>0,0.6,0)>12,0.6,IF(O38>12,0.6,O38*0.05)+IF(P38>15,0.05,0)+IF(N38>0,0.6,0)),3) -> 0
H39: Totali | M39: =SUM(M34:M38) -> 0 | N39: =FLOOR(R39,1) -> 0 | O39: =FLOOR(V39,1) -> 0 | P39: =U39-X39 -> 0 | Q39: =T39+X39+Y39 -> 0 | R39: =M39/365 -> 0 | S39: =FLOOR(R39,1) -> 0 | T39: =S39*365 -> 0 | U39: =M39-T39 -> 0 | V39: =U39/30 -> 0 | W39: =FLOOR(V39,1) -> 0 | X39: =W39*30 -> 0 | AC39: =IF(SUM(AC34:AC38)>6,6,SUM(AC34:AC38)) -> 0

Sheet 1999-00
A1: A.S. | D1: dal | E1: al | F1: <<<-- Inserire inizio e fine A.S. | K1: =IF(+'SCHEDE '!B2=0,"Inserire il nome nel file SCHEDE",+'SCHEDE '!B2) | AI1: Compilare solo i campi in giallo
AE2: Versione | AF2: =+'1998-99'!AF2 -> 21.2
G3: Profilo | H3: Tipo Sede
A4: A.S. | B4: N. | C4: presso | D4: dal | E4: al | F4: ALERT | G4: CS AA AT ALTRO | H4: SS NON ENTE | M4: Totale giorni | N4: pari a | Q4: a | R4: b | S4: c | T4: d | U4: e | V4: f | W4: g | X4: h | Y4: i | AC4: A.S | AE4: Muoversi nelle zone con "F5" | AI4: CS = Collaboratore Scolastico
N5: aa | O5: mm | P5: gg | Q5: d+h+i | AI5: AA = Assistente Amministrativo
A6: =IF(+Anno_1=0,"",+Anno_1) | B6: 1 | F6: =IF(OR(D6=0,E6=0,+Anno_1=0),"",IF(OR(E6>data_2,D6<data_1),"DATA ERRATA","ok")) | M6: =IF(G6=0,0, IF(H6=0,0,IF(AND(G6<>"AA",G6<>"AT",G6<>"CS",G6<>"ALTRO"),"ERRORE",IF(AND(H6<>"NON",H6<>"SS",H6<>"ENTE"),"ERRORE",ROUND(E6-D6+1,0))))) -> 0 | N6: =FLOOR(R6,1) -> 0 | O6: =FLOOR(V6,1) -> 0 | P6: =U6-X6 -> 0 | Q6: =T6+X6+Y6 -> 0 | R6: =M6/365 -> 0 | S6: =FLOOR(R6,1) -> 0 | T6: =S6*365 -> 0 | U6: =M6-T6 -> 0 | V6: =U6/30 -> 0 | W6: =FLOOR(V6,1) -> 0 | X6: =W6*30 -> 0 | Y6: =U6-X6 -> 0 | AC6: =IF(+Anno_1=0,"",+Anno_1) | AI6: AT = Aiutante Tecnico
B7: 2 | F7: =IF(OR(D7=0,E7=0,+Anno_1=0),"",IF(OR(E7>data_2,D7<data_1),"DATA ERRATA","ok")) | M7: =IF(G7=0,0, IF(H7=0,0,IF(AND(G7<>"AA",G7<>"AT",G7<>"CS",G7<>"ALTRO"),"ERRORE",IF(AND(H7<>"NON",H7<>"SS",H7<>"ENTE"),"ERRORE",ROUND(E7-D7+1,0))))) -> 0 | N7: =FLOOR(R7,1) -> 0 | O7: =FLOOR(V7,1) -> 0 | P7: =U7-X7 -> 0 | Q7: =T7+X7+Y7 -> 0 | R7: =M7/365 -> 0 | S7: =FLOOR(R7,1) -> 0 | T7: =S7*365 -> 0 | U7: =M7-T7 -> 0 | V7: =U7/30 -> 0 | W7: =FLOOR(V7,1) -> 0 | X7: =W7*30 -> 0 | Y7: =U7-X7 -> 0 | AE7: quindi "Ctrl" + "P" | AI7: ALTRO = Altro tipo di lavoro
B8: 3 | F8: =IF(OR(D8=0,E8=0,+Anno_1=0),"",IF(OR(E8>data_2,D8<data_1),"DATA ERRATA","ok")) | M8: =IF(G8=0,0, IF(H8=0,0,IF(AND(G8<>"AA",G8<>"AT",G8<>"CS",G8<>"ALTRO"),"ERRORE",IF(AND(H8<>"NON",H8<>"SS",H8<>"ENTE"),"ERRORE",ROUND(E8-D8+1,0))))) -> 0 | N8: =FLOOR(R8,1) -> 0 | O8: =FLOOR(V8,1) -> 0 | P8: =U8-X8 -> 0 | Q8: =T8+X8+Y8 -> 0 | R8: =M8/365 -> 0 | S8: =FLOOR(R8,1) -> 0 | T8: =S8*365 -> 0 | U8: =M8-T8 -> 0 | V8: =U8/30 -> 0 | W8: =FLOOR(V8,1) -> 0 | X8: =W8*30 -> 0 | Y8: =U8-X8 -> 0 | AE8: STAMPA
B9: 4 | F9: =IF(OR(D9=0,E9=0,+Anno_1=0),"",IF(OR(E9>data_2,D9<data_1),"DATA ERRATA","ok")) | M9: =IF(G9=0,0, IF(H9=0,0,IF(AND(G9<>"AA",G9<>"AT",G9<>"CS",G9<>"ALTRO"),"ERRORE",IF(AND(H9<>"NON",H9<>"SS",H9<>"ENTE"),"ERRORE",ROUND(E9-D9+1,0))))) -> 0 | N9: =FLOOR(R9,1) -> 0 | O9: =FLOOR(V9,1) -> 0 | P9: =U9-X9 -> 0 | Q9: =T9+X9+Y9 -> 0 | R9: =M9/365 -> 0 | S9: =FLOOR(R9,1) -> 0 | T9: =S9*365 -> 0 | U9: =M9-T9 -> 0 | V9: =U9/30 -> 0 | W9: =FLOOR(V9,1) -> 0 | X9: =W9*30 -> 0 | Y9: =U9-X9 -> 0
B10: 5 | F10: =IF(OR(D10=0,E10=0,+Anno_1=0),"",IF(OR(E10>data_2,D10<data_1),"DATA ERRATA","ok")) | M10: =IF(G10=0,0, IF(H10=0,0,IF(AND(G10<>"AA",G10<>"AT",G10<>"CS",G10<>"ALTRO"),"ERRORE",IF(AND(H10<>"NON",H10<>"SS",H10<>"ENTE"),"ERRORE",ROUND(E10-D10+1,0))))) -> 0 | N10: =FLOOR(R10,1) -> 0 | O10: =FLOOR(V10,1) -> 0 | P10: =U10-X10 -> 0 | Q10: =T10+X10+Y10 -> 0 | R10: =M10/365 -> 0 | S10: =FLOOR(R10,1) -> 0 | T10: =S10*365 -> 0 | U10: =M10-T10 -> 0 | V10: =U10/30 -> 0 | W10: =FLOOR(V10,1) -> 0 | X10: =W10*30 -> 0 | Y10: =U10-X10 -> 0 | AE10: Scorrere in basso per visualizzare PUNTEGGI | AI10: SS = Scuola Statale
B11: 6 | F11: =IF(OR(D11=0,E11=0,+Anno_1=0),"",IF(OR(E11>data_2,D11<data_1),"DATA ERRATA","ok")) | M11: =IF(G11=0,0, IF(H11=0,0,IF(AND(G11<>"AA",G11<>"AT",G11<>"CS",G11<>"ALTRO"),"ERRORE",IF(AND(H11<>"NON",H11<>"SS",H11<>"ENTE"),"ERRORE",ROUND(E11-D11+1,0))))) -> 0 | N11: =FLOOR(R11,1) -> 0 | O11: =FLOOR(V11,1) -> 0 | P11: =U11-X11 -> 0 | Q11: =T11+X11+Y11 -> 0 | R11: =M11/365 -> 0 | S11: =FLOOR(R11,1) -> 0 | T11: =S11*365 -> 0 | U11: =M11-T11 -> 0 | V11: =U11/30 -> 0 | W11: =FLOOR(V11,1) -> 0 | X11: =W11*30 -> 0 | Y11: =U11-X11 -> 0 | AI11: NON = Scuola NON Statale
B12: 7 | F12: =IF(OR(D12=0,E12=0,+Anno_1=0),"",IF(OR(E12>data_2,D12<data_1),"DATA ERRATA","ok")) | M12: =IF(G12=0,0, IF(H12=0,0,IF(AND(G12<>"AA",G12<>"AT",G12<>"CS",G12<>"ALTRO"),"ERRORE",IF(AND(H12<>"NON",H12<>"SS",H12<>"ENTE"),"ERRORE",ROUND(E12-D12+1,0))))) -> 0 | N12: =FLOOR(R12,1) -> 0 | O12: =FLOOR(V12,1) -> 0 | P12: =U12-X12 -> 0 | Q12: =T12+X12+Y12 -> 0 | R12: =M12/365 -> 0 | S12: =FLOOR(R12,1) -> 0 | T12: =S12*365 -> 0 | U12: =M12-T12 -> 0 | V12: =U12/30 -> 0 | W12: =FLOOR(V12,1) -> 0 | X12: =W12*30 -> 0 | Y12: =U12-X12 -> 0 | AI12: ENTE = Enti Locali, Comune, Provincia, Patronati Scolastici ecc.
B13: 8 | F13: =IF(OR(D13=0,E13=0,+Anno_1=0),"",IF(OR(E13>data_2,D13<data_1),"DATA ERRATA","ok")) | M13: =IF(G13=0,0, IF(H13=0,0,IF(AND(G13<>"AA",G13<>"AT",G13<>"CS",G13<>"ALTRO"),"ERRORE",IF(AND(H13<>"NON",H13<>"SS",H13<>"ENTE"),"ERRORE",ROUND(E13-D13+1,0))))) -> 0 | N13: =FLOOR(R13,1) -> 0 | O13: =FLOOR(V13,1) -> 0 | P13: =U13-X13 -> 0 | Q13: =T13+X13+Y13 -> 0 | R13: =M13/365 -> 0 | S13: =FLOOR(R13,1) -> 0 | T13: =S13*365 -> 0 | U13: =M13-T13 -> 0 | V13: =U13/30 -> 0 | W13: =FLOOR(V13,1) -> 0 | X13: =W13*30 -> 0 | Y13: =U13-X13 -> 0
B14: 9 | F14: =IF(OR(D14=0,E14=0,+Anno_1=0),"",IF(OR(E14>data_2,D14<data_1),"DATA ERRATA","ok")) | M14: =IF(G14=0,0, IF(H14=0,0,IF(AND(G14<>"AA",G14<>"AT",G14<>"CS",G14<>"ALTRO"),"ERRORE",IF(AND(H14<>"NON",H14<>"SS",H14<>"ENTE"),"ERRORE",ROUND(E14-D14+1,0))))) -> 0 | N14: =FLOOR(R14,1) -> 0 | O14: =FLOOR(V14,1) -> 0 | P14: =U14-X14 -> 0 | Q14: =T14+X14+Y14 -> 0 | R14: =M14/365 -> 0 | S14: =FLOOR(R14,1) -> 0 | T14: =S14*365 -> 0 | U14: =M14-T14 -> 0 | V14: =U14/30 -> 0 | W14: =FLOOR(V14,1) -> 0 | X14: =W14*30 -> 0 | Y14: =U14-X14 -> 0
B15: 10 | F15: =IF(OR(D15=0,E15=0,+Anno_1=0),"",IF(OR(E15>data_2,D15<data_1),"DATA ERRATA","ok")) | M15: =IF(G15=0,0, IF(H15=0,0,IF(AND(G15<>"AA",G15<>"AT",G15<>"CS",G15<>"ALTRO"),"ERRORE",IF(AND(H15<>"NON",H15<>"SS",H15<>"ENTE"),"ERRORE",ROUND(E15-D15+1,0))))) -> 0 | N15: =FLOOR(R15,1) -> 0 | O15: =FLOOR(V15,1) -> 0 | P15: =U15-X15 -> 0 | Q15: =T15+X15+Y15 -> 0 | R15: =M15/365 -> 0 | S15: =FLOOR(R15,1) -> 0 | T15: =S15*365 -> 0 | U15: =M15-T15 -> 0 | V15: =U15/30 -> 0 | W15: =FLOOR(V15,1) -> 0 | X15: =W15*30 -> 0 | Y15: =U15-X15 -> 0
M16: =SUM(M6:M15) -> 0 | N16: =FLOOR(R16,1) -> 0 | O16: =FLOOR(V16,1) -> 0 | P16: =U16-X16 -> 0 | Q16: =T16+X16+Y16 -> 0 | R16: =M16/365 -> 0 | S16: =FLOOR(R16,1) -> 0 | T16: =S16*365 -> 0 | U16: =M16-T16 -> 0 | V16: =U16/30 -> 0 | W16: =FLOOR(V16,1) -> 0 | X16: =W16*30 -> 0
N17: aa | O17: mm | P17: gg | AC17: Punti
A18: PER INSERIMENTO IN GRADUATORIA DA | H18: CS | I18: SS | M18: =SUMIFS(M6:M15,G6:G15,"CS",H6:H15,"ss") -> 0 | N18: =FLOOR(R18,1) -> 0 | O18: =FLOOR(V18,1) -> 0 | P18: =U18-X18 -> 0 | Q18: =T18+X18+Y18 -> 0 | R18: =M18/365 -> 0 | S18: =FLOOR(R18,1) -> 0 | T18: =S18*365 -> 0 | U18: =M18-T18 -> 0 | V18: =U18/30 -> 0 | W18: =FLOOR(V18,1) -> 0 | X18: =W18*30 -> 0 | AC18: =ROUND(IF(IF(O18>12,6,O18*0.5)+IF(P18>15,0.5,0)+IF(N18>0,6,0)>12,6,IF(O18>12,6,O18*0.5)+IF(P18>15,0.5,0)+IF(N18>0,6,0)),3) -> 0
A19: Collaboratore Scolastico | H19: CS | I19: NON | M19: =SUMIFS(M6:M15,G6:G15,"CS",H6:H15,"NON") -> 0 | N19: =FLOOR(R19,1) -> 0 | O19: =FLOOR(V19,1) -> 0 | P19: =U19-X19 -> 0 | Q19: =T19+X19+Y19 -> 0 | R19: =M19/365 -> 0 | S19: =FLOOR(R19,1) -> 0 | T19: =S19*365 -> 0 | U19: =M19-T19 -> 0 | V19: =U19/30 -> 0 | W19: =FLOOR(V19,1) -> 0 | X19: =W19*30 -> 0 | AC19: =ROUND(IF(IF(O19>12,3,O19*0.25)+IF(P19>15,0.25,0)+IF(N19>0,3,0)>12,6,IF(O19>12,3,O19*0.25)+IF(P19>15,0.25,0)+IF(N19>0,3,0)),3) -> 0
H20: AL | I20: SS | M20: =SUMIFS(M6:M15,G6:G15,"ALTRO",H6:H15,"SS")+ SUMIFS(M6:M15,G6:G15,"AT",H6:H15,"SS")+SUMIFS(M6:M15,G6:G15,"AA",H6:H15,"SS") -> 0 | N20: =FLOOR(R20,1) -> 0 | O20: =FLOOR(V20,1) -> 0 | P20: =U20-X20 -> 0 | Q20: =T20+X20+Y20 -> 0 | R20: =M20/365 -> 0 | S20: =FLOOR(R20,1) -> 0 | T20: =S20*365 -> 0 | U20: =M20-T20 -> 0 | V20: =U20/30 -> 0 | W20: =FLOOR(V20,1) -> 0 | X20: =W20*30 -> 0 | AC20: =ROUND(IF(IF(O20>12,1.8,O20*0.15)+IF(P20>15,0.15,0)+IF(N20>0,1.8,0)>12,1.8,IF(O20>12,1.8,O20*0.15)+IF(P20>15,0.15,0)+IF(N20>0,1.8,0)),3) -> 0
H21: AL | I21: NON | M21: =SUMIFS(M6:M15,G6:G15,"ALTRO",H6:H15,"NON")+ SUMIFS(M6:M15,G6:G15,"Aa",H6:H15,"NON")+ SUMIFS(M6:M15,G6:G15,"AT",H6:H15,"NON") -> 0 | N21: =FLOOR(R21,1) -> 0 | O21: =FLOOR(V21,1) -> 0 | P21: =U21-X21 -> 0 | Q21: =T21+X21+Y21 -> 0 | R21: =M21/365 -> 0 | S21: =FLOOR(R21,1) -> 0 | T21: =S21*365 -> 0 | U21: =M21-T21 -> 0 | V21: =U21/30 -> 0 | W21: =FLOOR(V21,1) -> 0 | X21: =W21*30 -> 0 | AC21: =ROUND(IF(IF(O21>12,0.9,O21*0.075)+IF(P21>15,0.075,0)+IF(N21>0,0.9,0)>12,0.9,IF(O21>12,0.9,O21*0.075)+IF(P21>15,0.075,0)+IF(N21>0,0.9,0)),3) -> 0
A22: Punti valutati su Anno Scolastico | F22: =IF(+Anno_1=0,"",+Anno_1) | H22: AL | I22: ENTE | M22: =SUMIFS(M6:M15,G6:G15,"ALTRO",H6:H15,"ENTE") -> 0 | N22: =FLOOR(R22,1) -> 0 | O22: =FLOOR(V22,1) -> 0 | P22: =U22-X22 -> 0 | Q22: =T22+X22+Y22 -> 0 | R22: =M22/365 -> 0 | S22: =FLOOR(R22,1) -> 0 | T22: =S22*365 -> 0 | U22: =M22-T22 -> 0 | V22: =U22/30 -> 0 | W22: =FLOOR(V22,1) -> 0 | X22: =W22*30 -> 0 | AC22: =ROUND(IF(IF(O22>12,0.6,O22*0.05)+IF(P22>15,0.05,0)+IF(N22>0,0.6,0)>12,0.6,IF(O22>12,0.6,O22*0.05)+IF(P22>15,0.05,0)+IF(N22>0,0.6,0)),3) -> 0
H23: Totali | M23: =SUM(M18:M22) -> 0 | N23: =FLOOR(R23,1) -> 0 | O23: =FLOOR(V23,1) -> 0 | P23: =U23-X23 -> 0 | Q23: =T23+X23+Y23 -> 0 | R23: =M23/365 -> 0 | S23: =FLOOR(R23,1) -> 0 | T23: =S23*365 -> 0 | U23: =M23-T23 -> 0 | V23: =U23/30 -> 0 | W23: =FLOOR(V23,1) -> 0 | X23: =W23*30 -> 0 | AC23: =IF(SUM(AC18:AC22)>6,6,SUM(AC18:AC22)) -> 0
N25: aa | O25: mm | P25: gg | AC25: Punti
A26: PER INSERIMENTO IN GRADUATORIA DA | H26: AA | I26: SS | M26: =SUMIFS(M6:M15,G6:G15,"AA",H6:H15,"ss") -> 0 | N26: =FLOOR(R26,1) -> 0 | O26: =FLOOR(V26,1) -> 0 | P26: =U26-X26 -> 0 | Q26: =T26+X26+Y26 -> 0 | R26: =M26/365 -> 0 | S26: =FLOOR(R26,1) -> 0 | T26: =S26*365 -> 0 | U26: =M26-T26 -> 0 | V26: =U26/30 -> 0 | W26: =FLOOR(V26,1) -> 0 | X26: =W26*30 -> 0 | AC26: =ROUND(IF(IF(O26>12,6,O26*0.5)+IF(P26>15,0.5,0)+IF(N26>0,6,0)>12,6,IF(O26>12,6,O26*0.5)+IF(P26>15,0.5,0)+IF(N26>0,6,0)),3) -> 0
A27: Assistente Amministrativo | H27: AA | I27: NON | M27: =SUMIFS(M6:M15,G6:G15,"AA",H6:H15,"NON") -> 0 | N27: =FLOOR(R27,1) -> 0 | O27: =FLOOR(V27,1) -> 0 | P27: =U27-X27 -> 0 | Q27: =T27+X27+Y27 -> 0 | R27: =M27/365 -> 0 | S27: =FLOOR(R27,1) -> 0 | T27: =S27*365 -> 0 | U27: =M27-T27 -> 0 | V27: =U27/30 -> 0 | W27: =FLOOR(V27,1) -> 0 | X27: =W27*30 -> 0 | AC27: =IF(IF(O27>12,3,O27*0.25)+IF(P27>15,0.25,0)+IF(N27>0,3,0)>12,6,IF(O27>12,3,O27*0.25)+IF(P27>15,0.25,0)+IF(N27>0,3,0)) -> 0
H28: AL | I28: SS | M28: =SUMIFS(M6:M15,G6:G15,"ALTRO",H6:H15,"SS") + SUMIFS(M6:M15,G6:G15,"CS",H6:H15,"SS")+SUMIFS(M6:M15,G6:G15,"AT",H6:H15,"SS") -> 0 | N28: =FLOOR(R28,1) -> 0 | O28: =FLOOR(V28,1) -> 0 | P28: =U28-X28 -> 0 | Q28: =T28+X28+Y28 -> 0 | R28: =M28/365 -> 0 | S28: =FLOOR(R28,1) -> 0 | T28: =S28*365 -> 0 | U28: =M28-T28 -> 0 | V28: =U28/30 -> 0 | W28: =FLOOR(V28,1) -> 0 | X28: =W28*30 -> 0 | AC28: =ROUND(IF(IF(O28>12,1.2,O28*0.1)+IF(P28>15,0.1,0)+IF(N28>0,1.2,0)>12,1.2,IF(O28>12,1.2,O28*0.1)+IF(P28>15,0.1,0)+IF(N28>0,1.2,0)),3) -> 0
